Workbook

Sheet Daily Status
A1: VLCC - CLASS & SIRE STATUS
A3: VESSEL INFO | F3: VOYAGE SCHEDULE | K3: SIRE INSPECTION | Q3: CLASS COC & CRITICAL REPAIR ISSUE
A4: VESSEL NAME | B4: BUILT | D4: MAN | E4: TECH | F4: L/B | G4: STATUS | H4: PORT NAME [PURPOSE] | I4: KIND | J4: DATE | K4: STATUS | L4: PORT NAME | M4: DATE | N4: OIL MAJOR | O4: OBS ALL / REMAIN | P4: Clear되지 않은 OBS 경우, 반드시 구체적인 지적내용/Clear 예상일자/방법 기입 바람. | Q4: CLASS | R4: COC | S4: Clear되지 않은 COC 경우, 반드시 구체적인 지적내용/Clear 예상일자/방법 기입 바람.
A6: PACIFIC SUCCESS | B6: 2024 | C6: SHI | D6: WSM | E6: 김한솔 | F6: B | G6: SAIL | H6: DARWIN | I6: ETA | J6: 46179 | K6: LAST RESULT | L6: PYEONGTAEK | M6: 46116 | N6: TOTAL | O6: 2 // 0 | P6: NIL | Q6: BV | R6: 0
A7: MONACO LOYALTY | B7: 2007 | C7: DSIC-A | D7: FML | E7: 정제훈 | F7: B | G7: DRIFT | K7: LAST RESULT | L7: LINGGI | M7: 46207 | N7: IDEMITSU | O7: 8 // 0 | Q7: KR | R7: 0
A8: SINGAPORE LOYALTY | B8: 2007 | C8: DSIC-A | D8: FML | E8: 정제훈 | F8: B | G8: SAIL | H8: BASRA, IRAQ | I8: ETA | J8: 46302.708 | K8: LAST RESULT | L8: DUBAI ANCHORAGE | M8: 46170 | N8: ENOC | O8: 6 // 0 | Q8: KR | R8: 0
A9: PLATA SINGAPORE | B9: 2008 | C9: DSIC-A | D9: AETM | E9: 정제훈 | F9: B | G9: BERTH | H9: KHOR FAKKAN | K9: LAST RESULT | L9: SHUIDONG | M9: 46199 | N9: PETROVIETNAM | O9: 8 // 0 | P9: PETROVIETNAM VETTING 잔여 OBS 1건 조치 중. 1. SLOP(S) PRESS. 지시 불량 - SIRE REPORT 상 CLOSE 함. : 차항 자재 보급 준비중. | Q9: KR | R9: 0
A10: PLATA CARRIER | B10: 2008 | C10: DSIC-A | D10: AETM | E10: 정제훈 | F10: B | G10: ANCHOR | H10: ZHOUSHAN, CHINA | K10: LAST RESULT | L10: Paradip | M10: 46213 | N10: PETROVIETNAM | O10: 6 // 4 | P10: PETROVIETNAM VETTING 잔여 OBS 4건 조치 중. 1. FWD MAST HORN 작동 불량 - 7/24 FUJAIRAH 보급. 그 외 PROCESS / PHOTOGRAPH 지적 3건 | Q10: KR | R10: 2 | S10: NIL
A11: PLATA LUCKY | B11: 2009 | C11: DSIC-A | D11: AETM | E11: 정제훈 | F11: B | G11: SAIL | H11: ANGRA DOS REIS, BRAZIL | I11: ETA | J11: 46307.375 | K11: LAST RESULT | L11: SINES | M11: 46287 | N11: PERTAMINA | O11: 10 // 10 | P11: PERTAMINA VETTING 잔여 OBS 10건 조치 중. 1. Stripping pump 및 Cargo pump No.2 하부 청결 상태 불량. 2. Forecastle 내 계류 장비용 배전반 및 제어 밸브 배전반의 도어 잠금장치 고장으로 외부에 노출됨. 3. IG branch drop line 밸브 Open 시 체인 및 자물쇠를 이용한 고정 조치 미흡. 4. Overfill alarm 경보등 위치가 부적절하여 Manifold 등 갑판 주요 구역에서 식별이 어려움. 5. Winch 4대의 Engagement 레버 마모 과다로 인해 클러치 이탈 현상 발생. 그 외 HUMAN 지적 5건. | Q11: KR | R11: 0 | S11: NIL
A12: PANAMA PROSPERITY | B12: 2011 | C12: DSIC-B | D12: SNGY | E12: 강명수 | F12: B | G12: ANCHOR | H12: RAS TANURA, SAUDI ARABIA | K12: LAST RESULT | L12: SOHAR | M12: 46267 | N12: TOTAL | O12: 7 // 2 | P12: 1. FIRE DETECTION SYSTEM FAULT 2. FIXED GAS DETECTION SYSTEM FAULT | Q12: BV | R12: 0
A13: LUCKY PIONEER | B13: 2011 | C13: DSIC-B | D13: VSU | E13: 최강림 | F13: L | G13: SAIL | H13: RIZHAO, CHINA | I13: ETA | J13: 46304.167 | K13: LAST RESULT | L13: NGHI SON, VIETNAM | M13: 46227 | N13: PETRON | O13: 26 // 0 | Q13: KR | R13: 0
A14: SINGAPORE ENERGY | B14: 2011 | C14: DSIC-B | D14: FML | E14: 강명수 | F14: L | G14: SAIL | H14: KOREA REPUBLIC OF/O, KOREA | I14: ETA | J14: 46193.75 | K14: NEXT PLAN | L14: DAESAN | M14: 46193 | N14: P66 | P14: HOB, DAESAN에서 시행 예정 | Q14: BV | R14: 0 | S14: SPEED LOG 문제 - 6/10경 싱가폴 통과시 선적예정 S-BAND RADAR - 6/10경 싱가폴 통과시 자재 선적예정
A15: ROBERTA B | B15: 2012 | C15: DSIC-B | D15: VSU | E15: 최강림 | F15: B | G15: SAIL | H15: YANBU, SAUDI ARABIA | I15: ETA | J15: 46303.583 | K15: LAST RESULT | L15: AIN, SUKHNA, EGYPT | M15: 46242 | N15: PERTAMINA | O15: 8 // 0 | Q15: BV | R15: 0
A16: COSTA RICA PROSPERITY | B16: 2012 | C16: DSIC-B | D16: WAH KWONG | E16: 강명수 | F16: B | G16: STBY | H16: OMAN, OMAN | K16: LAST RESULT | L16: ALIAGA, TURKEY | M16: 46266 | N16: TOTAL | O16: 12 // 12 | P16: 1. FIRE HYDRANT VALVE FIXING NUT MISSING 2. WORK SHOP FIRE CURTAIN SHORT SIZE 3. HUMAN OBS 10건 | Q16: BV | R16: 0
A17: BANGLADESH PROSPERITY | B17: 2016 | C17: DSIC-C | D17: CSM | E17: 윤영수 | F17: B | G17: SAIL | H17: FUJAIRAH (AL-FUJAIRA, UNITED ARAB EMIRATES | I17: ETA | J17: 46304.896 | K17: LAST RESULT | L17: SINGAPORE | M17: 46229 | N17: SONANGOL | O17: 4 // 0 | Q17: BV | R17: 0
A18: CHILE PROSPERITY | B18: 2019 | C18: DSIC-D | D18: CSM | E18: 김한솔 | F18: L | G18: BERTH | H18: SOHAR, OMAN | I18: ETD | J18: 46303.417 | K18: LAST RESULT | L18: ROTTERDAM | M18: 46255 | N18: IDEMITSU | O18: 4 // 4 | P18: IDEMITSU VETTING 잔여 OBS 4건 조치 중. 1. LIFERAFT CONTAINER에 선박정보 누락 2. IOPP증서에 ME SACV SPACE DRAIN OIL TANK 정보 누락 3. DECK HYDRAULIC LINE 임시수리 건 영구수리 필요 4. CCR VIBRATION INDICATOR 및 AUS VALVE POSITION INDICATOR 신환 필요 | Q18: BV | R18: 0 | S18: NIL
A19: SURINAME PROSPERITY | B19: 2009 | C19: JSBD | D19: CSM | E19: NIKOS | F19: L | G19: ANCHOR | H19: FUJAIRAH (AL-FUJAIRA, UNITED ARAB EMIRATES | I19: ETD | J19: 46307.5 | K19: LAST RESULT | L19: FUJAIRAH | M19: 46245 | N19: ECOPETROL | O19: 6 // 1 | P19: ECOPETROL SIRE OBS 잔여 1건 조치 중 1. CARGO TANK VALVE 유압 라인 누설 - GAS FREE 후 수리 예정 / 화물작업에는 지장없음. | Q19: BV | R19: 0 | S19: 1. MAIN ENGINE STARTING VALVEBLOCKING MECHANISM - NEED OVERHAUL. 2. BWPT PUMP TURBINE OIL LEAKAGE FROM GOVERNOR - TROUBLESHOOTING IN PROGRESS. 3. NO.3 DG OIL LEAKAGE FROM SHAFT SEAL - TROUBLESOOTING IN PROGRESS.
A20: FINLAND PROSPERITY | B20: 2009 | C20: JSBD | D20: BSM | E20: NIKOS | F20: B | G20: DRIFT | H20: KANDLA, INDIA | K20: LAST RESULT | L20: MUNDRA | M20: 46297 | N20: TOTAL | O20: 26 // 26 | P20: 1. CLASS MEMORANDUM: ADDITIONAL MONITORING OF CARGO TANK SURROUNDING AREAS REQUIRED 2. SHIP'S ELEVATOR NOT WORKING (DOOR MOTOR FAILURE) 3. A/E NO.1 & 2 EXHAUST GAS TEMPERATURE SENSORS NOT WORKING 4. PUMP ROOM STBD BLOWER NOT WORKING (SHAFT DISCONNECTED) 5. BUNKER LINE SOFT PATCH AND HEAVY CORROSION AT MANIFOLD GAUGE CONNECTION 6. KYMA PERFORMANCE ANALYSER NOT WORKING 7. E/R AIR BLOWER FLAP REMOTE QUICK CLOSING SYSTEM REMOVED 8. STBD ANCHOR FOULED / UPSIDE DOWN WITH FLUKES OUTSIDE HAWSE PIPE 9. STBD ANCHOR INCIDENT NOT REPORTED TO FLAG / CLASS 10. JUNIOR DECK OFFICER NOT FAMILIAR WITH LIFEBOAT DAVIT LIMIT SWITCH 11. MOST LAMPS IN ACCOMMODATION / CCR / AFT MOORING DECK FUSED 12. DECK FOAM LINE LEAKING AT 2C & 3C COT ISOLATION VALVES 13. AFT 7 TON GANTRY CRANE MOTOR DAMAGED 14. NO.2 GYRO OUTPUT TO STEERING STAND NOT WORKING 15. SENIOR DECK OFFICER DID NOT RECORD LIGHTING ISSUES IN SAFETY INSPECTION 16. COP NO.1 & 3 TURBINE STEAM LEAKING 17. SOFT PATCH ON SW DECK SEAL LINE TO PUMP ROOM 18. SENIOR ENGINEER OFFICER DID NOT IDENTIFY MACHINERY SPACE ISSUES 19. DISCHARGE PLAN SF/BM CALCULATION ERRONEOUS, COW PRE-ARRIVAL CHECKLIST NOT FILLED AND PLAN INCONSISTENT WITH AGREED COW 20. NO EVIDENCE OF PRE-ARRIVAL CHECKS FOR CARGO DISCHARGE 21. SENIOR DECK OFFICER NOT FAMILIAR WITH TANK PRESSURE SENSOR ALARM TESTING 22. EXTENSIVE SPOT RUST AND CORROSION ON DECK FWD OF MIDSHIP 23. EXTENSIVE CORROSION ON MAIN BUNKER LINE AND SUPPORTS 24. HEAVY CORROSION ON AFT MANIFOLD LINES / PIPE RACK FLANGES 25. OIL LEAKING FROM PURIFIER CIRCULATING PUMP, PURIFIER FLAT OILY 26. HYDRAULIC OIL LEAKING FROM STEERING GEAR LOWER SEAL | Q20: BV | R20: 0 | S20: 1. AUX.ENGINE LO PURIFIER OUT OF OPERATION - SPARE PARTS ORDERED & SUPPLY SOON. 2. ELEVATOR OUT OF ORDER - SPARES ORDERED 3.No.2 windlass Hyd. Motor insulation issue.
A21: PLATA GLORY | B21: 2009 | C21: JSBD | D21: VSN | E21: 심재남 | F21: B | G21: SAIL | H21: PORT SAID, EGYPT | I21: ETA | J21: 46308.25 | K21: LAST RESULT | L21: FAWLEY, UK | M21: 46160 | N21: PERTAMINA | O21: 22 // 0 | Q21: KR | R21: 0
A22: PLATA NORTH | B22: 2009 | C22: JSBD | D22: VSN | E22: 심재남 | F22: B | G22: DRIFT | K22: LAST RESULT | L22: ROTTERDAM, NETHERLANS | M22: 46284 | N22: PERTAMINA | O22: 20 // 6 | Q22: KR | R22: 2 | S22: NIL
A23: NAVE GALACTIC | B23: 2009 | C23: JSBD | E23: 양종현 | K23: LAST RESULT | L23: JIEYANG, CHINA | M23: 46295 | N23: MARATHON | O23: 9 // 9 | Q23: BV | R23: 0
A24: LUCKY CARRIER | B24: 2010 | C24: JSBD | D24: VSU | E24: 최강림 | F24: B | G24: ANCHOR | H24: KHOR FAKKAN, UNITED ARAB EMIRATES | K24: LAST RESULT | L24: TANJUNG PELEPAS | M24: 46238 | N24: SONANGOL | O24: 5 // 0 | Q24: KR | R24: 1 | S24: 1. BWTS Defect Rectify 관련 자재 장납기로 납기 단축 중이며 11월 초중순 수리 Target으로 업무 진행 중
A25: MADAGASCAR PROSPERITY | B25: 2012 | C25: JSBD | D25: VSU | E25: 전영주 | F25: B | G25: ANCHOR | H25: PASIR GUDANG, MALAYSIA, MALAYSIA | Q25: BV | R25: 0 | S25: NIL
A26: MALAYSIA PROSPERITY | B26: 2011 | C26: JSBD | D26: SNGY | E26: 강명수 | F26: L | G26: ANCHOR | H26: VADINAR, INDIA | K26: LAST RESULT | L26: FUJAIRAH | M26: 46209 | N26: ECOPETROL | O26: 5 // 1 | P26: ECOPETROL VETTING 잔여 OBS 1건 조치 중. 1. EGCS SENSOR - FLAG DISPENSATION 중 | Q26: BV | R26: 7
A27: GERMANY B | B27: 2010 | C27: JSBD | D27: FML | E27: 강명수 | F27: B | G27: ANCHOR | H27: SHARJAH, UNITED ARAB EMIRATES | K27: LAST RESULT | L27: LIANYUGANG | M27: 46265 | N27: TOTAL | O27: 13 // 0 | Q27: BV | R27: 0
A28: TANZANIA PROSPERITY | B28: 2010 | C28: JSBD | D28: SNGY | E28: 양종현 | F28: B | G28: SAIL | H28: JUAYMAH TERMINAL, SAUDI ARABIA | K28: LAST RESULT | L28: SOHAR | M28: 46262 | N28: TOTAL | O28: 4 // 0 | P28: 8/28 TOTAL DISCHARGE SIRE OBS 잔여 0건 조치 중 | Q28: BV | R28: 0
A29: ROTTERDAM ENERGY | B29: 2010 | C29: JSBD | D29: FML | E29: 강명수 | F29: L | G29: BERTH | H29: ZIRKU ISLAND, UNITED ARAB EMIRATES | K29: LAST RESULT | L29: SHARJAH | M29: 46156 | N29: MOH | O29: 3 // 0 | Q29: BV | R29: 0
A30: SRI LANKA PROSPERITY | B30: 2011 | C30: JSBD | D30: CSM | E30: 양종현 | F30: L | G30: SAIL | H30: FUJAIRAH (AL-FUJAIRA, UNITED ARAB EMIRATES | I30: ETA | J30: 46302.958 | K30: LAST RESULT | L30: AIN SUKHNA | M30: 46200 | N30: ADNOC | O30: 13 // 0 | Q30: BV | R30: 0
A31: THAILAND PROSPERITY | B31: 2011 | C31: JSBD | D31: FML | E31: 강명수 | F31: L | G31: ANCHOR | H31: FUJAIRAH (AL-FUJAIRA, UNITED ARAB EMIRATES | K31: LAST RESULT | L31: CARTAGENA | M31: 46239 | N31: IDEMITSU | O31: 5 // 5 | P31: 1. 기관실 고박미비 2. DECK STEAM LINE HEAVY RUST HUMAN OBS 3 | Q31: BV | R31: 0
A32: PLATA WEST | B32: 2010 | C32: JSBD | D32: CSM | E32: 전영주 | F32: B | G32: STBY | H32: YANBU INDUSTRIAL CITY | I32: ETA | J32: 46304.333 | K32: LAST RESULT | L32: ANTIFER, FRANCE | M32: 46223 | N32: PETROVIETNAM | O32: 5 // 0 | P32: 조치 완료 | Q32: KR | R32: 0
A33: PLATA EAST | B33: 2010 | C33: JSBD | D33: CSM | E33: 전영주 | F33: B | G33: SAIL | H33: SOHAR, OMAN | I33: ETA | J33: 46312.458 | K33: LAST RESULT | L33: ZHOUSAN, CHINA | M33: 46291 | N33: SONANGOL | O33: 9 // | P33: 지적사항 CLOSE 완료 | Q33: KR | R33: 0
A34: PERU PROSPERITY | B34: 2009 | C34: SWS-A | D34: SNGY | E34: 최태원 | F34: L | G34: SAIL | H34: SOHAR, OMAN | I34: ETA | J34: 46304.083 | K34: LAST RESULT | L34: Fujairah | M34: 46255 | N34: TOTAL | O34: 7 // 0 | Q34: BV | R34: 0
A35: BRAZIL PROSPERITY | B35: 2010 | C35: SWS-A | D35: FML | E35: 최태원 | F35: B | G35: SAIL | H35: PORT SAID, EGYPT | I35: ETA | J35: 46305.208 | K35: LAST RESULT | L35: ROTTERDAM | M35: 46292 | N35: ENOC | O35: 6 // 6 | P35: 1. 감독 방선점검 보고서가 선박 전체 구역을 다루지 않음 2. SOLAS·LSA Code 추록과 정오표 미반영 3. 작업계획회의 결과 기록 양식 없음 4. 우현 A deck 방화문이 완전히 닫히지 않음 5. 안전점검 때 방화문 결함을 발견하지 못함 6. UMS 절차에 매 당직 빌지 고수위 경보 테스트 요구 없음 | Q35: BV | R35: 0 | S35: 1. FWD & AFT HPP PUMP 이슈. 2. AMS SCREEN FLICKING. 3. EGCS #1. PUMP M/SEAL & SHAFT 손상. CLASS CERTIFICATE OF ELECTRIC MOTOR FOR FIRE/GS PUMP TO BE PROVIDED ONBOARD. --> CHASING VENDOR TO PROVIDE CORRECT CERTIFICATE
A36: EGYPT PROSPERITY | B36: 2011 | C36: SWS-B | D36: FML | E36: 강명수 | F36: B | G36: ANCHOR | H36: FUJAIRAH (AL-FUJAIRA, UNITED ARAB EMIRATES | K36: LAST RESULT | L36: OMAN | M36: 46250 | N36: ENOC | O36: 4 // 0 | Q36: BV | R36: 0
A37: RIO DE JANEIRO ENERGY | B37: 2011 | C37: SWS-B | D37: FML | E37: 강명수 | F37: L | G37: STBY | H37: CARTAGENA, SPAIN | I37: ETB | J37: 46305.333 | K37: LAST RESULT | L37: JIEYANG | M37: 46197 | N37: MARATHON | O37: 5 // 0 | Q37: BV | R37: 1
A38: VLCC STEPHANIE | B38: 2012 | C38: SWS-B | E38: 최태원 | Q38: BV | R38: 0
A39: SINGAPORE SPIRIT | B39: 2013 | C39: SWS-C | E39: 최태원 | K39: LAST RESULT | L39: AIN SUKHNA | M39: 46238 | N39: IMT | O39: 4 // 4 | P39: IMT VETTING 잔여 OBS 4건 조치중. 1. CARGO PUMP ROOM내 TUBE LIGHT 5개 불량. 그외 HUMAN PROCESS 3건 | Q39: BV | R39: 3
A40: CONGO PROSPERITY | B40: 2017 | C40: SWS-D | D40: CSM | E40: NIKOS | F40: B | G40: BERTH | H40: GUANGZHOU, CHINA | K40: LAST RESULT | L40: LIANYUNGANG, CHINA | M40: 46249 | N40: TOTAL | O40: 6 // 3 | P40: CONGO PROSPERITY (IMO 9792266) SIRE 2.0 Observations — Lianyungang, 15-Aug-2026 1. Cargo tank 1S pressure sensor defective (awaiting spares, manual gauge check twice daily) 2. Officer's mess room extension alarm panel faulty (awaiting spares) 3. Both defects above not recorded in defect reporting system or Open Defect List by Senior Deck Officer 4. Master's Standing Order missing minimum passing distance and AIS/VHF risk guidance → rectified onboard 5. Both liferaft painters connected to ship structure instead of weak links → not ready for auto-release → rectified onboard 6. RP (responsible person) failed to identify the wrong painter connections on both liferafts | Q40: BV | R40: 0
A41: CYPRUS PROSPERITY | B41: 2012 | C41: NWT | D41: SNGY | E41: 손유석 | F41: B | G41: ANCHOR | H41: SINGAPORE(OPERATION PURPOSE), SINGAPORE | K41: LAST RESULT | L41: Mina Al Fahl, Oman | M41: 46123 | N41: VIVO ENERGY | O41: 7 // 3 | P41: ADNOC BBC | Q41: BV | R41: 0
A42: INDONESIA PROSPERITY | B42: 2013 | C42: NWT | D42: CSM | E42: 손유석 | F42: B | G42: ANCHOR | H42: SOHAR, OMAN | I42: ETD | J42: 46302.833 | K42: LAST RESULT | L42: Sohar | M42: 46263 | N42: ECOPETROL | O42: 7 // 6 | P42: 8/29 ECOPETROL DISCHARGE SIRE OBS 잔여 6건 조치 중 1. DECK LIGHTS 및 EMERGENCY LIGHTS 고장 2. CARGO LOADING SYSTEM 및 ALARM BUZZER 고장 그 외 Minor 지적 4건 | Q42: BV | R42: 1 | S42: 1. BWTS 고장으로 인해 Flag administration 승인 하에 수리 및 확인 전까지 비준수 밸러스트수 배출 관리를 위한 비상 조치 시행 중. // DUE DATE : 2026-10-31 조치사항 : [10/5]1. 2026/9/11 Shore service 방선 완료. Service technician이 BWTS system 결함 부품 교체 권고. 2. BWTS system 수리용 Spare 필요: complete drive unit 1pc, limit switch 1pc, power supply module 440v-24v 1pc. 3. 추가 Spare Requisition 발행(79826v00325): float switch FS-2-A, FS-2-B, FS-1-A, FS-1-B 및 parallel communication cable 1pc. 전 Spare 2026/10/10~10/12경 본선 보급 가능 예정. 4. BWTS system 제한 모드로 운용 중: 2026/10/4 1개 system으로 2700m3/hr Ballasting 실시. 5. 2nd system 시험 및 최대 용량 6000m3/hr 정상 기능 유지 위해 Spare 필요.
A43: BULGARIA PROSPERITY | B43: 2008 | C43: HHI-A | D43: FML | E43: 정제훈 | F43: L | G43: ANCHOR | H43: SIKA, INDIA | K43: LAST RESULT | L43: SOHAR | M43: 46261 | N43: P66 | O43: 3 // 1 | P43: IDEMITSU 지적 3건 1. Mooring winch 브레이크 설정 지시계 불량(작동 안 됨), 브레이크 체결 상태 확인 불가. 그 외 HUMAN 지적 2건. | Q43: BV | R43: 0 | S43: NIL
A44: ARGENTINA B | B44: 2009 | C44: HHI-A | D44: SNGY | E44: 김흥민 | P44: ADNOC BBC | Q44: BV | R44: 0 | S44: 1. SOPEP 및 STS Plan 승인본 본선 비치 필요. // DUE DATE : 2026-05-31
A45: MALTA PROSPERITY | B45: 2009 | C45: HHI-A | D45: FML | E45: 정제훈 | F45: B | G45: ANCHOR | H45: SUEZ, EGYPT | K45: LAST RESULT | L45: PACHI, GREECE | M45: 46181 | N45: BASF | O45: 9 // 0 | Q45: BV | R45: 0 | S45: NIL
A46: IVORY COAST PROSPERITY | B46: 2009 | C46: HHI-A | D46: FML | E46: 강명수 | F46: L | G46: SAIL | H46: TAESAN, KOREA, KOREA | I46: ETA | J46: 46307.375 | K46: LAST RESULT | L46: DAESAN | M46: 46241 | N46: ENOC | O46: 4 // 4 | P46: 1. 용접기 VOLTAGE 허용용량 초과 2. HUMAN OBS 3 | Q46: BV | R46: 0
A47: TOGO PROSPERITY | B47: 2010 | C47: HHI-B | D47: FML | E47: 강명수 | F47: B | P47: ADNOC BBC | R47: 0 | S47: 1. BWTS FCV CONTROL PROBLEM
A48: BALTIC LOYALTY | B48: 2010 | C48: HHI-C | D48: CSM | E48: NIKOS | F48: B | G48: DRIFT | K48: LAST RESULT | L48: MAOMING | M48: 46268 | N48: ECOPETROL | O48: 7 // 7 | P48: 1. PROCESS // COT & BWT 검사 일자 불일치 2. PROCESS // HVPQ 정보 부적확 3. HARDWARE //NO.2 ECDIS LOGBOOK 사용 안됨. 4. HARDWARE //MAIN MAST HEAD LIGHT 불량. 5. HARDWARE & HUMAN // CLOSED CHOCK GROOVE 심함. 6. HUMAN // NO.2 &3 A/E MAIN BEARING 보호캡 MISSING. | Q48: KR | R48: 0
A49: GULF LOYALTY | B49: 2011 | C49: HHI-D | D49: OMAN | E49: 양종현 | F49: L | G49: BERTH | H49: FUJAIRAH, UNITED ARAB EMIRATES | K49: LAST RESULT | L49: FUJAIRAH | M49: 46225 | N49: ADNOC | O49: 9 // 0 | Q49: BV | R49: 0 | S49: 1. BWTS PRE COMMUNICATION ERROR 및 SD ALARM : 신환 요구되는 잔여 2 SET PRE는 신환 없이 당분간 FLOW RATE 조정하여 운용예. => #3, 9 PRE 신환 및 #2 ANU AGITATOR 신환 필요
A50: CARIBBEAN LOYALTY | B50: 2011 | C50: HHI-D | D50: CSM | E50: NIKOS | F50: L | G50: ANCHOR | H50: FUJAIRAH, UNITED ARAB EMIRATES | I50: ETA | J50: 46303.917 | K50: LAST RESULT | L50: Sriracha | M50: 46249 | N50: PETROVIETNAM | O50: 6 // 2 | P50: 1. HARDWARE // GALLEY HEAT SENSOR 결함. 2. HARDWARE // HUMAN BRIDGE AIR CONDITION ON/OFF 스위치 1개 불량 및 보고누락 3. HUMAN // CHAIN BLOCK LIST 작성 누락 4. PHOTO // OCIMF에 다른 사진을 올림 2건. | Q50: BV | R50: 0 | S50: 1. NO3 AFT HYDR.PUMP IS OUT OF ORDER - 차항 보급예정
A51: SOUTH AFRICA PROSPERITY | B51: 2011 | C51: HHI-E | D51: CSM | E51: 손유석 | F51: B | G51: BERTH | H51: ZHOUSHAN, CHINA | K51: LAST RESULT | L51: Sikka | M51: 46177 | N51: ECOPETROL | O51: 7 // 1 | P51: 6/4 ECOPETROL DISCHARGE SIRE OBS 잔여 1건 조치 중 1. PORT GANGWAY TURN TABLE PLATE 부식 파공 - 차기 드라이도크 시 영구 수리 예정 | Q51: BV | R51: 18 | S51: 1. Main deck의 bunker line, COW line, hydraulic line, fire main line, heating line pipe 지지부 부식/손상에 대해 영구수리 필요. (선급지적 / 기국사항 중복) // DUE DATE : 2026-09-30 조치사항 : [10/5]Hydroblasting 완료, 의장 수리 및 신환 진행 중. 목표일 21/10/26 2. Paint room 및 주요 HFO/LSHFO tank vent와 natural louver flap 부식/손상에 대해 영구수리 필요. (선급지적 / 기국사항 중복) // DUE DATE : 2026-09-30 조치사항 : [10/5]표시된 모든 natural louver flaps 절단 제거 후 신환 예정. 목표일 21/10/26 3. Hull renewal survey, hull annual survey for renewal 및 bottom survey(dry-dock) 수검 필요. // DUE DATE : 2026-09-30 조치사항 : [10/5]본선 조선소에 있음. DD 10-11/10/26 예정, 목표일 15/10/26. 4. CSM 및 Mach annual survey for renewal 수검 필요. // DUE DATE : 2026-09-30 조치사항 : [10/5]본선 조선소에 있음. SS 범위로 Class surveyors 방선, 목표일 21/10/26. 5. Boiler class renewal survey 및 외부/내부 검사 수검 필요. // DUE DATE : 2026-09-30 조치사항 : [10/5]본선 yard에 있음. SS 범위 Class surveyor 방선 중, 목표일 21/10/26. 6. Automated class renewal survey 및 automated annual survey for renewal 수검 필요. // DUE DATE : 2026-09-30 조치사항 : [10/5]본선 조선소에 있음. Class surveyors SS 범위로 방선, 목표일 21/10/26. 7. Centralized navigation class renewal survey 수검 필요. // DUE DATE : 2026-09-30 조치사항 : [10/5]본선 조선소에 있음. SS 범위 Class surveyor 방선 중. 목표일 21/10/26. 8. Load line renewal survey 수검 필요. // DUE DATE : 2026-09-30 조치사항 : [10/5]본선 조선소에 있음. Class surveyors SS 범위 방선, 목표일 21/10/26. 9. High level tank alarm panel 표시등 및 COT #1 tank level sensor 이상에 대해 영구수리 필요. // DUE DATE : 2026-09-30 조치사항 : [10/5]조선소에서 복구 작업 수행 위한 Service 수배 완료. 목표일: 21/10/26 10. Safety construction renewal survey 수검 필요. // DUE DATE : 2026-09-30 조치사항 : [10/5]본선 yard에 있음. SS 범위 Class surveyors 방선 중. 목표일 21/10/26. 11. Fixed foam system 5년 주기 점검 및 PFOS containment 관련 foam 분석 실시 필요. // DUE DATE : 2026-09-30 조치사항 : [10/5]FFE service team 방선 중, 해당 팀에서 foam analysis 실시 예정. 목표일: 21/10/26 12. LB/RB의 annual service 실시 필요. // DUE DATE : 2026-09-30 조치사항 : [10/5]LSA Service team 방선 중, 해당 팀에서 RB/LB 연차 정비 예정. 목표일: 21/10/26 13. Safety equipment renewal survey 수검 필요. // DUE DATE : 2026-09-30 조치사항 : [10/5]본선 조선소에 있음. SS 범위 Class surveyors 방선. 목표일 21/10/26. 14. ODME printer 고장 건에 대해 영구수리 필요. // DUE DATE : 2026-09-30 조치사항 : [10/5]조치 완료. 15. IOPP renewal survey 수검 필요. // DUE DATE : 2026-09-30 조치사항 : [10/5]본선 SY stay 중. SS 범위 Class surveyors 방선. 목표일 21/10/26. 16. IAPP renewal survey 수검 필요. // DUE DATE : 2026-09-30 조치사항 : [10/5]본선 조선소에 있음. Class surveyors SS 범위 방선, 목표일 21/10/26.
A52: JAMAICA PROSPERITY | B52: 2012 | C52: HHI-F | D52: CSM | E52: 윤영수 | F52: L | G52: SAIL | H52: FUJAIRAH (AL-FUJAIRA, UNITED ARAB EMIRATES | I52: ETA | J52: 46303.583 | K52: LAST RESULT | L52: LINGGI | M52: 46257 | N52: PETRONAS | O52: 6 // 0 | Q52: BV | R52: 0
A53: SWEDEN PROSPERITY | B53: 2012 | C53: HHI-F | D53: CSM | E53: 윤영수 | F53: B | G53: SAIL | H53: RAS TANURA, SAUDI ARABIA | K53: LAST RESULT | L53: SOHAR | M53: 46273 | N53: TOTAL | O53: 6 // 6 | Q53: BV | R53: 0 | S53: 1. WINDOW CRACK 불량 - 차항 보급예정.
A54: BAHRAIN PROSPERITY | B54: 2012 | C54: HHI-G | D54: SNGY | E54: 김흥민 | P54: ADNOC BBC | Q54: BV | R54: 0 | S54: 1. Approved SOPEP 본선 비치 필요. // DUE DATE : 2026-08-07 2. Approved STS operations Plan 본선 비치 필요. // DUE DATE : 2026-08-07 3. Approved Ballast Water Management Plan 본선 비치 필요. // DUE DATE : 2026-08-07
A55: DUBAI ENERGY | B55: 2013 | C55: HHI-H | D55: OSM | E55: 김흥민 | F55: B | G55: ANCHOR | H55: SINGAPORE, SINGAPORE | I55: ETD | J55: 46303.354 | K55: LAST RESULT | L55: QUANZHOU, CHINA | M55: 46295 | N55: PETRON | O55: 6 // 6 | P55: 2.1.1 Certification: Class Memo 2건(복수 Load Line, BV 마킹) 2.4.1 Defect Mgmt: BWTS 오존발생기 고장, Flag/Class에 보고함 2.8.1 HVPQ: HVPQ 답변 다수 오기재(410KHz, anode, 격벽 등) 5.8.1 Deck (H/W): Deck seal 해수관과 슬러지 spool piece 심한 부식 5.8.1 Deck (Human): 위 배관을 부원들이 관리하지 않음 11.1.9 Photo: 좌현 앵커체인 stud 12개 풀리고 밀려남, 선내 결함보고 올림 | Q55: BV | R55: 1
A56: ANGOLA B | B56: 2012 | C56: HHI-I | D56: CSM | E56: 김흥민 | P56: ADNOC BBC | R56: 0
A57: MOZAMBIQUE B | B57: 2015 | C57: HHI-J | D57: FML | E57: 김흥민 | F57: B | G57: ANCHOR | H57: FUJAIRAH (AL-FUJAIRA, UNITED ARAB EMIRATES | K57: LAST RESULT | L57: LINGGI, MALAYSIA | M57: 46265 | N57: TOTAL | O57: 3 // 0 | P57: 시정조치 완료 | Q57: BV | R57: 0
A58: VIETNAM PROSPERITY | B58: 2016 | C58: HHI-J | D58: CSM | E58: 이창주 | F58: L | G58: ANCHOR | H58: FUJAIRAH (AL-FUJAIRA, UNITED ARAB EMIRATES | I58: ETD | J58: 46304.417 | K58: LAST RESULT | L58: ROTTERDAM | M58: 46224 | N58: PETROVIETNAM | O58: 4 // 0 | Q58: BV | R58: 0
A59: SPAIN B | B59: 2016 | C59: HHI-J | D59: CSM | E59: 이창주 | F59: L | G59: ANCHOR | H59: FUJAIRAH (AL-FUJAIRA, UNITED ARAB EMIRATES | I59: ETD | J59: 46303.5 | K59: LAST RESULT | L59: ZHOUSHAN | M59: 46255 | N59: PETRON | O59: 6 // 0 | Q59: BV | R59: 0
A60: KUWAIT PROSPERITY | B60: 2016 | C60: HHI-J | D60: CSM | E60: 손유석 | F60: B | G60: BERTH | H60: SOHAR, OMAN | K60: LAST RESULT | L60: Malacca | M60: 46232 | N60: SONANGOL | O60: 6 // 2 | P60: 7/29 SONANGOL DISCHARGE SIRE OBS 잔여 2건 조치 중 그 외 Minor 지적 2건 | Q60: BV | R60: 0
A61: MOMBASA B | B61: 2016 | C61: HGI | D61: SNGY | E61: 김흥민 | F61: B | G61: ANCHOR | H61: DUBAI(PORT RASHID), UNITED ARAB EMIRATES | K61: NEXT PLAN | L61: NOT FIXED | N61: NOT FIXED | Q61: BV | R61: 18 | S61: 1. BWTS 수리 필요. 수리 전까지 BW 방류 관련 대응 계획(contingency measures) 적용. // DUE DATE : 2026-06-16
A62: ECUADOR PROSPERITY | B62: 2006 | C62: HSI-A | D62: FML | E62: 강명수 | F62: B | G62: BERTH | H62: ZHOUSHAN, CHINA | I62: ETD | J62: 46310.5 | K62: LAST RESULT | L62: YANTAI | M62: 46244 | N62: MARATHON | O62: 5 // 5 | P62: 1. MOB LASHING 불량 2. PROCESS OBS 2건, HUMAN OBS 2건 | Q62: BV | R62: 1
A63: CAMEROON PROSPERITY | B63: 2007 | C63: HSI-A | D63: FML | E63: 정제훈 | P63: ADNOC BBC | R63: 0
A64: ROMANIA PROSPERITY | B64: 2007 | C64: HSI-A | D64: SNGY | E64: 양종현 | P64: ADNOC BBC | R64: 0
A65: GHANA PROSPERITY | B65: 2016 | C65: HSI-B | D65: CSM | E65: 김한솔 | F65: B | G65: ANCHOR | H65: SHARJAH, UNITED ARAB EMIRATES | K65: LAST RESULT | L65: Ulsan | M65: 46240 | N65: PETROVIETNAM | O65: 7 // 2 | P65: 8/6 PETROVIETNAM DISCHARGE SIRE OBS 잔여 2건 조치 중 1. NO.06 CYL. COVER STARTING VALVE SEATING COC 미종결 - M/E No.6 Cylinder cover starting valve seating 수리 후 COC 발행됨, 차기 Annual Survey 시 UT/MPI 재검사 예정. 그 외 Minor 지적 1건 | Q65: BV | R65: 1 | S65: 1. Unit no 06 Cylinder cover의 수리된 starting valve seating을 정기 점검 및 모니터링하고, 이상 발견 시 Class에 보고하며 차기 annual survey 시 UT & MPI 재검사 수행. // DUE DATE : 2027-09-26 조치사항 : Close 예정 [10/5]1. Spare Cylinder cover는 Goltens workshop에서 BV 입회하에 UT & MPI 검사 완료, 현재 본선 비치 중. 2. 기존 No.6 Cylinder cover를 시험 완료된 Spare cover로 교체 예정. 본선 trading schedule 및 충분한 stoppage time 확보 조건으로 첫 적절한 기회에 시행 예정. 3. Class item 확인 및 종결 위해 BV 방선 수배 예정. 4. 목표: 충분한 시간이 확보되는 가장 빠른 적절한 Fujairah/AG 기항 시.
A66: COLOMBIA PROSPERITY | B66: 2016 | C66: HSI-B | D66: FML | E66: 김한솔 | F66: B | G66: SAIL | H66: SINGAPORE, SINGAPORE | I66: ETA | J66: 46305.5 | K66: LAST RESULT | L66: ZHOUSHAN | M66: 46249 | N66: MARATHON PETROLEUM CORPORATION | O66: 5 // 5 | P66: 1. LOADLINE BV 양각 마킹 부재로 지적 2. HVPQ 오기재 3건 3. 비상훈련 관련, 절차상 요구되는 항만당국 통보 누락 4. ODME 시뮬레이션 테스트 출력물 판독 불가 5. 양현 WINDLASS GEAR TEETH부 GREASE 도포 불량 및 발청으로 지적 | Q66: BV | R66: 0
A67: GREECE PROSPERITY | B67: 2016 | C67: HSI-B | D67: CSM | E67: 김한솔 | F67: B | G67: ANCHOR | H67: FUJAIRAH (AL-FUJAIRA | K67: NEXT PLAN | L67: FUJAIRAH | M67: 46232 | N67: SONANGOL | Q67: BV | R67: 0 | S67: NIL
A68: GUYANA PROSPERITY | B68: 2016 | C68: HSH-C | D68: CSM | E68: 김한솔 | F68: L | G68: ANCHOR | H68: FUJAIRAH (AL-FUJAIRA, UNITED ARAB EMIRATES | K68: LAST RESULT | L68: Rotterdam | M68: 46264 | N68: PETROVIETNAM | O68: 5 // 1 | P68: 8/30 PETROVIETNAM DISCHARGE SIRE OBS 잔여 1건 조치 중 1. BWTS RECTIFIER PCB 및 TRO PURGE CONTROLLER 고장 - 회신(10/04) BWTS 전체 용량 운전 불가. 수령 Spare 불일치로 재청구, Maker PCB 11월 20일 제공 예정. 수리 완료 후 기능시험 예정 7/13 PHILLIPS DISCHARGE SIRE OBS 잔여 1건 조치 중 1. BALLAST WATER SYSTEM RECTIFIER PCB 및 TRO PURGE CONTROLLER 고장 - electrolyzers 3대 중 2대 운전 복구했으나 부분 운전 지속 중. Ghana Prosperity에서 전달된 rectifier PCB는 사용불가. BWTS rectifier PCB 및 TRO purge controller 결함자재 11/20 보급 예정 | Q68: BV | R68: 0
A69: BELGIUM B | B69: 2016 | C69: HSH-C | D69: CSM | E69: 김한솔 | F69: B | G69: SAIL | H69: FUJAIRAH (AL-FUJAIRA, UNITED ARAB EMIRATES | I69: ETA | J69: 46306.292 | K69: LAST RESULT | L69: Tanjung Pelepas | M69: 46236 | N69: VIVO | O69: 7 // 0 | Q69: BV | R69: 0
A70: ANGOLA PROSPERITY | B70: 2021 | C70: HIS-D | D70: CSM | E70: NIKOS | F70: B | G70: DRIFT | H70: RAS TANURA, SAUDI ARABIA | I70: ETA | J70: 46302.833 | K70: LAST RESULT | L70: NINGBO, CHINA | M70: 46227 | N70: PETROVIETNAM | O70: 6 // 0 | P70: NIL | Q70: BV | R70: 0 | S70: 1. EGCS TOWER VENTOURI PIPE RUSTED - SPARE IS ONBOARD & MAKING PLAN FOR SERVICE ATTENDANCE
A71: FRANCE C | B71: 2007 | C71: DSME-A | D71: FML | E71: 윤영수 | K71: LAST RESULT | L71: Singapore | M71: 46101 | N71: IDEMITSU TANKER CO. LTD. | O71: 3 // 0 | R71: 0 | S71: ADNOC BBC(2026-05-17 1500LT, FUJAIRAH) 4/17 Spare 보급준비
A72: DHT BAUHINIA | B72: 2007 | C72: DSME-B | D72: FML | E72: 양종현 | K72: LAST RESULT | L72: FUJAIRAH | M72: 46269 | N72: EQUINOR | O72: 5 // 5 | P72: 9/4 EQUINOR DISCHARGE SIRE OBS 잔여 5건 조치 중 1. SLOP P COT FIXED GAUGING SENSOR 고장 그 외 Minor 지적 4건 | Q72: LR | R72: 0
A73: PLATA SOUTH | B73: 2009 | C73: DSME-C | D73: VSN | E73: 최강림 | F73: L | G73: SAIL | H73: LIANYUNGANG,JIANGSU , CHINA | I73: ETA | J73: 46306.25 | K73: LAST RESULT | L73: PARADIP | M73: 46248 | N73: VIVO ENERGY | O73: 7 // 2 | P73: Remaning Observation 4.2.7 - Hard copy of Iamsar manual- struggling to receive new version 9.1.1 Mooring wires | Q73: KR | R73: 0
A74: BRUNEI PROSPERITY | B74: 2010 | C74: DSME-C | D74: FML | E74: 정제훈 | F74: L | G74: ANCHOR | H74: FUJAIRAH (AL-FUJAIRA, UNITED ARAB EMIRATES | I74: ETD | J74: 46248.25 | K74: LAST RESULT | L74: SHANTOU | M74: 46270 | N74: MARATHON | O74: 6 // 0 | Q74: BV | R74: 0
A75: MONACO PROSPERITY | B75: 2013 | C75: DSME-D | D75: FML | E75: 최태원 | F75: L | G75: ANCHOR | H75: VADINAR, INDIA | K75: LAST RESULT | L75: SOHAR | M75: 46278 | N75: TOTAL | O75: 6 // 6 | P75: 1. BALLAST WATER TREATMENT SYSTEM - INOPERATIVE, AWAITING TECHNICIAN 2. BALLAST EQUIPMENT - DEFECTIVE, FLAG DISPENSATION VALID UNTIL 15 SEP 2026 3. HULL - MINOR DENT #1WBT PORT (MEMORANDA 14 APR 2026) 4. ACCOMMODATION LADDER - NOT RIGGED PROPERLY, BOTTOM PLATFORM NOT LEVEL 5. EMERGENCY GENERATOR - OFFICER NOT FAMILIAR WITH PROCEDURES 6. BALLAST OPERATIONS - BWTS NOT OPERATIONAL, FOLLOW-UP REQUIRED | Q75: BV | R75: 1 | S75: 1.BWTS 현재 70 % 사용 가능 / 100 가동을 위한 자재 발주 완료
A76: MOROCCO PROSPERITY | B76: 2013 | C76: DSME-D | D76: FML | E76: 최태원 | F76: B | G76: BERTH | H76: YANBU INDUSTRIAL CITY, SAUDI ARABIA | K76: LAST RESULT | L76: EGYPT,AIN SUKHNA | M76: 46235 | N76: P66 | O76: 4 // 0 | P76: 1.ESP ( ENHANCED SURVEY PROGRAMME) FILE WAS NOT ON BOARD 2.NO EVIDENCE OF MSI SAILED ON BOARD FROM 26 TO 29 APRIL (HUMAN) 3.THE OP INTERVIEW WAS UNFAMILIAR WITH SIMOPS (HUMAN) 4.MOORING BREAKES TEST RECORD MISSING (HUMAN) | Q76: BV | R76: 0
A77: KENYA B | B77: 2015 | C77: DSME-E | D77: CSM | E77: 윤영수 | F77: L | G77: SAIL | H77: AIN SUKHNA, EGYPT | I77: ETA | J77: 46302.792 | K77: NEXT PLAN | L77: AIN SUKHNA | M77: 46303 | N77: PETRON | Q77: BV | R77: 0
A78: FUJAIRAH ENERGY | B78: 2015 | C78: DSME-E | D78: FML | E78: 윤영수 | K78: LAST RESULT | L78: Fujairah | M78: 46061 | N78: KOCH SHIPPING PTE LTD | O78: 5 // 0 | R78: 0 | S78: ADNOC BBC(2026-05-12 2100LT, DUBAI)
A79: CARIBBEAN GLORY | B79: 2017 | C79: DSME-F | D79: FML | E79: 윤영수 | F79: L | G79: STBY | H79: BALIKPAPAN, KALIMANTAN | I79: ETA | J79: 46304.75 | K79: NEXT PLAN | L79: BALIKPAPAN, INDONESIA | M79: 46305 | N79: IDEMITSU | Q79: KR | R79: 0
A80: GULF SUNRISE | B80: 2017 | C80: DSME-F | D80: VSN | E80: 윤영수 | F80: B | G80: STBY | H80: SINGAPORE, SINGAPORE | I80: ETA | J80: 46312.083 | K80: LAST RESULT | L80: CHIBA | M80: 46236 | N80: PERTAMINA | O80: 3 // 3 | P80: 1. 구조정용 recovery strops 및 pendant의 제조사 증서 본선 미확인. 2. 접안중 Bridge Echo Sounder의 불량. 3. Bunker line(Fuel 및 LSMGO)의 점검 기록 누락. | Q80: BV | R80: 0
A81: EAST LOYALTY | B81: 2011 | C81: STX | D81: FML | E81: NIKOS | F81: B | G81: BERTH | H81: ZHOUSHAN, CHINA | K81: LAST RESULT | L81: YEOSU, KOREA | M81: 46254 | N81: P66 | O81: 6 // 6 | P81: 1. BWTS CLASS CONDITION 2. HALD RAIL 및 LADDER 부식 3. CARGO TANK #5S TEMP SENSOR 온도 불일치 4. HHC CRANE OIL분석결과 ALERTED 그외 HUMAN/PROCESS 2건 | Q81: BV | R81: 10
A82: WEST LOYALTY | B82: 2011 | C82: STX | D82: CSM | E82: NIKOS | F82: B | G82: DRIFT | H82: FUJAIRAH, UNITED ARAB EMIRATES | K82: LAST RESULT | L82: KIIRE, JAPAN | M82: 46192 | N82: PETRON | O82: 5 // 0 | Q82: BV | R82: 0
A83: SOUTH LOYALTY | B83: 2012 | C83: STX | D83: FML | E83: NIKOS | F83: B | G83: SAIL | H83: SINGAPORE, SINGAPORE | I83: ETA | J83: 46302.396 | K83: LAST RESULT | L83: SRIRACHA | M83: 46236 | N83: OMV | O83: 7 // 0 | Q83: BV | R83: 0
A84: NORTH LOYALTY | B84: 2012 | C84: STX | D84: CSM | E84: NIKOS | F84: L | G84: BERTH | H84: YEOSU( YOSU ), KOREA | K84: LAST RESULT | L84: YEOSU | M84: 46302 | N84: PETRONAS | O84: 9 // 9 | P84: 1. LIFE BOAT DAVIT WINCH 부식 2. FIXED GAS DETECTION SYSTEM FAULT 3. ELEVATOR OUT OF ORDER 그외 HUMAN/PROCESS 6건 | Q84: BV | R84: 0
A85: SENEGAL PROSPERITY | B85: 2011 | C85: SHI | D85: CSM | E85: 윤영수 | F85: L | G85: SAIL | H85: SOHAR, OMAN | I85: ETA | J85: 46266.583 | K85: LAST RESULT | L85: SOHAR | M85: 46273 | N85: TOTAL | O85: 6 // 6 | P85: 1. PROCESS & HUMAN // LOAD LINE CERT DEADWEIGHT 불일치 2. HARDWARE & HUMAN // Tank Radar의 Low/Low-Low 압력 알람 설정 상이하여 오작동함. 3. HUMAN // VOC Management Plan 기록 누락. 4. HUMAN // M/E Cylinder Oil Daily Tank 레벨 게이지 자동 차단 불량. | Q85: BV | R85: 0 | S85: [NO HEATING COIL] STERN TUBE SEAL LEAKAGE 수리 [보험 구상] NEW PRO. SHAFT 구매 및 조선소 수리 진행 중.
A86: OCEAN LOYALTY | B86: 2010 | C86: JMU. ARIAKE A | D86: SNGY | E86: 양종현 | F86: B | G86: DRIFT | H86: FUJAIRAH (AL-FUJAIRA, UNITED ARAB EMIRATES | K86: LAST RESULT | L86: FUJAIRAH | M86: 46285 | N86: ENOC | O86: 6 // 6 | P86: 9/20 ENOC DISCHARGE SIRE OBS 잔여 6건 조치 중 1. 5P/4S CCR REMOTE PRESS. GAUGE 고장 및 P/R FLOODING DAMPER 작동 불능 그 외 Minor 지적 5건 | Q86: BV | R86: 0 | S86: 1. AE PERFORMANCE - #1 AE, SPARE 보급 대기, 보급 이후 FOP 정비 및 MAJOR OVERHAUL시행 예정. - #2 & #3 AE 조치 완료 (UP TO 80% OF LOAD) 2. BWTS OPERATION ISSUE. - 문제점 확인 중.
A87: MERCURY HOPE | B87: 2011 | C87: JMU. ARIAKE B | D87: AESM | E87: 양종현 | Q87: BV | R87: 0
A88: DOMINICA PROSPERITY | B88: 2011 | C88: JMU. ARIAKE B | D88: AESM | E88: 양종현 | F88: L | G88: BERTH | H88: RAS TANURA, SAUDI ARABIA | I88: ETD | J88: 46302.583 | K88: LAST RESULT | L88: ZHOUSHAN, CHINA | M88: 46273 | N88: ENOC | O88: 10 // 10 | P88: 9/8 EMIRATES DISCHARGE SIRE OBS 잔여 10건 조치 중 1. BWTS TRO UNIT 고장 그 외 Minor 지적 9건 | Q88: BV | R88: 0
A89: BARBADOS PROSPERITY | B89: 2010 | C89: JMU. ARIAKE C | D89: FML | E89: 양종현 | F89: L | G89: ANCHOR | H89: FUJAIRAH (AL-FUJAIRA, UNITED ARAB EMIRATES | K89: LAST RESULT | L89: YEOSU, KOREA | M89: 46269 | N89: TOTAL | O89: 7 // 7 | P89: 9/4 TOTAL DISCHARGE SIRE OBS 잔여 7건 조치 중 1. CLASS MEMORANDA 조치 미흡 2. 1P WBT GANGING CONDUIT 부식 3. FUEL/L.O QCV 보호장치 미설치 그 외 Minor 지적 4건 | Q89: BV | R89: 0 | S89: BWTS ISSUE [MAKER : ERMA FIRST] 자재 발주, COMPLETE OF SCREEN & MODULAR SCANNER STOCK 보유 - PORT NO.1 FILTER LIMIT SWITCH DEFECTIVE - STBD FILTER OUTLET VALVE STUCK, NO.1 SCREEN WAS DAMAGED
A90: CROATIA PROSPERITY | B90: 2010 | C90: JMU. ARIAKE C | D90: FML | E90: 양종현 | F90: L | G90: SAIL | H90: PORT DICKSON, MALAYSIA | I90: ETA | J90: 46306.708 | K90: NEXT PLAN | L90: LINGGI | M90: 46308 | N90: TOTAL | P90: LINGGI DISCHARGING 시 DISCH. SIRE 계획 중 | Q90: BV | R90: 0
A91: PHILIPPINES PROSPERITY | B91: 2011 | C91: JMU. ARIAKE C | D91: FML | E91: 양종현 | F91: L | G91: ANCHOR | H91: FUJAIRAH (AL-FUJAIRA, UNITED ARAB EMIRATES | K91: LAST RESULT | L91: DALIAN | M91: 46268 | N91: TOTAL | O91: 15 // 11 | P91: 9/3 TOTAL SIRE OBS 잔여 15건 조치 중 1. IHM 인증서 만료 및 FLAG 수검 기록 미비 2. GAS SAMPLER GLAND 누설 및 교정 유량 미준수 그 외 Minor 지적 13건 | Q91: BV | R91: 0
A92: BAHAMAS PROSPERITY | B92: 2007 | C92: JMU. ARIAKE D | D92: FML | E92: 정제훈 | F92: L | G92: SAIL | H92: SOHAR, OMAN | I92: ETA | J92: 46302.792 | K92: LAST RESULT | L92: OMAN | M92: 46249 | N92: IDEMITSU | O92: 6 // 0 | P92: ENOC SIRE OBS 잔여 6건 조치 중 1. Paint locker 내 fire detector가 탈거되어있음. - 시정완료 2. (P) Life Boat 전/후진 결합 불량. - 시정완료 3. 발전기 3대 상부 valve cover 부위 연료 누설. - 시정완료 그 외 Human 지적 3건. | Q92: BV | R92: 0 | S92: SELLER측 2025Y CAP 증서 부재. CAP을 위한 입거 가능성 있음.
A93: MERSIN PROSPERITY | B93: 8 | C93: JMU. ARIAKE D | D93: FML | E93: 정제훈 | F93: B | G93: ANCHOR | H93: FUJAIRAH (AL-FUJAIRA, UNITED ARAB EMIRATES | I93: ETD | J93: 46231.5 | K93: LAST RESULT | L93: SINGAPORE | M93: 46173 | N93: IDEMITSU | O93: 2 // 0 | Q93: BV | R93: 1
A94: LILA JAMNAGAR | B94: 2006 | C94: JMU. ARIAKE E | E94: 손유석 | Q94: BV | R94: 0
A95: SINGAPORE PROSPERITY | B95: 2013 | C95: JMU. KURE A | D95: CSM | E95: NIKOS | F95: B | G95: SAIL | H95: RAS TANURA, SAUDI ARABIA | I95: ETA | J95: 46304.75 | K95: LAST RESULT | L95: FUJAIRAH | M95: 46214 | N95: PETROVIETNAM | O95: 5 // 0 | P95: PETROVIETNAM VETTING 조치 완료 | Q95: BV | R95: 0
A96: GABON PROSPERITY | B96: 2011 | C96: JMU. KURE B | D96: SNGY | E96: NIKOS | F96: L | G96: BERTH | H96: AIN SUKHNA, EGYPT | K96: LAST RESULT | L96: AIN SUKHNA | M96: 46256 | N96: ENOC | O96: 5 // 5 | P96: 8/22 SIRE OBS 잔여 5건 조치 중 그 외 Minor 지적 5건 | Q96: BV | R96: 0
A97: BASRAH ENERGY | B97: 2010 | C97: IHI | D97: SNGY | E97: 김흥민 | P97: ADNOC BBC | Q97: BV | R97: 0
A98: TUNISIA PROSPERITY | B98: 2011 | C98: MHI | D98: CSM | E98: 윤영수 | F98: L | G98: ANCHOR | H98: FUJAIRAH (AL-FUJAIRA, UNITED ARAB EMIRATES | K98: LAST RESULT | L98: FUJAIRAH | M98: 46221 | N98: IDEMITSU | O98: 4 // 0 | Q98: BV | R98: 0
A99: FIJI PROSPERITY | B99: 2017 | C99: SUBIC | D99: CSM | E99: 양종현 | F99: B | G99: SAIL | H99: RAS TANURA, SAUDI ARABIA | I99: ETA | J99: 46302.708 | K99: LAST RESULT | L99: SOHAR | M99: 46260 | N99: TOTAL | O99: 9 // 9 | P99: 8/26 SIRE OBS 잔여 9건 조치 중 1. STBD LIFEBOAT FORWARD LIFTING HOOK 손상 2. S/X-BAND RADAR MAGNETRON 사용 시간 초과 그 외 Minor 지적 7건 | Q99: BV | R99: 0 | S99: ** COC (FLAG & CLASS) 1. STBD LB FWD WIRE BREAK ** GENERAL DEFECT 1. BWTS APT SYSTEM FAULT 1) CUT CABLE OF TRO & SAMPLING VALVE BY SELLER CREW - INQUIRE TO GET QUOTATION FROM S&SYS 2) MAIN BALLASTING SYSTEM NO ISSUE 2. ME LOW FUEL OIL PRESSURE
F100: B | G100: ANCHOR | H100: RAS TANURA, SAUDI ARABIA | I100: ETD | J100: 46305.417 | K100: LAST RESULT | L100: SOHAR | M100: 46255 | N100: PERTIMINA | O100: 5 // 5 | P100: Minor 지적사항 조치중 | R100: 0
F106: B | G106: ANCHOR | H106: SHARJAH, UNITED ARAB EMIRATES | I106: ETA | J106: 46300.917 | K106: LAST RESULT | L106: DAESAN | M106: 46198 | N106: P66 | O106: 5 // 2 | P106: HUMAN OBS 2 | R106: 0
F107: L | G107: ANCHOR | H107: RAS TANURA, SAUDI ARABIA | I107: ETB | J107: 46303.5 | K107: LAST RESULT | L107: FUJAIRA | M107: 46261 | N107: PETROVIETNAM | O107: 4 // 0 | Q107: BV | R107: 0
...

Sheet Sire History
A1: VLCC SIRE STATUS | D1: BRAZIL PROSPERITY
I2: VALID - BLUE
D3: ADNOC BBC - SIRE 상관없음 | I3: NOT VALID - RED
A5: BUILT YARD | B5: BUILT YEAR | C5: NO | D5: VESSEL | E5: MANAGER | F5: SINOKOR TECH TEAM | G5: SINOKOR PIC | H5: OPERATION PIC | I5: STATUS | J5: PLAN | M5: SIRE HISTORY - LATEST 1 | S5: SIRE HISTORY - LATEST 2 | Y5: SIRE HISTORY - LATEST 3 | AE5: SIRE HISTORY - LATEST 4 | AK5: SIRE HISTORY - LATEST 5 | AQ5: SIRE HISTORY - LATEST 6 | AW5: SIRE HISTORY - LATEST 7 | BC5: SIRE HISTORY - LATEST 8
J6: DATE | K6: MAJOR | L6: PORT | M6: KIND | N6: DATE | O6: OIL MAJOR | P6: Observation | R6: PORT | S6: KIND | T6: DATE | U6: OIL MAJOR | V6: Observation | X6: PORT | Y6: KIND | Z6: DATE | AA6: VENDOR | AB6: Observation | AD6: PORT | AE6: KIND | AF6: DATE | AG6: VENDOR | AH6: Observation | AJ6: PORT | AK6: KIND | AL6: DATE | AM6: VENDOR | AN6: Observation | AP6: PORT | AQ6: KIND | AR6: DATE | AS6: VENDOR | AT6: Observation | AV6: PORT | AW6: KIND | AX6: DATE | AY6: VENDOR | AZ6: Observation | BB6: PORT | BC6: KIND | BD6: DATE | BE6: VENDOR | BF6: Observation | BH6: PORT
P7: ALL | Q7: REMAIN | V7: ALL | W7: REMAIN | AB7: ALL | AC7: REMAIN | AH7: ALL | AI7: REMAIN | AN7: ALL | AO7: REMAIN | AT7: ALL | AU7: REMAIN | AZ7: ALL | BA7: REMAIN | BF7: ALL | BG7: REMAIN
A8: DALIAN.A | B8: 2007 | C8: 1 | D8: MONACO LOYALTY | E8: FLEET | F8: =IFERROR(INDEX('DB2'!U:U, MATCH(G8, 'DB2'!V:V, 0)), "") -> TRMT1 | G8: =_xlfn.LET( _xlpm.val, TRIM(LEFT(D8, IFERROR(FIND(CHAR(10), D8)-1, LEN(D8)))), _xlpm.result, IFERROR( _xlfn.XLOOKUP(_xlpm.val, 'DB2'!H:H, 'DB2'!V:V), _xlfn.XLOOKUP(_xlpm.val, 'DB2'!I:I, 'DB2'!V:V) ), IF(OR(_xlpm.result="", _xlpm.result=0), "", _xlpm.result) ) -> JH. JEONG | H8: =_xlfn.LET( _xlpm.val, TRIM(LEFT(D8, IFERROR(FIND(CHAR(10), D8)-1, LEN(D8)))), _xlpm.result, IFERROR( _xlfn.XLOOKUP(_xlpm.val, 'DB2'!H:H, 'DB2'!S:S), _xlfn.XLOOKUP(_xlpm.val, 'DB2'!I:I, 'DB2'!S:S) ), IF(OR(_xlpm.result="", _xlpm.result=0), "", _xlpm.result) ) -> SY. CHOI | I8: Valid | M8: CLOSED | N8: 46207 | O8: IDEMITSU | P8: 8 | Q8: 0 | R8: LINGGI | S8: CLOSED | T8: 46140 | U8: ADNOC | V8: 6 | W8: 0 | X8: JEBEL DHANA | Y8: CLOSED | Z8: 46021 | AA8: EQUINOR | AB8: 5 | AC8: 0 | AD8: SIKKA | AE8: CLOSED | AF8: 45927 | AG8: MMS | AH8: 5 | AI8: 0 | AJ8: NEW MANGALORE | AK8: CLOSED | AL8: 45631 | AM8: PREEM AB | AN8: 12 | AO8: 0 | AP8: LEKKI | AQ8: CLOSED | AR8: 45526 | AS8: ENOC | AT8: 3 | AU8: 0 | AV8: LOME | AW8: CLOSED | AX8: 45437 | AY8: PREEM AB | AZ8: 3 | BA8: 0 | BB8: LOME
B9: 2007 | C9: 2 | D9: SINGAPORE LOYALTY | E9: FLEET | F9: =IFERROR(INDEX('DB2'!U:U, MATCH(G9, 'DB2'!V:V, 0)), "") -> TRMT1 | G9: =_xlfn.LET( _xlpm.val, TRIM(LEFT(D9, IFERROR(FIND(CHAR(10), D9)-1, LEN(D9)))), _xlpm.result, IFERROR( _xlfn.XLOOKUP(_xlpm.val, 'DB2'!H:H, 'DB2'!V:V), _xlfn.XLOOKUP(_xlpm.val, 'DB2'!I:I, 'DB2'!V:V) ), IF(OR(_xlpm.result="", _xlpm.result=0), "", _xlpm.result) ) -> JH. JEONG | H9: =_xlfn.LET( _xlpm.val, TRIM(LEFT(D9, IFERROR(FIND(CHAR(10), D9)-1, LEN(D9)))), _xlpm.result, IFERROR( _xlfn.XLOOKUP(_xlpm.val, 'DB2'!H:H, 'DB2'!S:S), _xlfn.XLOOKUP(_xlpm.val, 'DB2'!I:I, 'DB2'!S:S) ), IF(OR(_xlpm.result="", _xlpm.result=0), "", _xlpm.result) ) -> DE. PARK | I9: Valid | M9: CLOSED | N9: 46170 | O9: ENOC | P9: 6 | Q9: 0 | R9: DUBAI ANCHORAGE | S9: CLOSED | T9: 45837 | U9: OMV | V9: 6 | W9: 0 | X9: SINGAPORE | Y9: CLOSED | Z9: 45704 | AA9: UNIPEC | AB9: 9 | AC9: 0 | AD9: NIPAH | AE9: CLOSED | AF9: 45547 | AG9: IDEMITSU | AH9: 4 | AI9: 0 | AJ9: MELAKA | AK9: CLOSED | AL9: 45385 | AM9: P66 | AN9: 4 | AO9: 0 | AP9: LINGGI
B10: 2008 | C10: 3 | D10: PLATA SINGAPORE | E10: AETM | F10: =IFERROR(INDEX('DB2'!U:U, MATCH(G10, 'DB2'!V:V, 0)), "") -> TRMT1 | G10: =_xlfn.LET( _xlpm.val, TRIM(LEFT(D10, IFERROR(FIND(CHAR(10), D10)-1, LEN(D10)))), _xlpm.result, IFERROR( _xlfn.XLOOKUP(_xlpm.val, 'DB2'!H:H, 'DB2'!V:V), _xlfn.XLOOKUP(_xlpm.val, 'DB2'!I:I, 'DB2'!V:V) ), IF(OR(_xlpm.result="", _xlpm.result=0), "", _xlpm.result) ) -> JH. JEONG | H10: =_xlfn.LET( _xlpm.val, TRIM(LEFT(D10, IFERROR(FIND(CHAR(10), D10)-1, LEN(D10)))), _xlpm.result, IFERROR( _xlfn.XLOOKUP(_xlpm.val, 'DB2'!H:H, 'DB2'!S:S), _xlfn.XLOOKUP(_xlpm.val, 'DB2'!I:I, 'DB2'!S:S) ), IF(OR(_xlpm.result="", _xlpm.result=0), "", _xlpm.result) ) -> JY. RO | I10: Valid | M10: CLOSED | N10: 46199 | O10: PETROVIETNAM | P10: 8 | Q10: 0 | R10: SHUIDONG | S10: CLOSED | T10: 46064 | U10: PERAMINA | V10: 5 | W10: 0 | X10: ZHOUSHAN | Y10: CLOSED | Z10: 45944 | AA10: PETRON | AB10: 6 | AC10: 0 | AD10: ZHOUSHAN | AE10: CLOSED | AF10: 45833 | AG10: ADNOC | AH10: 5 | AI10: 0 | AJ10: YEOSU | AK10: CLOSED | AL10: 45769 | AM10: ECOPETROL | AN10: 16 | AO10: 0 | AP10: KOCHI | AQ10: CLOSED | AR10: 45678 | AS10: VIVO | AT10: 10 | AU10: 0 | AV10: CHENNAI | AW10: CLOSED | AX10: 45580 | AY10: P66 | AZ10: 10 | BA10: 0 | BB10: SIKKA | BC10: CLOSED | BD10: 45488 | BE10: ALMA PETROLI | BF10: 3 | BG10: 0 | BH10: SINGAPORE
B11: 2008 | C11: 4 | D11: PLATA CARRIER | E11: AETM | F11: =IFERROR(INDEX('DB2'!U:U, MATCH(G11, 'DB2'!V:V, 0)), "") -> TRMT1 | G11: =_xlfn.LET( _xlpm.val, TRIM(LEFT(D11, IFERROR(FIND(CHAR(10), D11)-1, LEN(D11)))), _xlpm.result, IFERROR( _xlfn.XLOOKUP(_xlpm.val, 'DB2'!H:H, 'DB2'!V:V), _xlfn.XLOOKUP(_xlpm.val, 'DB2'!I:I, 'DB2'!V:V) ), IF(OR(_xlpm.result="", _xlpm.result=0), "", _xlpm.result) ) -> JH. JEONG | H11: =_xlfn.LET( _xlpm.val, TRIM(LEFT(D11, IFERROR(FIND(CHAR(10), D11)-1, LEN(D11)))), _xlpm.result, IFERROR( _xlfn.XLOOKUP(_xlpm.val, 'DB2'!H:H, 'DB2'!S:S), _xlfn.XLOOKUP(_xlpm.val, 'DB2'!I:I, 'DB2'!S:S) ), IF(OR(_xlpm.result="", _xlpm.result=0), "", _xlpm.result) ) -> SY. KIM | I11: Valid | M11: OPEN OBS | N11: 46213 | O11: PETROVIETNAM | P11: 6 | Q11: 4 | R11: Paradip | S11: CLOSED | T11: 46012 | U11: PERTAMINA | V11: 7 | W11: 0 | X11: VIZAG | Y11: CLOSED | Z11: 45922 | AA11: ENOC | AB11: 6 | AC11: 0 | AD11: PARADIP | AE11: CLOSED | AF11: 45826 | AG11: P66 | AH11: 7 | AI11: 0 | AJ11: SIKKA | AK11: CLOSED | AL11: 45698 | AM11: ECOPETROL | AN11: 7 | AO11: 0 | AP11: PARADIP | AQ11: CLOSED | AR11: 45509 | AS11: PETRON | AT11: 5 | AU11: 0 | AV11: GUANGZHOU | AW11: CLOSED | AX11: 45443 | AY11: IDEMITSU | AZ11: 2 | BA11: 0 | BB11: DAESAN
B12: 2009 | C12: 5 | D12: PLATA LUCKY | E12: AETM | F12: =IFERROR(INDEX('DB2'!U:U, MATCH(G12, 'DB2'!V:V, 0)), "") -> TRMT1 | G12: =_xlfn.LET( _xlpm.val, TRIM(LEFT(D12, IFERROR(FIND(CHAR(10), D12)-1, LEN(D12)))), _xlpm.result, IFERROR( _xlfn.XLOOKUP(_xlpm.val, 'DB2'!H:H, 'DB2'!V:V), _xlfn.XLOOKUP(_xlpm.val, 'DB2'!I:I, 'DB2'!V:V) ), IF(OR(_xlpm.result="", _xlpm.result=0), "", _xlpm.result) ) -> JH. JEONG | H12: =_xlfn.LET( _xlpm.val, TRIM(LEFT(D12, IFERROR(FIND(CHAR(10), D12)-1, LEN(D12)))), _xlpm.result, IFERROR( _xlfn.XLOOKUP(_xlpm.val, 'DB2'!H:H, 'DB2'!S:S), _xlfn.XLOOKUP(_xlpm.val, 'DB2'!I:I, 'DB2'!S:S) ), IF(OR(_xlpm.result="", _xlpm.result=0), "", _xlpm.result) ) -> JA. YOUN | I12: Valid | M12: OPEN OBS | N12: 46287 | O12: PERTAMINA | P12: 10 | Q12: 10 | R12: SINES | S12: CLOSED | T12: 46146 | U12: PETROVIETNAM | V12: 9 | W12: 0 | X12: ROTTERDAM | Y12: CLOSED | Z12: 45939 | AA12: PERTAMINA | AB12: 7 | AC12: 0 | AD12: SHUIDONG | AE12: CLOSED | AF12: 45831 | AG12: PETROVIET | AH12: 5 | AI12: 0 | AJ12: VISHAKHAPATNAM | AK12: CLOSED | AL12: 45705 | AM12: ECOPETROL | AN12: 6 | AO12: 0 | AP12: KAOHSIUNG | AQ12: CLOSED | AR12: 45606 | AS12: P66 | AT12: 7 | AU12: 0 | AV12: ROTTERDAM | AW12: CLOSED | AX12: 45466 | AY12: MAXCOM | AZ12: 2 | BA12: 0 | BB12: SHANGHAI
A13: DALIAN.B | B13: 2011 | C13: 6 | D13: PANAMA PROSPERITY | E13: SNGY | F13: =IFERROR(INDEX('DB2'!U:U, MATCH(G13, 'DB2'!V:V, 0)), "") -> TRMT1 | G13: =_xlfn.LET( _xlpm.val, TRIM(LEFT(D13, IFERROR(FIND(CHAR(10), D13)-1, LEN(D13)))), _xlpm.result, IFERROR( _xlfn.XLOOKUP(_xlpm.val, 'DB2'!H:H, 'DB2'!V:V), _xlfn.XLOOKUP(_xlpm.val, 'DB2'!I:I, 'DB2'!V:V) ), IF(OR(_xlpm.result="", _xlpm.result=0), "", _xlpm.result) ) -> MS. KANG | H13: =_xlfn.LET( _xlpm.val, TRIM(LEFT(D13, IFERROR(FIND(CHAR(10), D13)-1, LEN(D13)))), _xlpm.result, IFERROR( _xlfn.XLOOKUP(_xlpm.val, 'DB2'!H:H, 'DB2'!S:S), _xlfn.XLOOKUP(_xlpm.val, 'DB2'!I:I, 'DB2'!S:S) ), IF(OR(_xlpm.result="", _xlpm.result=0), "", _xlpm.result) ) -> HR. KIM | I13: Not Valid | M13: OPEN OBS | N13: 46267 | O13: TOTAL | P13: 7 | Q13: 2 | R13: SOHAR
B14: 2011 | C14: 7 | D14: LUCKY PIONEER | E14: VSU | F14: =IFERROR(INDEX('DB2'!U:U, MATCH(G14, 'DB2'!V:V, 0)), "") -> TRMT2 | G14: =_xlfn.LET( _xlpm.val, TRIM(LEFT(D14, IFERROR(FIND(CHAR(10), D14)-1, LEN(D14)))), _xlpm.result, IFERROR( _xlfn.XLOOKUP(_xlpm.val, 'DB2'!H:H, 'DB2'!V:V), _xlfn.XLOOKUP(_xlpm.val, 'DB2'!I:I, 'DB2'!V:V) ), IF(OR(_xlpm.result="", _xlpm.result=0), "", _xlpm.result) ) -> KL. CHOI | H14: =_xlfn.LET( _xlpm.val, TRIM(LEFT(D14, IFERROR(FIND(CHAR(10), D14)-1, LEN(D14)))), _xlpm.result, IFERROR( _xlfn.XLOOKUP(_xlpm.val, 'DB2'!H:H, 'DB2'!S:S), _xlfn.XLOOKUP(_xlpm.val, 'DB2'!I:I, 'DB2'!S:S) ), IF(OR(_xlpm.result="", _xlpm.result=0), "", _xlpm.result) ) -> JA. YOUN | I14: Valid | M14: CLOSED | N14: 46227 | O14: PETRON | P14: 26 | Q14: 0 | R14: NGHI SON, VIETNAM | S14: CLOSED | T14: 46166 | U14: PETROVIETNAM | V14: 3 | W14: 0 | X14: YEOSU | Y14: CLOSED | Z14: 45910 | AA14: PERTAMINA | AB14: 5 | AC14: 0 | AD14: LOOP | AE14: CLOSED | AF14: 45747 | AG14: IDEMITSU | AH14: 14 | AI14: 0 | AJ14: ZHOUSHAN | AK14: CLOSED | AL14: 45701 | AM14: ENOC | AN14: 13 | AO14: 0 | AP14: SINGAPORE
B15: 2011 | C15: 8 | D15: SINGAPORE ENERGY | E15: FLEET | F15: =IFERROR(INDEX('DB2'!U:U, MATCH(G15, 'DB2'!V:V, 0)), "") -> TRMT1 | G15: =_xlfn.LET( _xlpm.val, TRIM(LEFT(D15, IFERROR(FIND(CHAR(10), D15)-1, LEN(D15)))), _xlpm.result, IFERROR( _xlfn.XLOOKUP(_xlpm.val, 'DB2'!H:H, 'DB2'!V:V), _xlfn.XLOOKUP(_xlpm.val, 'DB2'!I:I, 'DB2'!V:V) ), IF(OR(_xlpm.result="", _xlpm.result=0), "", _xlpm.result) ) -> MS. KANG | H15: =_xlfn.LET( _xlpm.val, TRIM(LEFT(D15, IFERROR(FIND(CHAR(10), D15)-1, LEN(D15)))), _xlpm.result, IFERROR( _xlfn.XLOOKUP(_xlpm.val, 'DB2'!H:H, 'DB2'!S:S), _xlfn.XLOOKUP(_xlpm.val, 'DB2'!I:I, 'DB2'!S:S) ), IF(OR(_xlpm.result="", _xlpm.result=0), "", _xlpm.result) ) -> JS. LEE | I15: Valid | M15: OPEN OBS | N15: 46198 | O15: P66 | P15: 5 | Q15: 2 | R15: DAESAN
B16: 2012 | C16: 9 | D16: ROBERTA B | E16: VSU | F16: =IFERROR(INDEX('DB2'!U:U, MATCH(G16, 'DB2'!V:V, 0)), "") -> TRMT2 | G16: =_xlfn.LET( _xlpm.val, TRIM(LEFT(D16, IFERROR(FIND(CHAR(10), D16)-1, LEN(D16)))), _xlpm.result, IFERROR( _xlfn.XLOOKUP(_xlpm.val, 'DB2'!H:H, 'DB2'!V:V), _xlfn.XLOOKUP(_xlpm.val, 'DB2'!I:I, 'DB2'!V:V) ), IF(OR(_xlpm.result="", _xlpm.result=0), "", _xlpm.result) ) -> KL. CHOI | H16: =_xlfn.LET( _xlpm.val, TRIM(LEFT(D16, IFERROR(FIND(CHAR(10), D16)-1, LEN(D16)))), _xlpm.result, IFERROR( _xlfn.XLOOKUP(_xlpm.val, 'DB2'!H:H, 'DB2'!S:S), _xlfn.XLOOKUP(_xlpm.val, 'DB2'!I:I, 'DB2'!S:S) ), IF(OR(_xlpm.result="", _xlpm.result=0), "", _xlpm.result) ) -> HS. CHO | I16: Valid | M16: CLOSED | N16: 46242 | O16: PERTAMINA | P16: 8 | Q16: 0 | R16: AIN, SUKHNA, EGYPT | S16: CLOSED | T16: 46118 | U16: SONANGOL | V16: 8 | W16: 0 | X16: AIN, SUKHNA, EGYPT
B17: 2012 | C17: 10 | D17: COSTA RICA PROSPERITY | E17: WAH KWONG | F17: =IFERROR(INDEX('DB2'!U:U, MATCH(G17, 'DB2'!V:V, 0)), "") -> TRMT1 | G17: =_xlfn.LET( _xlpm.val, TRIM(LEFT(D17, IFERROR(FIND(CHAR(10), D17)-1, LEN(D17)))), _xlpm.result, IFERROR( _xlfn.XLOOKUP(_xlpm.val, 'DB2'!H:H, 'DB2'!V:V), _xlfn.XLOOKUP(_xlpm.val, 'DB2'!I:I, 'DB2'!V:V) ), IF(OR(_xlpm.result="", _xlpm.result=0), "", _xlpm.result) ) -> MS. KANG | H17: =_xlfn.LET( _xlpm.val, TRIM(LEFT(D17, IFERROR(FIND(CHAR(10), D17)-1, LEN(D17)))), _xlpm.result, IFERROR( _xlfn.XLOOKUP(_xlpm.val, 'DB2'!H:H, 'DB2'!S:S), _xlfn.XLOOKUP(_xlpm.val, 'DB2'!I:I, 'DB2'!S:S) ), IF(OR(_xlpm.result="", _xlpm.result=0), "", _xlpm.result) ) -> YN. KIM | I17: Valid | M17: OPEN OBS | N17: 46266 | O17: TOTAL | P17: 12 | Q17: 12 | R17: ALIAGA, TURKEY | S17: CLOSED | T17: 46110 | U17: TOTAL | V17: 13 | W17: 0 | X17: RIZHAO
A18: DALIAN.C | B18: 2016 | C18: 11 | D18: BANGLADESH PROSPERITY | E18: CSM | F18: =IFERROR(INDEX('DB2'!U:U, MATCH(G18, 'DB2'!V:V, 0)), "") -> TRMT1 | G18: =_xlfn.LET( _xlpm.val, TRIM(LEFT(D18, IFERROR(FIND(CHAR(10), D18)-1, LEN(D18)))), _xlpm.result, IFERROR( _xlfn.XLOOKUP(_xlpm.val, 'DB2'!H:H, 'DB2'!V:V), _xlfn.XLOOKUP(_xlpm.val, 'DB2'!I:I, 'DB2'!V:V) ), IF(OR(_xlpm.result="", _xlpm.result=0), "", _xlpm.result) ) -> YS. YOUN | H18: =_xlfn.LET( _xlpm.val, TRIM(LEFT(D18, IFERROR(FIND(CHAR(10), D18)-1, LEN(D18)))), _xlpm.result, IFERROR( _xlfn.XLOOKUP(_xlpm.val, 'DB2'!H:H, 'DB2'!S:S), _xlfn.XLOOKUP(_xlpm.val, 'DB2'!I:I, 'DB2'!S:S) ), IF(OR(_xlpm.result="", _xlpm.result=0), "", _xlpm.result) ) -> YS. HEO | I18: Valid | M18: CLOSED | N18: 46229 | O18: SONANGOL | P18: 4 | Q18: 0 | R18: SINGAPORE | S18: CLOSED | T18: 46108 | U18: PETROVIETNAM | V18: 11 | W18: 0 | X18: SINGAPORE
A19: DALIAN.D | B19: 2019 | C19: 12 | D19: CHILE PROSPERITY | E19: CSM | F19: =IFERROR(INDEX('DB2'!U:U, MATCH(G19, 'DB2'!V:V, 0)), "") -> TRMT1 | G19: =_xlfn.LET( _xlpm.val, TRIM(LEFT(D19, IFERROR(FIND(CHAR(10), D19)-1, LEN(D19)))), _xlpm.result, IFERROR( _xlfn.XLOOKUP(_xlpm.val, 'DB2'!H:H, 'DB2'!V:V), _xlfn.XLOOKUP(_xlpm.val, 'DB2'!I:I, 'DB2'!V:V) ), IF(OR(_xlpm.result="", _xlpm.result=0), "", _xlpm.result) ) -> HS. KIM | H19: =_xlfn.LET( _xlpm.val, TRIM(LEFT(D19, IFERROR(FIND(CHAR(10), D19)-1, LEN(D19)))), _xlpm.result, IFERROR( _xlfn.XLOOKUP(_xlpm.val, 'DB2'!H:H, 'DB2'!S:S), _xlfn.XLOOKUP(_xlpm.val, 'DB2'!I:I, 'DB2'!S:S) ), IF(OR(_xlpm.result="", _xlpm.result=0), "", _xlpm.result) ) -> DB. SEO | I19: Valid | M19: OPEN OBS | N19: 46255 | O19: IDEMITSU | P19: 4 | Q19: 4 | R19: ROTTERDAM | S19: CLOSED | T19: 46202 | U19: ECOPETROL | V19: 6 | W19: 0 | X19: LAGOS | Y19: CLOSED | Z19: 46128 | AA19: ECOPETROL | AB19: 5 | AC19: 0 | AD19: SINGAPORE
A20: JIANGNAN | B20: 2009 | C20: 13 | D20: SURINAME PROSPERITY | E20: CSM | F20: TRMT1 | G20: =_xlfn.LET( _xlpm.val, TRIM(LEFT(D20, IFERROR(FIND(CHAR(10), D20)-1, LEN(D20)))), _xlpm.result, IFERROR( _xlfn.XLOOKUP(_xlpm.val, 'DB2'!H:H, 'DB2'!V:V), _xlfn.XLOOKUP(_xlpm.val, 'DB2'!I:I, 'DB2'!V:V) ), IF(OR(_xlpm.result="", _xlpm.result=0), "", _xlpm.result) ) -> NIKOS | H20: =_xlfn.LET( _xlpm.val, TRIM(LEFT(D20, IFERROR(FIND(CHAR(10), D20)-1, LEN(D20)))), _xlpm.result, IFERROR( _xlfn.XLOOKUP(_xlpm.val, 'DB2'!H:H, 'DB2'!S:S), _xlfn.XLOOKUP(_xlpm.val, 'DB2'!I:I, 'DB2'!S:S) ), IF(OR(_xlpm.result="", _xlpm.result=0), "", _xlpm.result) ) -> CH. BAE | I20: Valid | M20: OPEN OBS | N20: 46245 | O20: ECOPETROL | P20: 6 | Q20: 1 | R20: FUJAIRAH | S20: CLOSED | T20: 46188 | U20: ECOPETROL | V20: 5 | W20: 0 | X20: FUJAIRAH
B21: 2009 | C21: 14 | D21: FINLAND PROSPERITY | E21: BSM | F21: TRMT1 | G21: =_xlfn.LET( _xlpm.val, TRIM(LEFT(D21, IFERROR(FIND(CHAR(10), D21)-1, LEN(D21)))), _xlpm.result, IFERROR( _xlfn.XLOOKUP(_xlpm.val, 'DB2'!H:H, 'DB2'!V:V), _xlfn.XLOOKUP(_xlpm.val, 'DB2'!I:I, 'DB2'!V:V) ), IF(OR(_xlpm.result="", _xlpm.result=0), "", _xlpm.result) ) -> NIKOS | H21: =_xlfn.LET( _xlpm.val, TRIM(LEFT(D21, IFERROR(FIND(CHAR(10), D21)-1, LEN(D21)))), _xlpm.result, IFERROR( _xlfn.XLOOKUP(_xlpm.val, 'DB2'!H:H, 'DB2'!S:S), _xlfn.XLOOKUP(_xlpm.val, 'DB2'!I:I, 'DB2'!S:S) ), IF(OR(_xlpm.result="", _xlpm.result=0), "", _xlpm.result) ) -> HI. HUR | I21: Valid | M21: OPEN OBS | N21: 46297 | O21: TOTAL | P21: 26 | Q21: 26 | R21: MUNDRA | S21: CLOSED | T21: 46162 | U21: VIVO ENERGY | V21: 11 | W21: 0 | X21: COLOMBO
B22: 2009 | C22: 15 | D22: PLATA GLORY | E22: VSN | F22: =IFERROR(INDEX('DB2'!U:U, MATCH(G22, 'DB2'!V:V, 0)), "") -> TRMT2 | G22: =_xlfn.LET( _xlpm.val, TRIM(LEFT(D22, IFERROR(FIND(CHAR(10), D22)-1, LEN(D22)))), _xlpm.result, IFERROR( _xlfn.XLOOKUP(_xlpm.val, 'DB2'!H:H, 'DB2'!V:V), _xlfn.XLOOKUP(_xlpm.val, 'DB2'!I:I, 'DB2'!V:V) ), IF(OR(_xlpm.result="", _xlpm.result=0), "", _xlpm.result) ) -> JN. SHIM | H22: =_xlfn.LET( _xlpm.val, TRIM(LEFT(D22, IFERROR(FIND(CHAR(10), D22)-1, LEN(D22)))), _xlpm.result, IFERROR( _xlfn.XLOOKUP(_xlpm.val, 'DB2'!H:H, 'DB2'!S:S), _xlfn.XLOOKUP(_xlpm.val, 'DB2'!I:I, 'DB2'!S:S) ), IF(OR(_xlpm.result="", _xlpm.result=0), "", _xlpm.result) ) -> SY. RYU | I22: Valid | M22: CLOSED | N22: 46160 | O22: PERTAMINA | P22: 22 | Q22: 0 | R22: FAWLEY, UK | S22: CLOSED | T22: 46033 | U22: MOH | V22: 2 | W22: 0 | X22: SINGAPORE | Y22: CLOSED | Z22: 45956 | AA22: KOCH | AB22: 8 | AC22: 0 | AD22: SINGAPORE | AE22: CLOSED | AF22: 45853 | AG22: PERTAMINA | AH22: 6 | AI22: 0 | AJ22: QUANZHOU | AK22: CLOSED | AL22: 45694 | AM22: PETROVIET | AN22: 7 | AO22: 0 | AP22: ZHOUSHAN | AQ22: CLOSED | AR22: 45509 | AS22: KOCH | AT22: 8 | AU22: 0 | AV22: ROTTERDAM | AW22: CLOSED | AX22: 45393 | AY22: MAXCOM | AZ22: 3 | BA22: 0 | BB22: YEOSU
B23: 2009 | C23: 16 | D23: PLATA NORTH | E23: VSN | F23: =IFERROR(INDEX('DB2'!U:U, MATCH(G23, 'DB2'!V:V, 0)), "") -> TRMT2 | G23: =_xlfn.LET( _xlpm.val, TRIM(LEFT(D23, IFERROR(FIND(CHAR(10), D23)-1, LEN(D23)))), _xlpm.result, IFERROR( _xlfn.XLOOKUP(_xlpm.val, 'DB2'!H:H, 'DB2'!V:V), _xlfn.XLOOKUP(_xlpm.val, 'DB2'!I:I, 'DB2'!V:V) ), IF(OR(_xlpm.result="", _xlpm.result=0), "", _xlpm.result) ) -> JN. SHIM | H23: =_xlfn.LET( _xlpm.val, TRIM(LEFT(D23, IFERROR(FIND(CHAR(10), D23)-1, LEN(D23)))), _xlpm.result, IFERROR( _xlfn.XLOOKUP(_xlpm.val, 'DB2'!H:H, 'DB2'!S:S), _xlfn.XLOOKUP(_xlpm.val, 'DB2'!I:I, 'DB2'!S:S) ), IF(OR(_xlpm.result="", _xlpm.result=0), "", _xlpm.result) ) -> YS. HEO | I23: Valid | M23: OPEN OBS | N23: 46284 | O23: PERTAMINA | P23: 20 | Q23: 6 | R23: ROTTERDAM, NETHERLANS | S23: CLOSED | T23: 46202 | U23: PERTAMINA | V23: 6 | W23: 0 | X23: VISAKHAPATNAM, INDIA | Y23: CLOSED | Z23: 46002 | AA23: MOH | AB23: 7 | AC23: 0 | AD23: LEKKI | AE23: CLOSED | AF23: 45889 | AG23: KOCH | AH23: 9 | AI23: 0 | AJ23: PARADIP | AK23: CLOSED | AL23: 45797 | AM23: VIVA | AN23: 8 | AO23: 0 | AP23: ZHOUSHAN | AQ23: CLOSED | AR23: 45679 | AS23: P66 | AT23: 11 | AU23: 0 | AV23: PARADIP | AW23: CLOSED | AX23: 45423 | AY23: ENI | AZ23: 4 | BA23: 0 | BB23: NGHI SON | BC23: CLOSED | BD23: 45377 | BE23: ALMA PETROLI | BF23: 4 | BG23: 0 | BH23: YEOSU
B24: 2009 | C24: 17 | D24: NAVE GALACTIC | F24: =IFERROR(INDEX('DB2'!U:U, MATCH(G24, 'DB2'!V:V, 0)), "") -> TRMT1 | G24: =_xlfn.LET( _xlpm.val, TRIM(LEFT(D24, IFERROR(FIND(CHAR(10), D24)-1, LEN(D24)))), _xlpm.result, IFERROR( _xlfn.XLOOKUP(_xlpm.val, 'DB2'!H:H, 'DB2'!V:V), _xlfn.XLOOKUP(_xlpm.val, 'DB2'!I:I, 'DB2'!V:V) ), IF(OR(_xlpm.result="", _xlpm.result=0), "", _xlpm.result) ) -> JH. YANG | H24: =_xlfn.LET( _xlpm.val, TRIM(LEFT(D24, IFERROR(FIND(CHAR(10), D24)-1, LEN(D24)))), _xlpm.result, IFERROR( _xlfn.XLOOKUP(_xlpm.val, 'DB2'!H:H, 'DB2'!S:S), _xlfn.XLOOKUP(_xlpm.val, 'DB2'!I:I, 'DB2'!S:S) ), IF(OR(_xlpm.result="", _xlpm.result=0), "", _xlpm.result) ) | I24: Not Valid | M24: OPEN OBS | N24: 46295 | O24: MARATHON | P24: 9 | Q24: 9 | R24: JIEYANG, CHINA | S24: CLOSED | T24: 46243 | U24: PETROVIETNAM | V24: 5 | W24: 0 | X24: SINGAPORE
B25: 2010 | C25: 18 | D25: LUCKY CARRIER | E25: VSU | F25: =IFERROR(INDEX('DB2'!U:U, MATCH(G25, 'DB2'!V:V, 0)), "") -> TRMT2 | G25: =_xlfn.LET( _xlpm.val, TRIM(LEFT(D25, IFERROR(FIND(CHAR(10), D25)-1, LEN(D25)))), _xlpm.result, IFERROR( _xlfn.XLOOKUP(_xlpm.val, 'DB2'!H:H, 'DB2'!V:V), _xlfn.XLOOKUP(_xlpm.val, 'DB2'!I:I, 'DB2'!V:V) ), IF(OR(_xlpm.result="", _xlpm.result=0), "", _xlpm.result) ) -> KL. CHOI | H25: =_xlfn.LET( _xlpm.val, TRIM(LEFT(D25, IFERROR(FIND(CHAR(10), D25)-1, LEN(D25)))), _xlpm.result, IFERROR( _xlfn.XLOOKUP(_xlpm.val, 'DB2'!H:H, 'DB2'!S:S), _xlfn.XLOOKUP(_xlpm.val, 'DB2'!I:I, 'DB2'!S:S) ), IF(OR(_xlpm.result="", _xlpm.result=0), "", _xlpm.result) ) -> JM. YOUN | I25: Valid | M25: CLOSED | N25: 46238 | O25: SONANGOL | P25: 5 | Q25: 0 | R25: TANJUNG PELEPAS | S25: CLOSED | T25: 45992 | U25: PERTAMINA | V25: 4 | W25: 0 | X25: PARADIP | Y25: CLOSED | Z25: 45904 | AA25: ADNOC | AB25: 11 | AC25: 0 | AD25: RUWAIS | AE25: CLOSED | AF25: 45822 | AG25: ADNOC | AH25: 7 | AI25: 0 | AJ25: SOHAR | AK25: CLOSED | AL25: 45719 | AM25: ENOC | AN25: 12 | AO25: 0 | AP25: SINGAPORE
B26: 2012 | C26: 19 | D26: MADAGASCAR PROSPERITY | E26: VSU | F26: =IFERROR(INDEX('DB2'!U:U, MATCH(G26, 'DB2'!V:V, 0)), "") -> TRMT2 | G26: =_xlfn.LET( _xlpm.val, TRIM(LEFT(D26, IFERROR(FIND(CHAR(10), D26)-1, LEN(D26)))), _xlpm.result, IFERROR( _xlfn.XLOOKUP(_xlpm.val, 'DB2'!H:H, 'DB2'!V:V), _xlfn.XLOOKUP(_xlpm.val, 'DB2'!I:I, 'DB2'!V:V) ), IF(OR(_xlpm.result="", _xlpm.result=0), "", _xlpm.result) ) -> YJ. JEON | H26: =_xlfn.LET( _xlpm.val, TRIM(LEFT(D26, IFERROR(FIND(CHAR(10), D26)-1, LEN(D26)))), _xlpm.result, IFERROR( _xlfn.XLOOKUP(_xlpm.val, 'DB2'!H:H, 'DB2'!S:S), _xlfn.XLOOKUP(_xlpm.val, 'DB2'!I:I, 'DB2'!S:S) ), IF(OR(_xlpm.result="", _xlpm.result=0), "", _xlpm.result) ) -> HR. KIM | I26: Valid | M26: CLOSED | N26: 46153 | O26: PETROVIETNAM | P26: 8 | Q26: 0 | R26: GOLA | S26: CLOSED | T26: 46035 | U26: ILPOM | V26: 5 | W26: 0 | X26: GOLA
B27: 2011 | C27: 20 | D27: MALAYSIA PROSPERITY | E27: SNGY | F27: =IFERROR(INDEX('DB2'!U:U, MATCH(G27, 'DB2'!V:V, 0)), "") -> TRMT1 | G27: =_xlfn.LET( _xlpm.val, TRIM(LEFT(D27, IFERROR(FIND(CHAR(10), D27)-1, LEN(D27)))), _xlpm.result, IFERROR( _xlfn.XLOOKUP(_xlpm.val, 'DB2'!H:H, 'DB2'!V:V), _xlfn.XLOOKUP(_xlpm.val, 'DB2'!I:I, 'DB2'!V:V) ), IF(OR(_xlpm.result="", _xlpm.result=0), "", _xlpm.result) ) -> MS. KANG | H27: =_xlfn.LET( _xlpm.val, TRIM(LEFT(D27, IFERROR(FIND(CHAR(10), D27)-1, LEN(D27)))), _xlpm.result, IFERROR( _xlfn.XLOOKUP(_xlpm.val, 'DB2'!H:H, 'DB2'!S:S), _xlfn.XLOOKUP(_xlpm.val, 'DB2'!I:I, 'DB2'!S:S) ), IF(OR(_xlpm.result="", _xlpm.result=0), "", _xlpm.result) ) -> TW. HWANG | I27: Valid | M27: OPEN OBS | N27: 46209 | O27: ECOPETROL | P27: 5 | Q27: 1 | R27: FUJAIRAH | S27: CLOSED | T27: 46170 | U27: PERTAMINA | V27: 5 | W27: 0 | X27: FUJAIRAH | Y27: CLOSED | Z27: 46080 | AA27: ENOC | AB27: 3 | AC27: 0 | AD27: SRI LANKA
B28: 2010 | C28: 21 | D28: GERMANY B | E28: FLEET | F28: =IFERROR(INDEX('DB2'!U:U, MATCH(G28, 'DB2'!V:V, 0)), "") -> TRMT1 | G28: =_xlfn.LET( _xlpm.val, TRIM(LEFT(D28, IFERROR(FIND(CHAR(10), D28)-1, LEN(D28)))), _xlpm.result, IFERROR( _xlfn.XLOOKUP(_xlpm.val, 'DB2'!H:H, 'DB2'!V:V), _xlfn.XLOOKUP(_xlpm.val, 'DB2'!I:I, 'DB2'!V:V) ), IF(OR(_xlpm.result="", _xlpm.result=0), "", _xlpm.result) ) -> MS. KANG | H28: =_xlfn.LET( _xlpm.val, TRIM(LEFT(D28, IFERROR(FIND(CHAR(10), D28)-1, LEN(D28)))), _xlpm.result, IFERROR( _xlfn.XLOOKUP(_xlpm.val, 'DB2'!H:H, 'DB2'!S:S), _xlfn.XLOOKUP(_xlpm.val, 'DB2'!I:I, 'DB2'!S:S) ), IF(OR(_xlpm.result="", _xlpm.result=0), "", _xlpm.result) ) -> YN. PARK | M28: CLOSED | N28: 46265 | O28: TOTAL | P28: 13 | Q28: 0 | R28: LIANYUGANG
B29: 2010 | C29: 22 | D29: TANZANIA PROSPERITY | E29: SNGY | F29: =IFERROR(INDEX('DB2'!U:U, MATCH(G29, 'DB2'!V:V, 0)), "") -> TRMT1 | G29: =_xlfn.LET( _xlpm.val, TRIM(LEFT(D29, IFERROR(FIND(CHAR(10), D29)-1, LEN(D29)))), _xlpm.result, IFERROR( _xlfn.XLOOKUP(_xlpm.val, 'DB2'!H:H, 'DB2'!V:V), _xlfn.XLOOKUP(_xlpm.val, 'DB2'!I:I, 'DB2'!V:V) ), IF(OR(_xlpm.result="", _xlpm.result=0), "", _xlpm.result) ) -> JH. YANG | H29: =_xlfn.LET( _xlpm.val, TRIM(LEFT(D29, IFERROR(FIND(CHAR(10), D29)-1, LEN(D29)))), _xlpm.result, IFERROR( _xlfn.XLOOKUP(_xlpm.val, 'DB2'!H:H, 'DB2'!S:S), _xlfn.XLOOKUP(_xlpm.val, 'DB2'!I:I, 'DB2'!S:S) ), IF(OR(_xlpm.result="", _xlpm.result=0), "", _xlpm.result) ) -> HS. CHO | I29: Valid | M29: CLOSED | N29: 46262 | O29: TOTAL | P29: 4 | Q29: 0 | R29: SOHAR | S29: OPEN OBS | T29: 46143 | U29: ENOC | V29: 13 | W29: 1 | X29: FUJAIRAH
B30: 2010 | C30: 23 | D30: ROTTERDAM ENERGY | E30: FLEET | F30: =IFERROR(INDEX('DB2'!U:U, MATCH(G30, 'DB2'!V:V, 0)), "") -> TRMT1 | G30: =_xlfn.LET( _xlpm.val, TRIM(LEFT(D30, IFERROR(FIND(CHAR(10), D30)-1, LEN(D30)))), _xlpm.result, IFERROR( _xlfn.XLOOKUP(_xlpm.val, 'DB2'!H:H, 'DB2'!V:V), _xlfn.XLOOKUP(_xlpm.val, 'DB2'!I:I, 'DB2'!V:V) ), IF(OR(_xlpm.result="", _xlpm.result=0), "", _xlpm.result) ) -> MS. KANG | H30: =_xlfn.LET( _xlpm.val, TRIM(LEFT(D30, IFERROR(FIND(CHAR(10), D30)-1, LEN(D30)))), _xlpm.result, IFERROR( _xlfn.XLOOKUP(_xlpm.val, 'DB2'!H:H, 'DB2'!S:S), _xlfn.XLOOKUP(_xlpm.val, 'DB2'!I:I, 'DB2'!S:S) ), IF(OR(_xlpm.result="", _xlpm.result=0), "", _xlpm.result) ) -> MJ. CHOI | I30: Not Valid | M30: CLOSED | N30: 46156 | O30: MOH | P30: 3 | Q30: 0 | R30: SHARJAH | S30: OPEN OBS | T30: 46076 | U30: ENOC | X30: KHOR FAKKAN
B31: 2011 | C31: 24 | D31: SRI LANKA PROSPERITY | E31: CSM | F31: =IFERROR(INDEX('DB2'!U:U, MATCH(G31, 'DB2'!V:V, 0)), "") -> TRMT1 | G31: =_xlfn.LET( _xlpm.val, TRIM(LEFT(D31, IFERROR(FIND(CHAR(10), D31)-1, LEN(D31)))), _xlpm.result, IFERROR( _xlfn.XLOOKUP(_xlpm.val, 'DB2'!H:H, 'DB2'!V:V), _xlfn.XLOOKUP(_xlpm.val, 'DB2'!I:I, 'DB2'!V:V) ), IF(OR(_xlpm.result="", _xlpm.result=0), "", _xlpm.result) ) -> JH. YANG | H31: =_xlfn.LET( _xlpm.val, TRIM(LEFT(D31, IFERROR(FIND(CHAR(10), D31)-1, LEN(D31)))), _xlpm.result, IFERROR( _xlfn.XLOOKUP(_xlpm.val, 'DB2'!H:H, 'DB2'!S:S), _xlfn.XLOOKUP(_xlpm.val, 'DB2'!I:I, 'DB2'!S:S) ), IF(OR(_xlpm.result="", _xlpm.result=0), "", _xlpm.result) ) -> CHAN HEO | I31: Valid | M31: CLOSED | N31: 46200 | O31: ADNOC | P31: 13 | Q31: 0 | R31: AIN SUKHNA | S31: CLOSED | T31: 46121 | U31: P66 | V31: 17 | W31: 0 | X31: SINGAPORE
B32: 2011 | C32: 25 | D32: THAILAND PROSPERITY | E32: FLEET | F32: =IFERROR(INDEX('DB2'!U:U, MATCH(G32, 'DB2'!V:V, 0)), "") -> TRMT1 | G32: =_xlfn.LET( _xlpm.val, TRIM(LEFT(D32, IFERROR(FIND(CHAR(10), D32)-1, LEN(D32)))), _xlpm.result, IFERROR( _xlfn.XLOOKUP(_xlpm.val, 'DB2'!H:H, 'DB2'!V:V), _xlfn.XLOOKUP(_xlpm.val, 'DB2'!I:I, 'DB2'!V:V) ), IF(OR(_xlpm.result="", _xlpm.result=0), "", _xlpm.result) ) -> MS. KANG | H32: =_xlfn.LET( _xlpm.val, TRIM(LEFT(D32, IFERROR(FIND(CHAR(10), D32)-1, LEN(D32)))), _xlpm.result, IFERROR( _xlfn.XLOOKUP(_xlpm.val, 'DB2'!H:H, 'DB2'!S:S), _xlfn.XLOOKUP(_xlpm.val, 'DB2'!I:I, 'DB2'!S:S) ), IF(OR(_xlpm.result="", _xlpm.result=0), "", _xlpm.result) ) -> DE. PARK | I32: Valid | M32: OPEN OBS | N32: 46239 | O32: IDEMITSU | P32: 5 | Q32: 5 | R32: CARTAGENA | S32: CLOSED | T32: 46125 | U32: PETRON | V32: 6 | W32: 0 | X32: BATAAN | Y32: CLOSED | Z32: 46099 | AA32: KOCH | AD32: FUJAIRAH
B33: 2010 | C33: 26 | D33: PLATA WEST | E33: CSM | F33: =IFERROR(INDEX('DB2'!U:U, MATCH(G33, 'DB2'!V:V, 0)), "") -> TRMT2 | G33: =_xlfn.LET( _xlpm.val, TRIM(LEFT(D33, IFERROR(FIND(CHAR(10), D33)-1, LEN(D33)))), _xlpm.result, IFERROR( _xlfn.XLOOKUP(_xlpm.val, 'DB2'!H:H, 'DB2'!V:V), _xlfn.XLOOKUP(_xlpm.val, 'DB2'!I:I, 'DB2'!V:V) ), IF(OR(_xlpm.result="", _xlpm.result=0), "", _xlpm.result) ) -> YJ. JEON | H33: =_xlfn.LET( _xlpm.val, TRIM(LEFT(D33, IFERROR(FIND(CHAR(10), D33)-1, LEN(D33)))), _xlpm.result, IFERROR( _xlfn.XLOOKUP(_xlpm.val, 'DB2'!H:H, 'DB2'!S:S), _xlfn.XLOOKUP(_xlpm.val, 'DB2'!I:I, 'DB2'!S:S) ), IF(OR(_xlpm.result="", _xlpm.result=0), "", _xlpm.result) ) -> SY. RYU | I33: Valid | M33: CLOSED | N33: 46223 | O33: PETROVIETNAM | P33: 5 | Q33: 0 | R33: ANTIFER, FRANCE | S33: CLOSED | T33: 46080 | U33: ENOC | V33: 0 | W33: 0 | X33: COLOMBO | Y33: CLOSED | Z33: 46129 | AA33: ECOPETROL | AB33: 6 | AC33: 0 | AD33: YOSU | AE33: CLOSED | AF33: 46023 | AG33: PERTAMINA | AH33: 3 | AI33: 0 | AJ33: SINGAPORE | AK33: CLOSED | AL33: 45920 | AM33: PETRON | AN33: 2 | AO33: 0 | AP33: SINGAPORE | AQ33: CLOSED | AR33: 45762 | AS33: PETROVIET | AT33: 18 | AU33: 0 | AV33: VADINAR | AW33: CLOSED | AX33: 45628 | AY33: MOH | AZ33: 14 | BA33: 0 | BB33: VADINAR | BC33: CLOSED | BD33: 45444 | BE33: VIVA | BF33: 4 | BG33: 0 | BH33: DAESAN
B34: 2010 | C34: 27 | D34: PLATA EAST | E34: CSM | F34: =IFERROR(INDEX('DB2'!U:U, MATCH(G34, 'DB2'!V:V, 0)), "") -> TRMT2 | G34: =_xlfn.LET( _xlpm.val, TRIM(LEFT(D34, IFERROR(FIND(CHAR(10), D34)-1, LEN(D34)))), _xlpm.result, IFERROR( _xlfn.XLOOKUP(_xlpm.val, 'DB2'!H:H, 'DB2'!V:V), _xlfn.XLOOKUP(_xlpm.val, 'DB2'!I:I, 'DB2'!V:V) ), IF(OR(_xlpm.result="", _xlpm.result=0), "", _xlpm.result) ) -> YJ. JEON | H34: =_xlfn.LET( _xlpm.val, TRIM(LEFT(D34, IFERROR(FIND(CHAR(10), D34)-1, LEN(D34)))), _xlpm.result, IFERROR( _xlfn.XLOOKUP(_xlpm.val, 'DB2'!H:H, 'DB2'!S:S), _xlfn.XLOOKUP(_xlpm.val, 'DB2'!I:I, 'DB2'!S:S) ), IF(OR(_xlpm.result="", _xlpm.result=0), "", _xlpm.result) ) -> ROY. HA | I34: Valid | M34: CLOSED | N34: 46291 | O34: SONANGOL | P34: 9 | R34: ZHOUSAN, CHINA | S34: CLOSED | T34: 46105 | U34: PETRON | V34: 5 | W34: 0 | X34: SRIRACHA | Y34: CLOSED | Z34: 45971 | AA34: PETRON | AB34: 4 | AC34: 0 | AD34: YANGPU | AE34: CLOSED | AF34: 45855 | AG34: MOH | AH34: 9 | AI34: 0 | AJ34: ULSAN | AK34: CLOSED | AL34: 45655 | AM34: SARAS | AN34: 10 | AO34: 0 | AP34: SARROCH | AQ34: CLOSED | AR34: 45569 | AS34: PETROVIET | AT34: 9 | AU34: 0 | AV34: MALACCA | AW34: CLOSED | AX34: 45470 | AY34: VIVA | AZ34: 8 | BA34: 0 | BB34: LIANYUNGANG
A35: SWS.A | B35: 2009 | C35: 28 | D35: PERU PROSPERITY | E35: SNGY | F35: =IFERROR(INDEX('DB2'!U:U, MATCH(G35, 'DB2'!V:V, 0)), "") -> TRMT1 | G35: =_xlfn.LET( _xlpm.val, TRIM(LEFT(D35, IFERROR(FIND(CHAR(10), D35)-1, LEN(D35)))), _xlpm.result, IFERROR( _xlfn.XLOOKUP(_xlpm.val, 'DB2'!H:H, 'DB2'!V:V), _xlfn.XLOOKUP(_xlpm.val, 'DB2'!I:I, 'DB2'!V:V) ), IF(OR(_xlpm.result="", _xlpm.result=0), "", _xlpm.result) ) -> TW. CHOI | H35: =_xlfn.LET( _xlpm.val, TRIM(LEFT(D35, IFERROR(FIND(CHAR(10), D35)-1, LEN(D35)))), _xlpm.result, IFERROR( _xlfn.XLOOKUP(_xlpm.val, 'DB2'!H:H, 'DB2'!S:S), _xlfn.XLOOKUP(_xlpm.val, 'DB2'!I:I, 'DB2'!S:S) ), IF(OR(_xlpm.result="", _xlpm.result=0), "", _xlpm.result) ) -> IJ. YEOL | I35: Valid | M35: CLOSED | N35: 46255 | O35: TOTAL | P35: 7 | Q35: 0 | R35: Fujairah | S35: CLOSED | T35: 46143 | U35: ALMA PETROLI S.P.A. | V35: 5 | W35: 0 | X35: Fujaira
B36: 2010 | C36: 29 | D36: BRAZIL PROSPERITY | E36: FLEET | F36: =IFERROR(INDEX('DB2'!U:U, MATCH(G36, 'DB2'!V:V, 0)), "") -> TRMT1 | G36: =_xlfn.LET( _xlpm.val, TRIM(LEFT(D36, IFERROR(FIND(CHAR(10), D36)-1, LEN(D36)))), _xlpm.result, IFERROR( _xlfn.XLOOKUP(_xlpm.val, 'DB2'!H:H, 'DB2'!V:V), _xlfn.XLOOKUP(_xlpm.val, 'DB2'!I:I, 'DB2'!V:V) ), IF(OR(_xlpm.result="", _xlpm.result=0), "", _xlpm.result) ) -> TW. CHOI | H36: =_xlfn.LET( _xlpm.val, TRIM(LEFT(D36, IFERROR(FIND(CHAR(10), D36)-1, LEN(D36)))), _xlpm.result, IFERROR( _xlfn.XLOOKUP(_xlpm.val, 'DB2'!H:H, 'DB2'!S:S), _xlfn.XLOOKUP(_xlpm.val, 'DB2'!I:I, 'DB2'!S:S) ), IF(OR(_xlpm.result="", _xlpm.result=0), "", _xlpm.result) ) -> HS. LEE | I36: Valid | M36: OPEN OBS | N36: 46292 | O36: ENOC | P36: 6 | Q36: 6 | R36: ROTTERDAM | S36: CLOSED | T36: 46191 | U36: EQUINOR | V36: 13 | W36: 0 | X36: ROTTERDAM | Y36: CLOSED | Z36: 46123 | AA36: IMT | AB36: 1 | AC36: 0 | AD36: FALCONARA | AE36: CLOSED | AF36: 46075 | AG36: IDEMITSU | AH36: 2 | AI36: 0 | AJ36: SINGAPORE
A37: SWS.B | B37: 2011 | C37: 30 | D37: EGYPT PROSPERITY | E37: FLEET | F37: TRMT1 | G37: =_xlfn.LET( _xlpm.val, TRIM(LEFT(D37, IFERROR(FIND(CHAR(10), D37)-1, LEN(D37)))), _xlpm.result, IFERROR( _xlfn.XLOOKUP(_xlpm.val, 'DB2'!H:H, 'DB2'!V:V), _xlfn.XLOOKUP(_xlpm.val, 'DB2'!I:I, 'DB2'!V:V) ), IF(OR(_xlpm.result="", _xlpm.result=0), "", _xlpm.result) ) -> MS. KANG | H37: =_xlfn.LET( _xlpm.val, TRIM(LEFT(D37, IFERROR(FIND(CHAR(10), D37)-1, LEN(D37)))), _xlpm.result, IFERROR( _xlfn.XLOOKUP(_xlpm.val, 'DB2'!H:H, 'DB2'!S:S), _xlfn.XLOOKUP(_xlpm.val, 'DB2'!I:I, 'DB2'!S:S) ), IF(OR(_xlpm.result="", _xlpm.result=0), "", _xlpm.result) ) -> YN. PARK | I37: Valid | M37: CLOSED | N37: 46250 | O37: ENOC | P37: 4 | Q37: 0 | R37: OMAN | S37: CLOSED | T37: 46009 | U37: P66 | V37: 4 | W37: 0 | X37: SINGAPORE
B38: 2011 | C38: 31 | D38: RIO DE JANEIRO ENERGY | E38: FLEET | F38: =IFERROR(INDEX('DB2'!U:U, MATCH(G38, 'DB2'!V:V, 0)), "") -> TRMT1 | G38: =_xlfn.LET( _xlpm.val, TRIM(LEFT(D38, IFERROR(FIND(CHAR(10), D38)-1, LEN(D38)))), _xlpm.result, IFERROR( _xlfn.XLOOKUP(_xlpm.val, 'DB2'!H:H, 'DB2'!V:V), _xlfn.XLOOKUP(_xlpm.val, 'DB2'!I:I, 'DB2'!V:V) ), IF(OR(_xlpm.result="", _xlpm.result=0), "", _xlpm.result) ) -> MS. KANG | H38: =_xlfn.LET( _xlpm.val, TRIM(LEFT(D38, IFERROR(FIND(CHAR(10), D38)-1, LEN(D38)))), _xlpm.result, IFERROR( _xlfn.XLOOKUP(_xlpm.val, 'DB2'!H:H, 'DB2'!S:S), _xlfn.XLOOKUP(_xlpm.val, 'DB2'!I:I, 'DB2'!S:S) ), IF(OR(_xlpm.result="", _xlpm.result=0), "", _xlpm.result) ) -> HK. SOHN | I38: Valid | M38: CLOSED | N38: 46197 | O38: MARATHON | P38: 5 | Q38: 0 | R38: JIEYANG | S38: OPEN OBS | T38: 46115 | U38: SHELL | V38: 6 | W38: 1 | X38: LINGGI | Y38: CLOSED | Z38: 45955 | AA38: P66 | AD38: LAGOS
B39: 2012 | C39: 32 | D39: VLCC STEPHANIE | F39: =IFERROR(INDEX('DB2'!U:U, MATCH(G39, 'DB2'!V:V, 0)), "") -> TRMT1 | G39: =_xlfn.LET( _xlpm.val, TRIM(LEFT(D39, IFERROR(FIND(CHAR(10), D39)-1, LEN(D39)))), _xlpm.result, IFERROR( _xlfn.XLOOKUP(_xlpm.val, 'DB2'!H:H, 'DB2'!V:V), _xlfn.XLOOKUP(_xlpm.val, 'DB2'!I:I, 'DB2'!V:V) ), IF(OR(_xlpm.result="", _xlpm.result=0), "", _xlpm.result) ) -> TW. CHOI | H39: =_xlfn.LET( _xlpm.val, TRIM(LEFT(D39, IFERROR(FIND(CHAR(10), D39)-1, LEN(D39)))), _xlpm.result, IFERROR( _xlfn.XLOOKUP(_xlpm.val, 'DB2'!H:H, 'DB2'!S:S), _xlfn.XLOOKUP(_xlpm.val, 'DB2'!I:I, 'DB2'!S:S) ), IF(OR(_xlpm.result="", _xlpm.result=0), "", _xlpm.result) )
A40: SWS.C | B40: 2013 | C40: 33 | D40: SINGAPORE SPIRIT | E40: FLEET | F40: =IFERROR(INDEX('DB2'!U:U, MATCH(G40, 'DB2'!V:V, 0)), "") -> TRMT1 | G40: =_xlfn.LET( _xlpm.val, TRIM(LEFT(D40, IFERROR(FIND(CHAR(10), D40)-1, LEN(D40)))), _xlpm.result, IFERROR( _xlfn.XLOOKUP(_xlpm.val, 'DB2'!H:H, 'DB2'!V:V), _xlfn.XLOOKUP(_xlpm.val, 'DB2'!I:I, 'DB2'!V:V) ), IF(OR(_xlpm.result="", _xlpm.result=0), "", _xlpm.result) ) -> TW. CHOI | H40: =_xlfn.LET( _xlpm.val, TRIM(LEFT(D40, IFERROR(FIND(CHAR(10), D40)-1, LEN(D40)))), _xlpm.result, IFERROR( _xlfn.XLOOKUP(_xlpm.val, 'DB2'!H:H, 'DB2'!S:S), _xlfn.XLOOKUP(_xlpm.val, 'DB2'!I:I, 'DB2'!S:S) ), IF(OR(_xlpm.result="", _xlpm.result=0), "", _xlpm.result) ) | I40: Valid | M40: OPEN OBS | N40: 46238 | O40: IMT | P40: 4 | Q40: 4 | R40: AIN SUKHNA | S40: CLOSED | T40: 46210 | U40: PETROVIETNAM | V40: 2 | W40: 0 | X40: SINGAPORE
A41: SWS.D | B41: 2017 | C41: 34 | D41: CONGO PROSPERITY | E41: CSM | F41: =IFERROR(INDEX('DB2'!U:U, MATCH(G41, 'DB2'!V:V, 0)), "") -> TRMT1 | G41: =_xlfn.LET( _xlpm.val, TRIM(LEFT(D41, IFERROR(FIND(CHAR(10), D41)-1, LEN(D41)))), _xlpm.result, IFERROR( _xlfn.XLOOKUP(_xlpm.val, 'DB2'!H:H, 'DB2'!V:V), _xlfn.XLOOKUP(_xlpm.val, 'DB2'!I:I, 'DB2'!V:V) ), IF(OR(_xlpm.result="", _xlpm.result=0), "", _xlpm.result) ) -> NIKOS | H41: =_xlfn.LET( _xlpm.val, TRIM(LEFT(D41, IFERROR(FIND(CHAR(10), D41)-1, LEN(D41)))), _xlpm.result, IFERROR( _xlfn.XLOOKUP(_xlpm.val, 'DB2'!H:H, 'DB2'!S:S), _xlfn.XLOOKUP(_xlpm.val, 'DB2'!I:I, 'DB2'!S:S) ), IF(OR(_xlpm.result="", _xlpm.result=0), "", _xlpm.result) ) | I41: Not Valid | M41: OPEN OBS | N41: 46249 | O41: TOTAL | P41: 6 | Q41: 3 | R41: LIANYUNGANG, CHINA | S41: OPEN OBS | T41: 46182 | U41: VIVA | V41: 4 | W41: 1 | X41: SINGAPORE
A42: NEW TIMES | B42: 2012 | C42: 35 | D42: CYPRUS PROSPERITY | E42: SNGY | F42: =IFERROR(INDEX('DB2'!U:U, MATCH(G42, 'DB2'!V:V, 0)), "") -> TRMT3 | G42: YS. SON | H42: =_xlfn.LET( _xlpm.val, TRIM(LEFT(D42, IFERROR(FIND(CHAR(10), D42)-1, LEN(D42)))), _xlpm.result, IFERROR( _xlfn.XLOOKUP(_xlpm.val, 'DB2'!H:H, 'DB2'!S:S), _xlfn.XLOOKUP(_xlpm.val, 'DB2'!I:I, 'DB2'!S:S) ), IF(OR(_xlpm.result="", _xlpm.result=0), "", _xlpm.result) ) -> TW. HWANG | I42: Not Valid | M42: OPEN OBS | N42: 46123 | O42: VIVO ENERGY | P42: 7 | Q42: 3 | R42: Mina Al Fahl, Oman | S42: CLOSED | T42: 46060 | U42: PERTAMINA | V42: 5 | W42: 3 | X42: SINGAPORE
B43: 2013 | C43: 36 | D43: INDONESIA PROSPERITY | E43: CSM | F43: =IFERROR(INDEX('DB2'!U:U, MATCH(G43, 'DB2'!V:V, 0)), "") -> TRMT3 | G43: =_xlfn.LET( _xlpm.val, TRIM(LEFT(D43, IFERROR(FIND(CHAR(10), D43)-1, LEN(D43)))), _xlpm.result, IFERROR( _xlfn.XLOOKUP(_xlpm.val, 'DB2'!H:H, 'DB2'!V:V), _xlfn.XLOOKUP(_xlpm.val, 'DB2'!I:I, 'DB2'!V:V) ), IF(OR(_xlpm.result="", _xlpm.result=0), "", _xlpm.result) ) -> YS. SON | H43: =_xlfn.LET( _xlpm.val, TRIM(LEFT(D43, IFERROR(FIND(CHAR(10), D43)-1, LEN(D43)))), _xlpm.result, IFERROR( _xlfn.XLOOKUP(_xlpm.val, 'DB2'!H:H, 'DB2'!S:S), _xlfn.XLOOKUP(_xlpm.val, 'DB2'!I:I, 'DB2'!S:S) ), IF(OR(_xlpm.result="", _xlpm.result=0), "", _xlpm.result) ) -> SE. PARK | I43: Valid | M43: OPEN OBS | N43: 46263 | O43: ECOPETROL | P43: 7 | Q43: 6 | R43: Sohar | S43: CLOSED | T43: 46260 | U43: ECOPETROL | V43: 0 | W43: 0 | X43: SOHAR | Y43: CLOSED | Z43: 46260 | AA43: ECOPETROL | AB43: 0 | AC43: 0 | AD43: Sohar, Oman | AE43: OPEN OBS | AF43: 46203 | AG43: IDEMITSU | AH43: 4 | AI43: 2 | AJ43: MUMBAI | AK43: CLOSED | AL43: 46092 | AM43: MOH | AN43: 4 | AO43: 0 | AP43: SINGAPORE
A44: BOHAI | B44: 2011 | C44: 37 | D44: LONG WIND | F44: TRMT3
B45: 2011 | C45: 38 | D45: HIPPOLYTA | F45: TRMT3
A46: HHI. A | B46: 2008 | C46: 39 | D46: BULGARIA PROSPERITY | E46: FLEET | F46: =IFERROR(INDEX('DB2'!U:U, MATCH(G46, 'DB2'!V:V, 0)), "") -> TRMT1 | G46: =_xlfn.LET( _xlpm.val, TRIM(LEFT(D46, IFERROR(FIND(CHAR(10), D46)-1, LEN(D46)))), _xlpm.result, IFERROR( _xlfn.XLOOKUP(_xlpm.val, 'DB2'!H:H, 'DB2'!V:V), _xlfn.XLOOKUP(_xlpm.val, 'DB2'!I:I, 'DB2'!V:V) ), IF(OR(_xlpm.result="", _xlpm.result=0), "", _xlpm.result) ) -> JH. JEONG | H46: =_xlfn.LET( _xlpm.val, TRIM(LEFT(D46, IFERROR(FIND(CHAR(10), D46)-1, LEN(D46)))), _xlpm.result, IFERROR( _xlfn.XLOOKUP(_xlpm.val, 'DB2'!H:H, 'DB2'!S:S), _xlfn.XLOOKUP(_xlpm.val, 'DB2'!I:I, 'DB2'!S:S) ), IF(OR(_xlpm.result="", _xlpm.result=0), "", _xlpm.result) ) -> HS. CHO | I46: Valid | M46: OPEN OBS | N46: 46261 | O46: P66 | P46: 3 | Q46: 1 | R46: SOHAR | S46: CLOSED | T46: 46162 | U46: IDEMITSU | V46: 4 | W46: 0 | X46: SINGAPORE
B47: 2009 | C47: 40 | D47: ARGENTINA B | E47: SNGY | F47: =IFERROR(INDEX('DB2'!U:U, MATCH(G47, 'DB2'!V:V, 0)), "") -> TRMT3 | G47: =_xlfn.LET( _xlpm.val, TRIM(LEFT(D47, IFERROR(FIND(CHAR(10), D47)-1, LEN(D47)))), _xlpm.result, IFERROR( _xlfn.XLOOKUP(_xlpm.val, 'DB2'!H:H, 'DB2'!V:V), _xlfn.XLOOKUP(_xlpm.val, 'DB2'!I:I, 'DB2'!V:V) ), IF(OR(_xlpm.result="", _xlpm.result=0), "", _xlpm.result) ) -> HM. KIM | H47: =_xlfn.LET( _xlpm.val, TRIM(LEFT(D47, IFERROR(FIND(CHAR(10), D47)-1, LEN(D47)))), _xlpm.result, IFERROR( _xlfn.XLOOKUP(_xlpm.val, 'DB2'!H:H, 'DB2'!S:S), _xlfn.XLOOKUP(_xlpm.val, 'DB2'!I:I, 'DB2'!S:S) ), IF(OR(_xlpm.result="", _xlpm.result=0), "", _xlpm.result) ) -> TW. HWANG | I47: Not Valid | M47: CLOSED | N47: 46097 | O47: ENOC | P47: 5 | Q47: 0 | R47: KHOR FAKKAN
B48: 2009 | C48: 41 | D48: MALTA PROSPERITY | E48: FLEET | F48: =IFERROR(INDEX('DB2'!U:U, MATCH(G48, 'DB2'!V:V, 0)), "") -> TRMT1 | G48: =_xlfn.LET( _xlpm.val, TRIM(LEFT(D48, IFERROR(FIND(CHAR(10), D48)-1, LEN(D48)))), _xlpm.result, IFERROR( _xlfn.XLOOKUP(_xlpm.val, 'DB2'!H:H, 'DB2'!V:V), _xlfn.XLOOKUP(_xlpm.val, 'DB2'!I:I, 'DB2'!V:V) ), IF(OR(_xlpm.result="", _xlpm.result=0), "", _xlpm.result) ) -> JH. JEONG | H48: =_xlfn.LET( _xlpm.val, TRIM(LEFT(D48, IFERROR(FIND(CHAR(10), D48)-1, LEN(D48)))), _xlpm.result, IFERROR( _xlfn.XLOOKUP(_xlpm.val, 'DB2'!H:H, 'DB2'!S:S), _xlfn.XLOOKUP(_xlpm.val, 'DB2'!I:I, 'DB2'!S:S) ), IF(OR(_xlpm.result="", _xlpm.result=0), "", _xlpm.result) ) -> SH, OHN | I48: Valid | M48: CLOSED | N48: 46181 | O48: BASF | P48: 9 | Q48: 0 | R48: PACHI, GREECE | S48: CLOSED | T48: 46075 | U48: OMV | V48: 4 | W48: 0 | X48: SINGAPORE
B49: 2009 | C49: 42 | D49: IVORY COAST PROSPERITY | E49: FLEET | F49: =IFERROR(INDEX('DB2'!U:U, MATCH(G49, 'DB2'!V:V, 0)), "") -> TRMT1 | G49: =_xlfn.LET( _xlpm.val, TRIM(LEFT(D49, IFERROR(FIND(CHAR(10), D49)-1, LEN(D49)))), _xlpm.result, IFERROR( _xlfn.XLOOKUP(_xlpm.val, 'DB2'!H:H, 'DB2'!V:V), _xlfn.XLOOKUP(_xlpm.val, 'DB2'!I:I, 'DB2'!V:V) ), IF(OR(_xlpm.result="", _xlpm.result=0), "", _xlpm.result) ) -> MS. KANG | H49: =_xlfn.LET( _xlpm.val, TRIM(LEFT(D49, IFERROR(FIND(CHAR(10), D49)-1, LEN(D49)))), _xlpm.result, IFERROR( _xlfn.XLOOKUP(_xlpm.val, 'DB2'!H:H, 'DB2'!S:S), _xlfn.XLOOKUP(_xlpm.val, 'DB2'!I:I, 'DB2'!S:S) ), IF(OR(_xlpm.result="", _xlpm.result=0), "", _xlpm.result) ) -> HS. LEE | I49: Valid | M49: OPEN OBS | N49: 46241 | O49: ENOC | P49: 4 | Q49: 4 | R49: DAESAN | S49: CLOSED | T49: 46167 | U49: P66 | V49: 4 | W49: 0 | X49: DAESAN | Y49: CLOSED | Z49: 46119 | AA49: KOCH | AB49: 4 | AC49: 0 | AD49: SINGAPORE
A50: HHI. B | B50: 2010 | C50: 43 | D50: TOGO PROSPERITY | E50: FLEET | F50: =IFERROR(INDEX('DB2'!U:U, MATCH(G50, 'DB2'!V:V, 0)), "") -> TRMT1 | G50: =_xlfn.LET( _xlpm.val, TRIM(LEFT(D50, IFERROR(FIND(CHAR(10), D50)-1, LEN(D50)))), _xlpm.result, IFERROR( _xlfn.XLOOKUP(_xlpm.val, 'DB2'!H:H, 'DB2'!V:V), _xlfn.XLOOKUP(_xlpm.val, 'DB2'!I:I, 'DB2'!V:V) ), IF(OR(_xlpm.result="", _xlpm.result=0), "", _xlpm.result) ) -> MS. KANG | H50: =_xlfn.LET( _xlpm.val, TRIM(LEFT(D50, IFERROR(FIND(CHAR(10), D50)-1, LEN(D50)))), _xlpm.result, IFERROR( _xlfn.XLOOKUP(_xlpm.val, 'DB2'!H:H, 'DB2'!S:S), _xlfn.XLOOKUP(_xlpm.val, 'DB2'!I:I, 'DB2'!S:S) ), IF(OR(_xlpm.result="", _xlpm.result=0), "", _xlpm.result) ) -> TW. HWANG | I50: Not Valid | M50: CLOSED | N50: 46095 | O50: IDEMITSU | P50: 3 | Q50: 0 | R50: SINGAPORE
A51: HHI. C | B51: 2010 | C51: 44 | D51: BALTIC LOYALTY | E51: CSM | F51: =IFERROR(INDEX('DB2'!U:U, MATCH(G51, 'DB2'!V:V, 0)), "") -> TRMT1 | G51: =_xlfn.LET( _xlpm.val, TRIM(LEFT(D51, IFERROR(FIND(CHAR(10), D51)-1, LEN(D51)))), _xlpm.result, IFERROR( _xlfn.XLOOKUP(_xlpm.val, 'DB2'!H:H, 'DB2'!V:V), _xlfn.XLOOKUP(_xlpm.val, 'DB2'!I:I, 'DB2'!V:V) ), IF(OR(_xlpm.result="", _xlpm.result=0), "", _xlpm.result) ) -> NIKOS | H51: =_xlfn.LET( _xlpm.val, TRIM(LEFT(D51, IFERROR(FIND(CHAR(10), D51)-1, LEN(D51)))), _xlpm.result, IFERROR( _xlfn.XLOOKUP(_xlpm.val, 'DB2'!H:H, 'DB2'!S:S), _xlfn.XLOOKUP(_xlpm.val, 'DB2'!I:I, 'DB2'!S:S) ), IF(OR(_xlpm.result="", _xlpm.result=0), "", _xlpm.result) ) -> SE. PARK | I51: Valid | M51: OPEN OBS | N51: 46268 | O51: ECOPETROL | P51: 7 | Q51: 7 | R51: MAOMING | S51: CLOSED | T51: 46193 | U51: VIVO ENERGY | V51: 5 | W51: 0 | X51: Kaohsiung | Y51: CLOSED | Z51: 46192 | AA51: VIVO | AB51: 5 | AC51: 0 | AD51: KAOHSIUNG | AE51: CLOSED | AF51: 46021 | AG51: PETROVIET | AH51: 7 | AI51: 0 | AJ51: ROTTERDAM | AK51: CLOSED | AL51: 45948 | AM51: P66 | AN51: 8 | AO51: 0 | AP51: PARADIP | AQ51: CLOSED | AR51: 45848 | AS51: ENOC | AT51: 10 | AU51: 0 | AV51: LONG BEACH | AW51: CLOSED | AX51: 45741 | AY51: MOH | AZ51: 6 | BA51: 0 | BB51: YEOSU
A52: HHI. D | B52: 2011 | C52: 45 | D52: GULF LOYALTY | E52: OMAN | F52: =IFERROR(INDEX('DB2'!U:U, MATCH(G52, 'DB2'!V:V, 0)), "") -> TRMT1 | G52: =_xlfn.LET( _xlpm.val, TRIM(LEFT(D52, IFERROR(FIND(CHAR(10), D52)-1, LEN(D52)))), _xlpm.result, IFERROR( _xlfn.XLOOKUP(_xlpm.val, 'DB2'!H:H, 'DB2'!V:V), _xlfn.XLOOKUP(_xlpm.val, 'DB2'!I:I, 'DB2'!V:V) ), IF(OR(_xlpm.result="", _xlpm.result=0), "", _xlpm.result) ) -> JH. YANG | H52: =_xlfn.LET( _xlpm.val, TRIM(LEFT(D52, IFERROR(FIND(CHAR(10), D52)-1, LEN(D52)))), _xlpm.result, IFERROR( _xlfn.XLOOKUP(_xlpm.val, 'DB2'!H:H, 'DB2'!S:S), _xlfn.XLOOKUP(_xlpm.val, 'DB2'!I:I, 'DB2'!S:S) ), IF(OR(_xlpm.result="", _xlpm.result=0), "", _xlpm.result) ) -> SI. YANG | I52: Valid | M52: CLOSED | N52: 46225 | O52: ADNOC | P52: 9 | Q52: 0 | R52: FUJAIRAH | S52: CLOSED | T52: 46121 | U52: IDEMITSU | V52: 7 | W52: 0 | X52: SINGAPORE | Y52: CLOSED | Z52: 45948 | AA52: EQUINOR | AB52: 7 | AC52: 0 | AD52: TARRAGONA | AE52: CLOSED | AF52: 45856 | AG52: MARATHON | AH52: 12 | AI52: 0 | AJ52: CORPUS CHIRSTI | AK52: CLOSED | AL52: 45652 | AM52: P66 | AN52: 5 | AO52: 0 | AP52: LAGOS | AQ52: CLOSED | AR52: 45482 | AS52: KOCH | AT52: 4 | AU52: 0 | AV52: KUALA LINGGI | AW52: CLOSED | AX52: 45377 | AY52: CHEVRON | AZ52: 8 | BA52: 0 | BB52: ROTTERDAM
B53: 2011 | C53: 46 | D53: CARIBBEAN LOYALTY | E53: CSM | F53: =IFERROR(INDEX('DB2'!U:U, MATCH(G53, 'DB2'!V:V, 0)), "") -> TRMT1 | G53: =_xlfn.LET( _xlpm.val, TRIM(LEFT(D53, IFERROR(FIND(CHAR(10), D53)-1, LEN(D53)))), _xlpm.result, IFERROR( _xlfn.XLOOKUP(_xlpm.val, 'DB2'!H:H, 'DB2'!V:V), _xlfn.XLOOKUP(_xlpm.val, 'DB2'!I:I, 'DB2'!V:V) ), IF(OR(_xlpm.result="", _xlpm.result=0), "", _xlpm.result) ) -> NIKOS | H53: =_xlfn.LET( _xlpm.val, TRIM(LEFT(D53, IFERROR(FIND(CHAR(10), D53)-1, LEN(D53)))), _xlpm.result, IFERROR( _xlfn.XLOOKUP(_xlpm.val, 'DB2'!H:H, 'DB2'!S:S), _xlfn.XLOOKUP(_xlpm.val, 'DB2'!I:I, 'DB2'!S:S) ), IF(OR(_xlpm.result="", _xlpm.result=0), "", _xlpm.result) ) -> HJ. LEE | I53: Valid | M53: OPEN OBS | N53: 46249 | O53: PETROVIETNAM | P53: 6 | Q53: 2 | R53: Sriracha | S53: CLOSED | T53: 46143 | U53: PETRON | V53: 3 | W53: 0 | X53: SRIRACHA, THAILAND | Y53: CLOSED | Z53: 46078 | AA53: ECOPETROL | AB53: 8 | AC53: 0 | AD53: KAOHSIUNG | AE53: CLOSED | AF53: 45904 | AG53: SONANGOL | AH53: 13 | AI53: 0 | AJ53: DALIAN | AK53: CLOSED | AL53: 45792 | AM53: PETRON | AN53: 3 | AO53: 0 | AP53: YANTAI | AQ53: CLOSED | AR53: 45649 | AS53: PERTAMINA | AT53: 5 | AU53: 0 | AV53: VADINAR | AW53: CLOSED | AX53: 45449 | AY53: HENGYUAN | AZ53: 4 | BA53: 0 | BB53: ROTTERDAM | BC53: CLOSED | BD53: 45293 | BE53: KMG | BF53: 3 | BG53: 0 | BH53: SIKKA
A54: HHI. E | B54: 2011 | C54: 47 | D54: SOUTH AFRICA PROSPERITY | E54: CSM | F54: TRMT3 | G54: YS.SON | H54: =_xlfn.LET( _xlpm.val, TRIM(LEFT(D54, IFERROR(FIND(CHAR(10), D54)-1, LEN(D54)))), _xlpm.result, IFERROR( _xlfn.XLOOKUP(_xlpm.val, 'DB2'!H:H, 'DB2'!S:S), _xlfn.XLOOKUP(_xlpm.val, 'DB2'!I:I, 'DB2'!S:S) ), IF(OR(_xlpm.result="", _xlpm.result=0), "", _xlpm.result) ) -> ROY. HA | I54: Valid | M54: OPEN OBS | N54: 46177 | O54: ECOPETROL | P54: 7 | Q54: 1 | R54: Sikka | S54: OPEN OBS | T54: 46142 | U54: VIVA | V54: 6 | W54: 2 | X54: SINGAPORE
A55: HHI. F | B55: 2012 | C55: 48 | D55: JAMAICA PROSPERITY | E55: CSM | F55: =IFERROR(INDEX('DB2'!U:U, MATCH(G55, 'DB2'!V:V, 0)), "") -> TRMT1 | G55: =_xlfn.LET( _xlpm.val, TRIM(LEFT(D55, IFERROR(FIND(CHAR(10), D55)-1, LEN(D55)))), _xlpm.result, IFERROR( _xlfn.XLOOKUP(_xlpm.val, 'DB2'!H:H, 'DB2'!V:V), _xlfn.XLOOKUP(_xlpm.val, 'DB2'!I:I, 'DB2'!V:V) ), IF(OR(_xlpm.result="", _xlpm.result=0), "", _xlpm.result) ) -> YS. YOUN | H55: =_xlfn.LET( _xlpm.val, TRIM(LEFT(D55, IFERROR(FIND(CHAR(10), D55)-1, LEN(D55)))), _xlpm.result, IFERROR( _xlfn.XLOOKUP(_xlpm.val, 'DB2'!H:H, 'DB2'!S:S), _xlfn.XLOOKUP(_xlpm.val, 'DB2'!I:I, 'DB2'!S:S) ), IF(OR(_xlpm.result="", _xlpm.result=0), "", _xlpm.result) ) -> CHAN HEO | I55: Valid | M55: CLOSED | N55: 46257 | O55: PETRONAS | P55: 6 | Q55: 0 | R55: LINGGI | S55: CLOSED | T55: 46146 | U55: MOH | V55: 3 | W55: 0 | X55: SINGAPORE
B56: 2012 | C56: 49 | D56: SWEDEN PROSPERITY | E56: CSM | F56: =IFERROR(INDEX('DB2'!U:U, MATCH(G56, 'DB2'!V:V, 0)), "") -> TRMT1 | G56: =_xlfn.LET( _xlpm.val, TRIM(LEFT(D56, IFERROR(FIND(CHAR(10), D56)-1, LEN(D56)))), _xlpm.result, IFERROR( _xlfn.XLOOKUP(_xlpm.val, 'DB2'!H:H, 'DB2'!V:V), _xlfn.XLOOKUP(_xlpm.val, 'DB2'!I:I, 'DB2'!V:V) ), IF(OR(_xlpm.result="", _xlpm.result=0), "", _xlpm.result) ) -> YS. YOUN | H56: =_xlfn.LET( _xlpm.val, TRIM(LEFT(D56, IFERROR(FIND(CHAR(10), D56)-1, LEN(D56)))), _xlpm.result, IFERROR( _xlfn.XLOOKUP(_xlpm.val, 'DB2'!H:H, 'DB2'!S:S), _xlfn.XLOOKUP(_xlpm.val, 'DB2'!I:I, 'DB2'!S:S) ), IF(OR(_xlpm.result="", _xlpm.result=0), "", _xlpm.result) ) -> CHAN HEO | I56: Valid | M56: OPEN OBS | N56: 46273 | O56: TOTAL | P56: 6 | Q56: 6 | R56: SOHAR | S56: CLOSED | T56: 46137 | U56: PETRON | V56: 3 | W56: 0 | X56: SINGAPORE
A57: HHI. G | B57: 2012 | C57: 50 | D57: BAHRAIN PROSPERITY | E57: SNGY | F57: =IFERROR(INDEX('DB2'!U:U, MATCH(G57, 'DB2'!V:V, 0)), "") -> TRMT3 | G57: =_xlfn.LET( _xlpm.val, TRIM(LEFT(D57, IFERROR(FIND(CHAR(10), D57)-1, LEN(D57)))), _xlpm.result, IFERROR( _xlfn.XLOOKUP(_xlpm.val, 'DB2'!H:H, 'DB2'!V:V), _xlfn.XLOOKUP(_xlpm.val, 'DB2'!I:I, 'DB2'!V:V) ), IF(OR(_xlpm.result="", _xlpm.result=0), "", _xlpm.result) ) -> HM. KIM | H57: =_xlfn.LET( _xlpm.val, TRIM(LEFT(D57, IFERROR(FIND(CHAR(10), D57)-1, LEN(D57)))), _xlpm.result, IFERROR( _xlfn.XLOOKUP(_xlpm.val, 'DB2'!H:H, 'DB2'!S:S), _xlfn.XLOOKUP(_xlpm.val, 'DB2'!I:I, 'DB2'!S:S) ), IF(OR(_xlpm.result="", _xlpm.result=0), "", _xlpm.result) ) -> JH. JO | I57: Not Valid | M57: CLOSED | N57: 46099 | O57: ECOPETROL | P57: 7 | Q57: 0 | R57: KHOR FAKKAN
A58: HHI. H | B58: 2013 | C58: 51 | D58: DUBAI ENERGY | E58: OSM | F58: =IFERROR(INDEX('DB2'!U:U, MATCH(G58, 'DB2'!V:V, 0)), "") -> TRMT3 | G58: =_xlfn.LET( _xlpm.val, TRIM(LEFT(D58, IFERROR(FIND(CHAR(10), D58)-1, LEN(D58)))), _xlpm.result, IFERROR( _xlfn.XLOOKUP(_xlpm.val, 'DB2'!H:H, 'DB2'!V:V), _xlfn.XLOOKUP(_xlpm.val, 'DB2'!I:I, 'DB2'!V:V) ), IF(OR(_xlpm.result="", _xlpm.result=0), "", _xlpm.result) ) -> HM. KIM | H58: =_xlfn.LET( _xlpm.val, TRIM(LEFT(D58, IFERROR(FIND(CHAR(10), D58)-1, LEN(D58)))), _xlpm.result, IFERROR( _xlfn.XLOOKUP(_xlpm.val, 'DB2'!H:H, 'DB2'!S:S), _xlfn.XLOOKUP(_xlpm.val, 'DB2'!I:I, 'DB2'!S:S) ), IF(OR(_xlpm.result="", _xlpm.result=0), "", _xlpm.result) ) -> JY. RO | I58: Not Valid | M58: OPEN OBS | N58: 46295 | O58: PETRON | P58: 6 | Q58: 6 | R58: QUANZHOU, CHINA
A59: HHI. I | B59: 2012 | C59: 52 | D59: ANGOLA B | E59: CSM | F59: =IFERROR(INDEX('DB2'!U:U, MATCH(G59, 'DB2'!V:V, 0)), "") -> TRMT3 | G59: CJ. LEE | H59: =_xlfn.LET( _xlpm.val, TRIM(LEFT(D59, IFERROR(FIND(CHAR(10), D59)-1, LEN(D59)))), _xlpm.result, IFERROR( _xlfn.XLOOKUP(_xlpm.val, 'DB2'!H:H, 'DB2'!S:S), _xlfn.XLOOKUP(_xlpm.val, 'DB2'!I:I, 'DB2'!S:S) ), IF(OR(_xlpm.result="", _xlpm.result=0), "", _xlpm.result) ) -> JH. JO | I59: Not Valid | M59: CLOSED | N59: 46105 | O59: VIVO | P59: 12 | Q59: 0 | R59: SINGAPORE
A60: HHI. J | B60: 2015 | C60: 53 | D60: MOZAMBIQUE B | E60: FLEET | F60: =IFERROR(INDEX('DB2'!U:U, MATCH(G60, 'DB2'!V:V, 0)), "") -> TRMT3 | G60: =_xlfn.LET( _xlpm.val, TRIM(LEFT(D60, IFERROR(FIND(CHAR(10), D60)-1, LEN(D60)))), _xlpm.result, IFERROR( _xlfn.XLOOKUP(_xlpm.val, 'DB2'!H:H, 'DB2'!V:V), _xlfn.XLOOKUP(_xlpm.val, 'DB2'!I:I, 'DB2'!V:V) ), IF(OR(_xlpm.result="", _xlpm.result=0), "", _xlpm.result) ) -> HM. KIM | H60: =_xlfn.LET( _xlpm.val, TRIM(LEFT(D60, IFERROR(FIND(CHAR(10), D60)-1, LEN(D60)))), _xlpm.result, IFERROR( _xlfn.XLOOKUP(_xlpm.val, 'DB2'!H:H, 'DB2'!S:S), _xlfn.XLOOKUP(_xlpm.val, 'DB2'!I:I, 'DB2'!S:S) ), IF(OR(_xlpm.result="", _xlpm.result=0), "", _xlpm.result) ) -> HC. CHUN | I60: Valid | M60: CLOSED | N60: 46265 | O60: TOTAL | P60: 3 | Q60: 0 | R60: LINGGI, MALAYSIA | S60: CLOSED | T60: 46134 | U60: BP | V60: 7 | W60: 0 | X60: SIKA, INDIA | Y60: CLOSED | Z60: 46097 | AA60: BASF | AB60: 5 | AC60: 0 | AD60: SINGAPORE
B61: 2016 | C61: 54 | D61: VIETNAM PROSPERITY | E61: CSM | F61: =IFERROR(INDEX('DB2'!U:U, MATCH(G61, 'DB2'!V:V, 0)), "") -> TRMT3 | G61: =_xlfn.LET( _xlpm.val, TRIM(LEFT(D61, IFERROR(FIND(CHAR(10), D61)-1, LEN(D61)))), _xlpm.result, IFERROR( _xlfn.XLOOKUP(_xlpm.val, 'DB2'!H:H, 'DB2'!V:V), _xlfn.XLOOKUP(_xlpm.val, 'DB2'!I:I, 'DB2'!V:V) ), IF(OR(_xlpm.result="", _xlpm.result=0), "", _xlpm.result) ) -> CJ. LEE | H61: =_xlfn.LET( _xlpm.val, TRIM(LEFT(D61, IFERROR(FIND(CHAR(10), D61)-1, LEN(D61)))), _xlpm.result, IFERROR( _xlfn.XLOOKUP(_xlpm.val, 'DB2'!H:H, 'DB2'!S:S), _xlfn.XLOOKUP(_xlpm.val, 'DB2'!I:I, 'DB2'!S:S) ), IF(OR(_xlpm.result="", _xlpm.result=0), "", _xlpm.result) ) -> CHAN HEO | I61: Valid | M61: CLOSED | N61: 46224 | O61: PETROVIETNAM | P61: 4 | Q61: 0 | R61: ROTTERDAM | S61: CLOSED | T61: 46089 | U61: ALMA PETROLI | V61: 1 | W61: 0 | X61: SINGAPORE
B62: 2016 | C62: 55 | D62: SPAIN B | E62: CSM | F62: =IFERROR(INDEX('DB2'!U:U, MATCH(G62, 'DB2'!V:V, 0)), "") -> TRMT3 | G62: =_xlfn.LET( _xlpm.val, TRIM(LEFT(D62, IFERROR(FIND(CHAR(10), D62)-1, LEN(D62)))), _xlpm.result, IFERROR( _xlfn.XLOOKUP(_xlpm.val, 'DB2'!H:H, 'DB2'!V:V), _xlfn.XLOOKUP(_xlpm.val, 'DB2'!I:I, 'DB2'!V:V) ), IF(OR(_xlpm.result="", _xlpm.result=0), "", _xlpm.result) ) -> CJ. LEE | H62: =_xlfn.LET( _xlpm.val, TRIM(LEFT(D62, IFERROR(FIND(CHAR(10), D62)-1, LEN(D62)))), _xlpm.result, IFERROR( _xlfn.XLOOKUP(_xlpm.val, 'DB2'!H:H, 'DB2'!S:S), _xlfn.XLOOKUP(_xlpm.val, 'DB2'!I:I, 'DB2'!S:S) ), IF(OR(_xlpm.result="", _xlpm.result=0), "", _xlpm.result) ) -> HS. CHO | I62: Valid | M62: CLOSED | N62: 46255 | O62: PETRON | P62: 6 | Q62: 0 | R62: ZHOUSHAN | S62: CLOSED | T62: 46148 | U62: MOH | V62: 6 | W62: 0 | X62: SIKKA | Y62: CLOSED | Z62: 46117 | AA62: PETROVIET | AB62: 6 | AC62: 0 | AD62: SINGAPORE
B63: 2016 | C63: 56 | D63: KUWAIT PROSPERITY | E63: CSM | F63: =IFERROR(INDEX('DB2'!U:U, MATCH(G63, 'DB2'!V:V, 0)), "") -> TRMT3 | G63: =_xlfn.LET( _xlpm.val, TRIM(LEFT(D63, IFERROR(FIND(CHAR(10), D63)-1, LEN(D63)))), _xlpm.result, IFERROR( _xlfn.XLOOKUP(_xlpm.val, 'DB2'!H:H, 'DB2'!V:V), _xlfn.XLOOKUP(_xlpm.val, 'DB2'!I:I, 'DB2'!V:V) ), IF(OR(_xlpm.result="", _xlpm.result=0), "", _xlpm.result) ) -> YS. SON | H63: =_xlfn.LET( _xlpm.val, TRIM(LEFT(D63, IFERROR(FIND(CHAR(10), D63)-1, LEN(D63)))), _xlpm.result, IFERROR( _xlfn.XLOOKUP(_xlpm.val, 'DB2'!H:H, 'DB2'!S:S), _xlfn.XLOOKUP(_xlpm.val, 'DB2'!I:I, 'DB2'!S:S) ), IF(OR(_xlpm.result="", _xlpm.result=0), "", _xlpm.result) ) -> SE. PARK | I63: Valid | M63: OPEN OBS | N63: 46232 | O63: SONANGOL | P63: 6 | Q63: 2 | R63: Malacca | S63: CLOSED | T63: 46167 | U63: VIVO ENERGY | V63: 4 | W63: 0 | X63: SINGAPORE
A64: HGI. B | B64: 2016 | C64: 57 | D64: MOMBASA B | E64: SNGY | F64: =IFERROR(INDEX('DB2'!U:U, MATCH(G64, 'DB2'!V:V, 0)), "") -> TRMT3 | G64: =_xlfn.LET( _xlpm.val, TRIM(LEFT(D64, IFERROR(FIND(CHAR(10), D64)-1, LEN(D64)))), _xlpm.result, IFERROR( _xlfn.XLOOKUP(_xlpm.val, 'DB2'!H:H, 'DB2'!V:V), _xlfn.XLOOKUP(_xlpm.val, 'DB2'!I:I, 'DB2'!V:V) ), IF(OR(_xlpm.result="", _xlpm.result=0), "", _xlpm.result) ) -> HM. KIM | H64: =_xlfn.LET( _xlpm.val, TRIM(LEFT(D64, IFERROR(FIND(CHAR(10), D64)-1, LEN(D64)))), _xlpm.result, IFERROR( _xlfn.XLOOKUP(_xlpm.val, 'DB2'!H:H, 'DB2'!S:S), _xlfn.XLOOKUP(_xlpm.val, 'DB2'!I:I, 'DB2'!S:S) ), IF(OR(_xlpm.result="", _xlpm.result=0), "", _xlpm.result) ) -> TW. HWANG | I64: Not Valid | K64: NOT FIXED | L64: NOT FIXED | M64: CLOSED | N64: 46092 | O64: ECOPETROL | P64: 6 | Q64: 0 | R64: SINGAPORE
A65: HSI. A | B65: 2006 | C65: 58 | D65: ECUADOR PROSPERITY | E65: FLEET | F65: =IFERROR(INDEX('DB2'!U:U, MATCH(G65, 'DB2'!V:V, 0)), "") -> TRMT1 | G65: =_xlfn.LET( _xlpm.val, TRIM(LEFT(D65, IFERROR(FIND(CHAR(10), D65)-1, LEN(D65)))), _xlpm.result, IFERROR( _xlfn.XLOOKUP(_xlpm.val, 'DB2'!H:H, 'DB2'!V:V), _xlfn.XLOOKUP(_xlpm.val, 'DB2'!I:I, 'DB2'!V:V) ), IF(OR(_xlpm.result="", _xlpm.result=0), "", _xlpm.result) ) -> MS. KANG | H65: =_xlfn.LET( _xlpm.val, TRIM(LEFT(D65, IFERROR(FIND(CHAR(10), D65)-1, LEN(D65)))), _xlpm.result, IFERROR( _xlfn.XLOOKUP(_xlpm.val, 'DB2'!H:H, 'DB2'!S:S), _xlfn.XLOOKUP(_xlpm.val, 'DB2'!I:I, 'DB2'!S:S) ), IF(OR(_xlpm.result="", _xlpm.result=0), "", _xlpm.result) ) -> SH. KIM | I65: Valid | M65: OPEN OBS | N65: 46244 | O65: MARATHON | P65: 5 | Q65: 5 | R65: YANTAI | S65: CLOSED | T65: 46137 | U65: IDEMITSU | V65: 3 | W65: 0 | X65: SINGAPORE
B66: 2007 | C66: 59 | D66: CAMEROON PROSPERITY | E66: FLEET | F66: =IFERROR(INDEX('DB2'!U:U, MATCH(G66, 'DB2'!V:V, 0)), "") -> TRMT1 | G66: =_xlfn.LET( _xlpm.val, TRIM(LEFT(D66, IFERROR(FIND(CHAR(10), D66)-1, LEN(D66)))), _xlpm.result, IFERROR( _xlfn.XLOOKUP(_xlpm.val, 'DB2'!H:H, 'DB2'!V:V), _xlfn.XLOOKUP(_xlpm.val, 'DB2'!I:I, 'DB2'!V:V) ), IF(OR(_xlpm.result="", _xlpm.result=0), "", _xlpm.result) ) -> JH. JEONG | H66: =_xlfn.LET( _xlpm.val, TRIM(LEFT(D66, IFERROR(FIND(CHAR(10), D66)-1, LEN(D66)))), _xlpm.result, IFERROR( _xlfn.XLOOKUP(_xlpm.val, 'DB2'!H:H, 'DB2'!S:S), _xlfn.XLOOKUP(_xlpm.val, 'DB2'!I:I, 'DB2'!S:S) ), IF(OR(_xlpm.result="", _xlpm.result=0), "", _xlpm.result) ) -> JH. JO | I66: Not Valid | M66: CLOSED | N66: 46129 | O66: IDEMITSU | P66: 1 | Q66: 0 | R66: SINGAPORE
B67: 2007 | C67: 60 | D67: ROMANIA PROSPERITY | E67: SNGY | F67: =IFERROR(INDEX('DB2'!U:U, MATCH(G67, 'DB2'!V:V, 0)), "") -> TRMT1 | G67: =_xlfn.LET( _xlpm.val, TRIM(LEFT(D67, IFERROR(FIND(CHAR(10), D67)-1, LEN(D67)))), _xlpm.result, IFERROR( _xlfn.XLOOKUP(_xlpm.val, 'DB2'!H:H, 'DB2'!V:V), _xlfn.XLOOKUP(_xlpm.val, 'DB2'!I:I, 'DB2'!V:V) ), IF(OR(_xlpm.result="", _xlpm.result=0), "", _xlpm.result) ) -> JH. YANG | H67: =_xlfn.LET( _xlpm.val, TRIM(LEFT(D67, IFERROR(FIND(CHAR(10), D67)-1, LEN(D67)))), _xlpm.result, IFERROR( _xlfn.XLOOKUP(_xlpm.val, 'DB2'!H:H, 'DB2'!S:S), _xlfn.XLOOKUP(_xlpm.val, 'DB2'!I:I, 'DB2'!S:S) ), IF(OR(_xlpm.result="", _xlpm.result=0), "", _xlpm.result) ) -> TW. HWANG | I67: Not Valid
A68: HSI. B | B68: 2016 | C68: 61 | D68: GHANA PROSPERITY | E68: CSM | F68: =IFERROR(INDEX('DB2'!U:U, MATCH(G68, 'DB2'!V:V, 0)), "") -> TRMT1 | G68: =_xlfn.LET( _xlpm.val, TRIM(LEFT(D68, IFERROR(FIND(CHAR(10), D68)-1, LEN(D68)))), _xlpm.result, IFERROR( _xlfn.XLOOKUP(_xlpm.val, 'DB2'!H:H, 'DB2'!V:V), _xlfn.XLOOKUP(_xlpm.val, 'DB2'!I:I, 'DB2'!V:V) ), IF(OR(_xlpm.result="", _xlpm.result=0), "", _xlpm.result) ) -> HS. KIM | H68: =_xlfn.LET( _xlpm.val, TRIM(LEFT(D68, IFERROR(FIND(CHAR(10), D68)-1, LEN(D68)))), _xlpm.result, IFERROR( _xlfn.XLOOKUP(_xlpm.val, 'DB2'!H:H, 'DB2'!S:S), _xlfn.XLOOKUP(_xlpm.val, 'DB2'!I:I, 'DB2'!S:S) ), IF(OR(_xlpm.result="", _xlpm.result=0), "", _xlpm.result) ) -> CHAN HEO | I68: Valid | M68: OPEN OBS | N68: 46240 | O68: PETROVIETNAM | P68: 7 | Q68: 2 | R68: Ulsan | S68: CLOSED | T68: 46159 | U68: IDEMITSU | V68: 6 | W68: 0 | X68: SINGAPORE
B69: 2016 | C69: 62 | D69: COLOMBIA PROSPERITY | E69: FLEET | F69: =IFERROR(INDEX('DB2'!U:U, MATCH(G69, 'DB2'!V:V, 0)), "") -> TRMT1 | G69: =_xlfn.LET( _xlpm.val, TRIM(LEFT(D69, IFERROR(FIND(CHAR(10), D69)-1, LEN(D69)))), _xlpm.result, IFERROR( _xlfn.XLOOKUP(_xlpm.val, 'DB2'!H:H, 'DB2'!V:V), _xlfn.XLOOKUP(_xlpm.val, 'DB2'!I:I, 'DB2'!V:V) ), IF(OR(_xlpm.result="", _xlpm.result=0), "", _xlpm.result) ) -> HS. KIM | H69: =_xlfn.LET( _xlpm.val, TRIM(LEFT(D69, IFERROR(FIND(CHAR(10), D69)-1, LEN(D69)))), _xlpm.result, IFERROR( _xlfn.XLOOKUP(_xlpm.val, 'DB2'!H:H, 'DB2'!S:S), _xlfn.XLOOKUP(_xlpm.val, 'DB2'!I:I, 'DB2'!S:S) ), IF(OR(_xlpm.result="", _xlpm.result=0), "", _xlpm.result) ) -> YS. HEO | I69: Valid | M69: OPEN OBS | N69: 46249 | O69: MARATHON PETROLEUM CORPORATION | P69: 5 | Q69: 5 | R69: ZHOUSHAN | S69: CLOSED | T69: 46167 | U69: IMT | V69: 4 | W69: 0 | X69: YEOSU | Y69: OPEN OBS | Z69: 46105 | AA69: BP | AB69: 6 | AC69: 1 | AD69: SIKKA | AE69: CLOSED | AF69: 46078 | AG69: IDEMITSU | AH69: 4 | AI69: 0 | AJ69: SINGAPORE
B70: 2016 | C70: 63 | D70: GREECE PROSPERITY | E70: CSM | F70: =IFERROR(INDEX('DB2'!U:U, MATCH(G70, 'DB2'!V:V, 0)), "") -> TRMT1 | G70: =_xlfn.LET( _xlpm.val, TRIM(LEFT(D70, IFERROR(FIND(CHAR(10), D70)-1, LEN(D70)))), _xlpm.result, IFERROR( _xlfn.XLOOKUP(_xlpm.val, 'DB2'!H:H, 'DB2'!V:V), _xlfn.XLOOKUP(_xlpm.val, 'DB2'!I:I, 'DB2'!V:V) ), IF(OR(_xlpm.result="", _xlpm.result=0), "", _xlpm.result) ) -> HS. KIM | H70: =_xlfn.LET( _xlpm.val, TRIM(LEFT(D70, IFERROR(FIND(CHAR(10), D70)-1, LEN(D70)))), _xlpm.result, IFERROR( _xlfn.XLOOKUP(_xlpm.val, 'DB2'!H:H, 'DB2'!S:S), _xlfn.XLOOKUP(_xlpm.val, 'DB2'!I:I, 'DB2'!S:S) ), IF(OR(_xlpm.result="", _xlpm.result=0), "", _xlpm.result) ) | I70: Not Valid | J70: 46232 | K70: SONANGOL | L70: FUJAIRAH
A71: HSI. C | B71: 2016 | C71: 64 | D71: GUYANA PROSPERITY | E71: CSM | F71: =IFERROR(INDEX('DB2'!U:U, MATCH(G71, 'DB2'!V:V, 0)), "") -> TRMT1 | G71: =_xlfn.LET( _xlpm.val, TRIM(LEFT(D71, IFERROR(FIND(CHAR(10), D71)-1, LEN(D71)))), _xlpm.result, IFERROR( _xlfn.XLOOKUP(_xlpm.val, 'DB2'!H:H, 'DB2'!V:V), _xlfn.XLOOKUP(_xlpm.val, 'DB2'!I:I, 'DB2'!V:V) ), IF(OR(_xlpm.result="", _xlpm.result=0), "", _xlpm.result) ) -> HS. KIM | H71: =_xlfn.LET( _xlpm.val, TRIM(LEFT(D71, IFERROR(FIND(CHAR(10), D71)-1, LEN(D71)))), _xlpm.result, IFERROR( _xlfn.XLOOKUP(_xlpm.val, 'DB2'!H:H, 'DB2'!S:S), _xlfn.XLOOKUP(_xlpm.val, 'DB2'!I:I, 'DB2'!S:S) ), IF(OR(_xlpm.result="", _xlpm.result=0), "", _xlpm.result) ) -> SY. CHOI | I71: Valid | M71: OPEN OBS | N71: 46264 | O71: PETROVIETNAM | P71: 5 | Q71: 1 | R71: Rotterdam | S71: CLOSED | T71: 46263 | U71: PETROVIETNAM | X71: Rotterdam | Y71: OPEN OBS | Z71: 46216 | AA71: P66 | AB71: 6 | AC71: 6 | AD71: AIN SUKHNA | AE71: CLOSED | AF71: 46075 | AG71: ECOPETROL | AH71: 4 | AI71: 0 | AJ71: SINGAPORE
B72: 2016 | C72: 65 | D72: BELGIUM B | E72: CSM | F72: =IFERROR(INDEX('DB2'!U:U, MATCH(G72, 'DB2'!V:V, 0)), "") -> TRMT1 | G72: =_xlfn.LET( _xlpm.val, TRIM(LEFT(D72, IFERROR(FIND(CHAR(10), D72)-1, LEN(D72)))), _xlpm.result, IFERROR( _xlfn.XLOOKUP(_xlpm.val, 'DB2'!H:H, 'DB2'!V:V), _xlfn.XLOOKUP(_xlpm.val, 'DB2'!I:I, 'DB2'!V:V) ), IF(OR(_xlpm.result="", _xlpm.result=0), "", _xlpm.result) ) -> HS. KIM | H72: =_xlfn.LET( _xlpm.val, TRIM(LEFT(D72, IFERROR(FIND(CHAR(10), D72)-1, LEN(D72)))), _xlpm.result, IFERROR( _xlfn.XLOOKUP(_xlpm.val, 'DB2'!H:H, 'DB2'!S:S), _xlfn.XLOOKUP(_xlpm.val, 'DB2'!I:I, 'DB2'!S:S) ), IF(OR(_xlpm.result="", _xlpm.result=0), "", _xlpm.result) ) -> CH. BAE | I72: Valid | M72: CLOSED | N72: 46236 | O72: VIVO | P72: 7 | Q72: 0 | R72: Tanjung Pelepas | S72: CLOSED | T72: 46185 | U72: ECOPETROL | V72: 4 | W72: 0 | X72: VADINAR | Y72: CLOSED | Z72: 46104 | AA72: MOH | AB72: 4 | AC72: 0 | AD72: SINGAPORE
A73: HSI. D | B73: 2021 | C73: 66 | D73: ANGOLA PROSPERITY | E73: CSM | F73: =IFERROR(INDEX('DB2'!U:U, MATCH(G73, 'DB2'!V:V, 0)), "") -> TRMT1 | G73: =_xlfn.LET( _xlpm.val, TRIM(LEFT(D73, IFERROR(FIND(CHAR(10), D73)-1, LEN(D73)))), _xlpm.result, IFERROR( _xlfn.XLOOKUP(_xlpm.val, 'DB2'!H:H, 'DB2'!V:V), _xlfn.XLOOKUP(_xlpm.val, 'DB2'!I:I, 'DB2'!V:V) ), IF(OR(_xlpm.result="", _xlpm.result=0), "", _xlpm.result) ) -> NIKOS | H73: =_xlfn.LET( _xlpm.val, TRIM(LEFT(D73, IFERROR(FIND(CHAR(10), D73)-1, LEN(D73)))), _xlpm.result, IFERROR( _xlfn.XLOOKUP(_xlpm.val, 'DB2'!H:H, 'DB2'!S:S), _xlfn.XLOOKUP(_xlpm.val, 'DB2'!I:I, 'DB2'!S:S) ), IF(OR(_xlpm.result="", _xlpm.result=0), "", _xlpm.result) ) -> HJ. LEE | I73: Valid | M73: CLOSED | N73: 46227 | O73: PETROVIETNAM | P73: 6 | Q73: 0 | R73: NINGBO, CHINA | S73: OPEN OBS | T73: 46183 | U73: VIVO | V73: 7 | W73: 1 | X73: VIZAG, INDIA | Y73: CLOSED | Z73: 46128 | AA73: PETROVIETNAM | AB73: 4 | AC73: 0 | AD73: SIKKA, INDIA | AE73: CLOSED | AF73: 46044 | AG73: BIECO | AH73: 4 | AI73: 0 | AJ73: HUIZHOU
A74: DSME. A | B74: 2007 | C74: 67 | D74: FRANCE C | E74: FLEET | F74: =IFERROR(INDEX('DB2'!U:U, MATCH(G74, 'DB2'!V:V, 0)), "") -> TRMT1 | G74: =_xlfn.LET( _xlpm.val, TRIM(LEFT(D74, IFERROR(FIND(CHAR(10), D74)-1, LEN(D74)))), _xlpm.result, IFERROR( _xlfn.XLOOKUP(_xlpm.val, 'DB2'!H:H, 'DB2'!V:V), _xlfn.XLOOKUP(_xlpm.val, 'DB2'!I:I, 'DB2'!V:V) ), IF(OR(_xlpm.result="", _xlpm.result=0), "", _xlpm.result) ) -> YS. YOUN | H74: =_xlfn.LET( _xlpm.val, TRIM(LEFT(D74, IFERROR(FIND(CHAR(10), D74)-1, LEN(D74)))), _xlpm.result, IFERROR( _xlfn.XLOOKUP(_xlpm.val, 'DB2'!H:H, 'DB2'!S:S), _xlfn.XLOOKUP(_xlpm.val, 'DB2'!I:I, 'DB2'!S:S) ), IF(OR(_xlpm.result="", _xlpm.result=0), "", _xlpm.result) ) -> JH. JO | I74: Not Valid | M74: CLOSED | N74: 46101 | O74: IDEMITSU TANKER CO. LTD. | P74: 3 | Q74: 0 | R74: Singapore
A75: DSME. B | B75: 2007 | C75: 68 | D75: DHT BAUHINIA | E75: FLEET | F75: =IFERROR(INDEX('DB2'!U:U, MATCH(G75, 'DB2'!V:V, 0)), "") -> TRMT1 | G75: =_xlfn.LET( _xlpm.val, TRIM(LEFT(D75, IFERROR(FIND(CHAR(10), D75)-1, LEN(D75)))), _xlpm.result, IFERROR( _xlfn.XLOOKUP(_xlpm.val, 'DB2'!H:H, 'DB2'!V:V), _xlfn.XLOOKUP(_xlpm.val, 'DB2'!I:I, 'DB2'!V:V) ), IF(OR(_xlpm.result="", _xlpm.result=0), "", _xlpm.result) ) -> JH. YANG | H75: =_xlfn.LET( _xlpm.val, TRIM(LEFT(D75, IFERROR(FIND(CHAR(10), D75)-1, LEN(D75)))), _xlpm.result, IFERROR( _xlfn.XLOOKUP(_xlpm.val, 'DB2'!H:H, 'DB2'!S:S), _xlfn.XLOOKUP(_xlpm.val, 'DB2'!I:I, 'DB2'!S:S) ), IF(OR(_xlpm.result="", _xlpm.result=0), "", _xlpm.result) ) | I75: Not Valid | M75: OPEN OBS | N75: 46269 | O75: EQUINOR | P75: 5 | Q75: 5 | R75: FUJAIRAH | S75: OPEN OBS | T75: 46242 | U75: IDEMITSU | V75: 6 | W75: 6 | X75: SINGAPORE
A76: DSME. C | B76: 2009 | C76: 69 | D76: PLATA SOUTH | E76: VSN | F76: =IFERROR(INDEX('DB2'!U:U, MATCH(G76, 'DB2'!V:V, 0)), "") -> TRMT2 | G76: =_xlfn.LET( _xlpm.val, TRIM(LEFT(D76, IFERROR(FIND(CHAR(10), D76)-1, LEN(D76)))), _xlpm.result, IFERROR( _xlfn.XLOOKUP(_xlpm.val, 'DB2'!H:H, 'DB2'!V:V), _xlfn.XLOOKUP(_xlpm.val, 'DB2'!I:I, 'DB2'!V:V) ), IF(OR(_xlpm.result="", _xlpm.result=0), "", _xlpm.result) ) -> KL. CHOI | H76: =_xlfn.LET( _xlpm.val, TRIM(LEFT(D76, IFERROR(FIND(CHAR(10), D76)-1, LEN(D76)))), _xlpm.result, IFERROR( _xlfn.XLOOKUP(_xlpm.val, 'DB2'!H:H, 'DB2'!S:S), _xlfn.XLOOKUP(_xlpm.val, 'DB2'!I:I, 'DB2'!S:S) ), IF(OR(_xlpm.result="", _xlpm.result=0), "", _xlpm.result) ) -> SH, OHN | I76: Valid | M76: OPEN OBS | N76: 46248 | O76: VIVO ENERGY | P76: 7 | Q76: 2 | R76: PARADIP | S76: CLOSED | T76: 46149 | U76: ALMA PETROLI | V76: 9 | W76: 0 | X76: LEKKI | Y76: CLOSED | Z76: 45972 | AA76: PERTAMINA | AB76: 12 | AC76: 0 | AD76: VARDINAR | AE76: CLOSED | AF76: 45879 | AG76: PETROVIET | AH76: 7 | AI76: 0 | AJ76: QUANZHOU | AK76: CLOSED | AL76: 45751 | AM76: VIVA | AN76: 17 | AO76: 0 | AP76: YANTAI | AQ76: CLOSED | AR76: 45658 | AS76: PETRON | AT76: 19 | AU76: 0 | AV76: DAESAN | AW76: CLOSED | AX76: 45416 | AY76: PERTAMINA | AZ76: 4 | BA76: 0 | BB76: NGHI SON
B77: 2010 | C77: 70 | D77: BRUNEI PROSPERITY | E77: FLEET | F77: =IFERROR(INDEX('DB2'!U:U, MATCH(G77, 'DB2'!V:V, 0)), "") -> TRMT1 | G77: =_xlfn.LET( _xlpm.val, TRIM(LEFT(D77, IFERROR(FIND(CHAR(10), D77)-1, LEN(D77)))), _xlpm.result, IFERROR( _xlfn.XLOOKUP(_xlpm.val, 'DB2'!H:H, 'DB2'!V:V), _xlfn.XLOOKUP(_xlpm.val, 'DB2'!I:I, 'DB2'!V:V) ), IF(OR(_xlpm.result="", _xlpm.result=0), "", _xlpm.result) ) -> JH. JEONG | H77: =_xlfn.LET( _xlpm.val, TRIM(LEFT(D77, IFERROR(FIND(CHAR(10), D77)-1, LEN(D77)))), _xlpm.result, IFERROR( _xlfn.XLOOKUP(_xlpm.val, 'DB2'!H:H, 'DB2'!S:S), _xlfn.XLOOKUP(_xlpm.val, 'DB2'!I:I, 'DB2'!S:S) ), IF(OR(_xlpm.result="", _xlpm.result=0), "", _xlpm.result) ) -> SH, OHN | I77: Valid | M77: CLOSED | N77: 46270 | O77: MARATHON | P77: 6 | Q77: 0 | R77: SHANTOU | S77: CLOSED | T77: 46267 | U77: MARATHON | V77: 4 | W77: 0 | X77: SHANTOU
A78: DSME. D | B78: 2013 | C78: 71 | D78: MONACO PROSPERITY | E78: FLEET | F78: =IFERROR(INDEX('DB2'!U:U, MATCH(G78, 'DB2'!V:V, 0)), "") -> TRMT1 | G78: =_xlfn.LET( _xlpm.val, TRIM(LEFT(D78, IFERROR(FIND(CHAR(10), D78)-1, LEN(D78)))), _xlpm.result, IFERROR( _xlfn.XLOOKUP(_xlpm.val, 'DB2'!H:H, 'DB2'!V:V), _xlfn.XLOOKUP(_xlpm.val, 'DB2'!I:I, 'DB2'!V:V) ), IF(OR(_xlpm.result="", _xlpm.result=0), "", _xlpm.result) ) -> TW. CHOI | H78: =_xlfn.LET( _xlpm.val, TRIM(LEFT(D78, IFERROR(FIND(CHAR(10), D78)-1, LEN(D78)))), _xlpm.result, IFERROR( _xlfn.XLOOKUP(_xlpm.val, 'DB2'!H:H, 'DB2'!S:S), _xlfn.XLOOKUP(_xlpm.val, 'DB2'!I:I, 'DB2'!S:S) ), IF(OR(_xlpm.result="", _xlpm.result=0), "", _xlpm.result) ) -> SH. KIM | I78: Valid | M78: OPEN OBS | N78: 46278 | O78: TOTAL | P78: 6 | Q78: 6 | R78: SOHAR | S78: CLOSED | T78: 46132 | U78: IDEMITSU | V78: 4 | W78: 0 | X78: SINGAPORE
B79: 2013 | C79: 72 | D79: MOROCCO PROSPERITY | E79: FLEET | F79: =IFERROR(INDEX('DB2'!U:U, MATCH(G79, 'DB2'!V:V, 0)), "") -> TRMT1 | G79: =_xlfn.LET( _xlpm.val, TRIM(LEFT(D79, IFERROR(FIND(CHAR(10), D79)-1, LEN(D79)))), _xlpm.result, IFERROR( _xlfn.XLOOKUP(_xlpm.val, 'DB2'!H:H, 'DB2'!V:V), _xlfn.XLOOKUP(_xlpm.val, 'DB2'!I:I, 'DB2'!V:V) ), IF(OR(_xlpm.result="", _xlpm.result=0), "", _xlpm.result) ) -> TW. CHOI | H79: =_xlfn.LET( _xlpm.val, TRIM(LEFT(D79, IFERROR(FIND(CHAR(10), D79)-1, LEN(D79)))), _xlpm.result, IFERROR( _xlfn.XLOOKUP(_xlpm.val, 'DB2'!H:H, 'DB2'!S:S), _xlfn.XLOOKUP(_xlpm.val, 'DB2'!I:I, 'DB2'!S:S) ), IF(OR(_xlpm.result="", _xlpm.result=0), "", _xlpm.result) ) -> HC. CHUN | I79: Valid | M79: CLOSED | N79: 46235 | O79: P66 | P79: 4 | Q79: 0 | R79: EGYPT,AIN SUKHNA | S79: CLOSED | T79: 46109 | U79: IDEMITSU | V79: 2 | W79: 0 | X79: SINGAPORE
A80: DSME. E | B80: 2015 | C80: 73 | D80: KENYA B | E80: CSM | F80: =IFERROR(INDEX('DB2'!U:U, MATCH(G80, 'DB2'!V:V, 0)), "") -> TRMT1 | G80: =_xlfn.LET( _xlpm.val, TRIM(LEFT(D80, IFERROR(FIND(CHAR(10), D80)-1, LEN(D80)))), _xlpm.result, IFERROR( _xlfn.XLOOKUP(_xlpm.val, 'DB2'!H:H, 'DB2'!V:V), _xlfn.XLOOKUP(_xlpm.val, 'DB2'!I:I, 'DB2'!V:V) ), IF(OR(_xlpm.result="", _xlpm.result=0), "", _xlpm.result) ) -> YS. YOUN | H80: =_xlfn.LET( _xlpm.val, TRIM(LEFT(D80, IFERROR(FIND(CHAR(10), D80)-1, LEN(D80)))), _xlpm.result, IFERROR( _xlfn.XLOOKUP(_xlpm.val, 'DB2'!H:H, 'DB2'!S:S), _xlfn.XLOOKUP(_xlpm.val, 'DB2'!I:I, 'DB2'!S:S) ), IF(OR(_xlpm.result="", _xlpm.result=0), "", _xlpm.result) ) -> CHAN HEO | I80: Valid | J80: 46303 | K80: PETRON | L80: AIN SUKHNA | M80: CLOSED | N80: 46161 | O80: VIVA ENERGY | P80: 4 | Q80: 0 | R80: ROTTERDAM | S80: CLOSED | T80: 46093 | U80: MOH | V80: 3 | W80: 0 | X80: SINGAPORE
B81: 2015 | C81: 74 | D81: FUJAIRAH ENERGY | E81: FLEET | F81: =IFERROR(INDEX('DB2'!U:U, MATCH(G81, 'DB2'!V:V, 0)), "") -> TRMT1 | G81: =_xlfn.LET( _xlpm.val, TRIM(LEFT(D81, IFERROR(FIND(CHAR(10), D81)-1, LEN(D81)))), _xlpm.result, IFERROR( _xlfn.XLOOKUP(_xlpm.val, 'DB2'!H:H, 'DB2'!V:V), _xlfn.XLOOKUP(_xlpm.val, 'DB2'!I:I, 'DB2'!V:V) ), IF(OR(_xlpm.result="", _xlpm.result=0), "", _xlpm.result) ) -> YS. YOUN | H81: =_xlfn.LET( _xlpm.val, TRIM(LEFT(D81, IFERROR(FIND(CHAR(10), D81)-1, LEN(D81)))), _xlpm.result, IFERROR( _xlfn.XLOOKUP(_xlpm.val, 'DB2'!H:H, 'DB2'!S:S), _xlfn.XLOOKUP(_xlpm.val, 'DB2'!I:I, 'DB2'!S:S) ), IF(OR(_xlpm.result="", _xlpm.result=0), "", _xlpm.result) ) -> TW. HWANG | I81: Not Valid | M81: CLOSED | N81: 46061 | O81: KOCH SHIPPING PTE LTD | P81: 5 | Q81: 0 | R81: Fujairah
A82: DSME. F | B82: 2017 | C82: 75 | D82: CARIBBEAN GLORY | E82: FLEET | F82: =IFERROR(INDEX('DB2'!U:U, MATCH(G82, 'DB2'!V:V, 0)), "") -> TRMT1 | G82: =_xlfn.LET( _xlpm.val, TRIM(LEFT(D82, IFERROR(FIND(CHAR(10), D82)-1, LEN(D82)))), _xlpm.result, IFERROR( _xlfn.XLOOKUP(_xlpm.val, 'DB2'!H:H, 'DB2'!V:V), _xlfn.XLOOKUP(_xlpm.val, 'DB2'!I:I, 'DB2'!V:V) ), IF(OR(_xlpm.result="", _xlpm.result=0), "", _xlpm.result) ) -> YS. YOUN | H82: =_xlfn.LET( _xlpm.val, TRIM(LEFT(D82, IFERROR(FIND(CHAR(10), D82)-1, LEN(D82)))), _xlpm.result, IFERROR( _xlfn.XLOOKUP(_xlpm.val, 'DB2'!H:H, 'DB2'!S:S), _xlfn.XLOOKUP(_xlpm.val, 'DB2'!I:I, 'DB2'!S:S) ), IF(OR(_xlpm.result="", _xlpm.result=0), "", _xlpm.result) ) -> DB. SEO | I82: Valid | J82: 46305 | K82: IDEMITSU | L82: BALIKPAPAN, INDONESIA | M82: CLOSED | N82: 46219 | O82: P66 | P82: 5 | Q82: 0 | R82: ULSAN | S82: CLOSED | T82: 46173 | U82: IMT | V82: 10 | W82: 0 | X82: SINGAPORE | Y82: CLOSED | Z82: 45991 | AA82: PETRON | AB82: 5 | AC82: 0 | AD82: JIEYANG | AE82: CLOSED | AF82: 45906 | AG82: IDEMITSU | AH82: 4 | AI82: 0 | AJ82: CATAGENA | AK82: CLOSED | AL82: 45791 | AM82: MARATHON | AN82: 6 | AO82: 0 | AP82: NINGBO | AQ82: CLOSED | AR82: 45690 | AS82: UNIPEC | AT82: 7 | AU82: 0 | AV82: ROTTERDAM | AW82: CLOSED | AX82: 45517 | AY82: ENOC | AZ82: 1 | BA82: 0 | BB82: ROTTERDAM | BC82: CLOSED | BD82: 45446 | BE82: OMV | BF82: 2 | BG82: 0 | BH82: SINGAPORE
B83: 2017 | C83: 76 | D83: GULF SUNRISE | E83: VSG | F83: =IFERROR(INDEX('DB2'!U:U, MATCH(G83, 'DB2'!V:V, 0)), "") -> TRMT1 | G83: =_xlfn.LET( _xlpm.val, TRIM(LEFT(D83, IFERROR(FIND(CHAR(10), D83)-1, LEN(D83)))), _xlpm.result, IFERROR( _xlfn.XLOOKUP(_xlpm.val, 'DB2'!H:H, 'DB2'!V:V), _xlfn.XLOOKUP(_xlpm.val, 'DB2'!I:I, 'DB2'!V:V) ), IF(OR(_xlpm.result="", _xlpm.result=0), "", _xlpm.result) ) -> YS. YOUN | H83: =_xlfn.LET( _xlpm.val, TRIM(LEFT(D83, IFERROR(FIND(CHAR(10), D83)-1, LEN(D83)))), _xlpm.result, IFERROR( _xlfn.XLOOKUP(_xlpm.val, 'DB2'!H:H, 'DB2'!S:S), _xlfn.XLOOKUP(_xlpm.val, 'DB2'!I:I, 'DB2'!S:S) ), IF(OR(_xlpm.result="", _xlpm.result=0), "", _xlpm.result) ) -> HK. SOHN | I83: Not Valid | M83: OPEN OBS | N83: 46236 | O83: PERTAMINA | P83: 3 | Q83: 3 | R83: CHIBA | S83: CLOSED | T83: 46221 | U83: PETRO VIETNAM | V83: 4 | W83: 0 | X83: SINGAPORE | Y83: CLOSED | Z83: 45986 | AA83: MOH | AB83: 4 | AC83: 0 | AD83: LEKKI | AE83: CLOSED | AF83: 45861 | AG83: ENOC | AH83: 4 | AI83: 0 | AJ83: LEKKI | AK83: CLOSED | AL83: 45757 | AM83: UNIPEC | AN83: 6 | AO83: 0 | AP83: VADINAR | AQ83: CLOSED | AR83: 45623 | AS83: KOCH | AT83: 5 | AU83: 0 | AV83: ROTTERDAM | AW83: CLOSED | AX83: 45416 | AY83: VIVO | AZ83: 2 | BA83: 0 | BB83: LONG BEACH | BC83: CLOSED | BD83: 45316 | BE83: MARATHON | BF83: 3 | BG83: 0 | BH83: LANSHAN
A84: STX | B84: 2011 | C84: 77 | D84: EAST LOYALTY | E84: FLEET | F84: =IFERROR(INDEX('DB2'!U:U, MATCH(G84, 'DB2'!V:V, 0)), "") -> TRMT1 | G84: =_xlfn.LET( _xlpm.val, TRIM(LEFT(D84, IFERROR(FIND(CHAR(10), D84)-1, LEN(D84)))), _xlpm.result, IFERROR( _xlfn.XLOOKUP(_xlpm.val, 'DB2'!H:H, 'DB2'!V:V), _xlfn.XLOOKUP(_xlpm.val, 'DB2'!I:I, 'DB2'!V:V) ), IF(OR(_xlpm.result="", _xlpm.result=0), "", _xlpm.result) ) -> NIKOS | H84: =_xlfn.LET( _xlpm.val, TRIM(LEFT(D84, IFERROR(FIND(CHAR(10), D84)-1, LEN(D84)))), _xlpm.result, IFERROR( _xlfn.XLOOKUP(_xlpm.val, 'DB2'!H:H, 'DB2'!S:S), _xlfn.XLOOKUP(_xlpm.val, 'DB2'!I:I, 'DB2'!S:S) ), IF(OR(_xlpm.result="", _xlpm.result=0), "", _xlpm.result) ) -> HJ. KOH | I84: Valid | M84: OPEN OBS | N84: 46254 | O84: P66 | P84: 6 | Q84: 6 | R84: YEOSU, KOREA | S84: CLOSED | T84: 46138 | U84: BASF | V84: 6 | W84: 0 | X84: SINES, PORTUGAL | Y84: CLOSED | Z84: 46039 | AA84: ENOC | AB84: 6 | AC84: 0 | AD84: PACHI GREECE | AE84: CLOSED | AF84: 46008 | AG84: ENOC | AH84: 7 | AI84: 0 | AJ84: ZHOUSHAN | AK84: CLOSED | AL84: 45918 | AM84: PETRON | AN84: 5 | AO84: 0 | AP84: ZHOUSHAN | AQ84: CLOSED | AR84: 45870 | AS84: PETROVIET | AT84: 6 | AU84: 0 | AV84: VIZAG | AW84: CLOSED | AX84: 45711 | AY84: IMT | AZ84: 17 | BA84: 0 | BB84: SHUIDONG | BC84: CLOSED | BD84: 45628 | BE84: ENOC | BF84: 5 | BG84: 0 | BH84: LONG BEACH
B85: 2011 | C85: 78 | D85: WEST LOYALTY | E85: CSM | F85: =IFERROR(INDEX('DB2'!U:U, MATCH(G85, 'DB2'!V:V, 0)), "") -> TRMT1 | G85: =_xlfn.LET( _xlpm.val, TRIM(LEFT(D85, IFERROR(FIND(CHAR(10), D85)-1, LEN(D85)))), _xlpm.result, IFERROR( _xlfn.XLOOKUP(_xlpm.val, 'DB2'!H:H, 'DB2'!V:V), _xlfn.XLOOKUP(_xlpm.val, 'DB2'!I:I, 'DB2'!V:V) ), IF(OR(_xlpm.result="", _xlpm.result=0), "", _xlpm.result) ) -> NIKOS | H85: =_xlfn.LET( _xlpm.val, TRIM(LEFT(D85, IFERROR(FIND(CHAR(10), D85)-1, LEN(D85)))), _xlpm.result, IFERROR( _xlfn.XLOOKUP(_xlpm.val, 'DB2'!H:H, 'DB2'!S:S), _xlfn.XLOOKUP(_xlpm.val, 'DB2'!I:I, 'DB2'!S:S) ), IF(OR(_xlpm.result="", _xlpm.result=0), "", _xlpm.result) ) -> YN. KIM | I85: Valid | M85: CLOSED | N85: 46192 | O85: PETRON | P85: 5 | Q85: 0 | R85: KIIRE, JAPAN | S85: CLOSED | T85: 46057 | U85: KOCH | V85: 6 | W85: 0 | X85: SARROCH | Y85: CLOSED | Z85: 45924 | AA85: P66 | AB85: 13 | AC85: 0 | AD85: ONSAN | AE85: CLOSED | AF85: 45854 | AG85: PETROVIET | AH85: 4 | AI85: 0 | AJ85: ROTTERDAM | AK85: CLOSED | AL85: 45775 | AM85: P66 | AN85: 3 | AO85: 0 | AP85: QINZHOU | AQ85: CLOSED | AR85: 45742 | AS85: MOH | AT85: 5 | AU85: 0 | AV85: VADINAR | AW85: CLOSED | AX85: 45611 | AY85: CHEVRON | AZ85: 2 | BA85: 0 | BB85: VADINAR | BC85: CLOSED | BD85: 45527 | BE85: P66 | BF85: 4 | BG85: 0 | BH85: ZHOUSHAN
B86: 2012 | C86: 79 | D86: SOUTH LOYALTY | E86: FLEET | F86: =IFERROR(INDEX('DB2'!U:U, MATCH(G86, 'DB2'!V:V, 0)), "") -> TRMT1 | G86: =_xlfn.LET( _xlpm.val, TRIM(LEFT(D86, IFERROR(FIND(CHAR(10), D86)-1, LEN(D86)))), _xlpm.result, IFERROR( _xlfn.XLOOKUP(_xlpm.val, 'DB2'!H:H, 'DB2'!V:V), _xlfn.XLOOKUP(_xlpm.val, 'DB2'!I:I, 'DB2'!V:V) ), IF(OR(_xlpm.result="", _xlpm.result=0), "", _xlpm.result) ) -> NIKOS | H86: =_xlfn.LET( _xlpm.val, TRIM(LEFT(D86, IFERROR(FIND(CHAR(10), D86)-1, LEN(D86)))), _xlpm.result, IFERROR( _xlfn.XLOOKUP(_xlpm.val, 'DB2'!H:H, 'DB2'!S:S), _xlfn.XLOOKUP(_xlpm.val, 'DB2'!I:I, 'DB2'!S:S) ), IF(OR(_xlpm.result="", _xlpm.result=0), "", _xlpm.result) ) -> SH. KIM | I86: Valid | M86: CLOSED | N86: 46236 | O86: OMV | P86: 7 | Q86: 0 | R86: SRIRACHA | S86: CLOSED | T86: 46146 | U86: BASF | V86: 5 | W86: 0 | X86: ROTTERDAM | Y86: CLOSED | Z86: 46089 | AA86: BASF | AB86: 4 | AC86: 0 | AD86: SINES, PORTUGAL | AE86: CLOSED | AF86: 46020 | AG86: PETRON | AH86: 6 | AI86: 0 | AJ86: JIEYANG | AK86: CLOSED | AL86: 45897 | AM86: PERTAMINA | AN86: 7 | AO86: 0 | AP86: PAL, USA | AQ86: CLOSED | AR86: 45790 | AS86: IMT | AT86: 9 | AU86: 0 | AV86: ONSAN | AW86: CLOSED | AX86: 45647 | AY86: UNIPEC | AZ86: 7 | BA86: 0 | BB86: CILACAP | BC86: CLOSED | BD86: 45530 | BE86: PETRON | BF86: 3 | BG86: 0 | BH86: QUANZHOU
B87: 2012 | C87: 80 | D87: NORTH LOYALTY | E87: CSM | F87: =IFERROR(INDEX('DB2'!U:U, MATCH(G87, 'DB2'!V:V, 0)), "") -> TRMT1 | G87: =_xlfn.LET( _xlpm.val, TRIM(LEFT(D87, IFERROR(FIND(CHAR(10), D87)-1, LEN(D87)))), _xlpm.result, IFERROR( _xlfn.XLOOKUP(_xlpm.val, 'DB2'!H:H, 'DB2'!V:V), _xlfn.XLOOKUP(_xlpm.val, 'DB2'!I:I, 'DB2'!V:V) ), IF(OR(_xlpm.result="", _xlpm.result=0), "", _xlpm.result) ) -> NIKOS | H87: =_xlfn.LET( _xlpm.val, TRIM(LEFT(D87, IFERROR(FIND(CHAR(10), D87)-1, LEN(D87)))), _xlpm.result, IFERROR( _xlfn.XLOOKUP(_xlpm.val, 'DB2'!H:H, 'DB2'!S:S), _xlfn.XLOOKUP(_xlpm.val, 'DB2'!I:I, 'DB2'!S:S) ), IF(OR(_xlpm.result="", _xlpm.result=0), "", _xlpm.result) ) -> JH. CHOI | I87: Valid | M87: OPEN OBS | N87: 46302 | O87: PETRONAS | P87: 9 | Q87: 9 | R87: YEOSU | S87: OPEN OBS | T87: 46170 | U87: VIVA | V87: 4 | W87: 1 | X87: CORPUS CHRISTIE | Y87: CLOSED | Z87: 46048 | AA87: MOH | AB87: 6 | AC87: 0 | AD87: SAVONA | AE87: CLOSED | AF87: 45998 | AG87: KOCH | AH87: 6 | AI87: 0 | AJ87: ROTTERDAM | AK87: CLOSED | AL87: 45913 | AM87: PETRON | AN87: 8 | AO87: 0 | AP87: ZHOUSHAN | AQ87: CLOSED | AR87: 45745 | AS87: PERTAMINA | AT87: 5 | AU87: 0 | AV87: JIEYANG | AW87: CLOSED | AX87: 45628 | AY87: ENOC | AZ87: 15 | BA87: 0 | BB87: DAESAN | BC87: CLOSED | BD87: 45471 | BE87: EQUINOR | BF87: 6 | BG87: 0 | BH87: VADINAR
A88: SHI | B88: 2011 | C88: 81 | D88: SENEGAL PROSPERITY | E88: CSM | F88: =IFERROR(INDEX('DB2'!U:U, MATCH(G88, 'DB2'!V:V, 0)), "") -> TRMT1 | G88: =_xlfn.LET( _xlpm.val, TRIM(LEFT(D88, IFERROR(FIND(CHAR(10), D88)-1, LEN(D88)))), _xlpm.result, IFERROR( _xlfn.XLOOKUP(_xlpm.val, 'DB2'!H:H, 'DB2'!V:V), _xlfn.XLOOKUP(_xlpm.val, 'DB2'!I:I, 'DB2'!V:V) ), IF(OR(_xlpm.result="", _xlpm.result=0), "", _xlpm.result) ) -> YS. YOUN | H88: =_xlfn.LET( _xlpm.val, TRIM(LEFT(D88, IFERROR(FIND(CHAR(10), D88)-1, LEN(D88)))), _xlpm.result, IFERROR( _xlfn.XLOOKUP(_xlpm.val, 'DB2'!H:H, 'DB2'!S:S), _xlfn.XLOOKUP(_xlpm.val, 'DB2'!I:I, 'DB2'!S:S) ), IF(OR(_xlpm.result="", _xlpm.result=0), "", _xlpm.result) ) -> JA. YOUN | I88: Not Valid | M88: OPEN OBS | N88: 46273 | O88: TOTAL | P88: 6 | Q88: 6 | R88: SOHAR
A89: ARIAKE. A | B89: 2010 | C89: 82 | D89: OCEAN LOYALTY | E89: SNGY | F89: =IFERROR(INDEX('DB2'!U:U, MATCH(G89, 'DB2'!V:V, 0)), "") -> TRMT1 | G89: =_xlfn.LET( _xlpm.val, TRIM(LEFT(D89, IFERROR(FIND(CHAR(10), D89)-1, LEN(D89)))), _xlpm.result, IFERROR( _xlfn.XLOOKUP(_xlpm.val, 'DB2'!H:H, 'DB2'!V:V), _xlfn.XLOOKUP(_xlpm.val, 'DB2'!I:I, 'DB2'!V:V) ), IF(OR(_xlpm.result="", _xlpm.result=0), "", _xlpm.result) ) -> JH. YANG | H89: =_xlfn.LET( _xlpm.val, TRIM(LEFT(D89, IFERROR(FIND(CHAR(10), D89)-1, LEN(D89)))), _xlpm.result, IFERROR( _xlfn.XLOOKUP(_xlpm.val, 'DB2'!H:H, 'DB2'!S:S), _xlfn.XLOOKUP(_xlpm.val, 'DB2'!I:I, 'DB2'!S:S) ), IF(OR(_xlpm.result="", _xlpm.result=0), "", _xlpm.result) ) -> HI. HUR | I89: Valid | M89: OPEN OBS | N89: 46285 | O89: ENOC | P89: 6 | Q89: 6 | R89: FUJAIRAH | S89: CLOSED | T89: 46181 | U89: VIVO | V89: 8 | W89: 0 | X89: SOHAR, OMAN | Y89: CLOSED | Z89: 46153 | AA89: ALMA PETROLI | AB89: 6 | AC89: 0 | AD89: MUSCAT | AE89: CLOSED | AF89: 46009 | AG89: IDEMITSU | AH89: 3 | AI89: 0 | AJ89: SRIRACHA | AK89: CLOSED | AL89: 45927 | AM89: CHEVRON | AN89: 7 | AO89: 0 | AP89: CORPUS CHIRSTI | AQ89: CLOSED | AR89: 45741 | AS89: ENOC | AT89: 2 | AU89: 0 | AV89: TRINIDAD | AW89: CLOSED | AX89: 45524 | AY89: MARATHON | AZ89: 6 | BA89: 0 | BB89: ROTTERDAM | BC89: CLOSED | BD89: 45424 | BE89: CHEVRON | BF89: 3 | BG89: 0 | BH89: ZHOUSHAN
A90: ARIAKE. B | B90: 2011 | C90: 83 | D90: MERCURY HOPE | E90: AESM | F90: =IFERROR(INDEX('DB2'!U:U, MATCH(G90, 'DB2'!V:V, 0)), "") -> TRMT1 | G90: =_xlfn.LET( _xlpm.val, TRIM(LEFT(D90, IFERROR(FIND(CHAR(10), D90)-1, LEN(D90)))), _xlpm.result, IFERROR( _xlfn.XLOOKUP(_xlpm.val, 'DB2'!H:H, 'DB2'!V:V), _xlfn.XLOOKUP(_xlpm.val, 'DB2'!I:I, 'DB2'!V:V) ), IF(OR(_xlpm.result="", _xlpm.result=0), "", _xlpm.result) ) -> JH. YANG | H90: =_xlfn.LET( _xlpm.val, TRIM(LEFT(D90, IFERROR(FIND(CHAR(10), D90)-1, LEN(D90)))), _xlpm.result, IFERROR( _xlfn.XLOOKUP(_xlpm.val, 'DB2'!H:H, 'DB2'!S:S), _xlfn.XLOOKUP(_xlpm.val, 'DB2'!I:I, 'DB2'!S:S) ), IF(OR(_xlpm.result="", _xlpm.result=0), "", _xlpm.result) )
B91: 2011 | C91: 84 | D91: DOMINICA PROSPERITY | E91: AESM | F91: =IFERROR(INDEX('DB2'!U:U, MATCH(G91, 'DB2'!V:V, 0)), "") -> TRMT1 | G91: =_xlfn.LET( _xlpm.val, TRIM(LEFT(D91, IFERROR(FIND(CHAR(10), D91)-1, LEN(D91)))), _xlpm.result, IFERROR( _xlfn.XLOOKUP(_xlpm.val, 'DB2'!H:H, 'DB2'!V:V), _xlfn.XLOOKUP(_xlpm.val, 'DB2'!I:I, 'DB2'!V:V) ), IF(OR(_xlpm.result="", _xlpm.result=0), "", _xlpm.result) ) -> JH. YANG | H91: =_xlfn.LET( _xlpm.val, TRIM(LEFT(D91, IFERROR(FIND(CHAR(10), D91)-1, LEN(D91)))), _xlpm.result, IFERROR( _xlfn.XLOOKUP(_xlpm.val, 'DB2'!H:H, 'DB2'!S:S), _xlfn.XLOOKUP(_xlpm.val, 'DB2'!I:I, 'DB2'!S:S) ), IF(OR(_xlpm.result="", _xlpm.result=0), "", _xlpm.result) ) | I91: Valid | M91: OPEN OBS | N91: 46273 | O91: ENOC | P91: 10 | Q91: 10 | R91: ZHOUSHAN, CHINA | S91: CLOSED | T91: 46164 | U91: P66 | V91: 5 | W91: 0 | X91: KAOHSIUNG
A92: ARIAKE. C | B92: 2010 | C92: 85 | D92: BARBADOS PROSPERITY | E92: FLEET | F92: =IFERROR(INDEX('DB2'!U:U, MATCH(G92, 'DB2'!V:V, 0)), "") -> TRMT1 | G92: =_xlfn.LET( _xlpm.val, TRIM(LEFT(D92, IFERROR(FIND(CHAR(10), D92)-1, LEN(D92)))), _xlpm.result, IFERROR( _xlfn.XLOOKUP(_xlpm.val, 'DB2'!H:H, 'DB2'!V:V), _xlfn.XLOOKUP(_xlpm.val, 'DB2'!I:I, 'DB2'!V:V) ), IF(OR(_xlpm.result="", _xlpm.result=0), "", _xlpm.result) ) -> JH. YANG | H92: =_xlfn.LET( _xlpm.val, TRIM(LEFT(D92, IFERROR(FIND(CHAR(10), D92)-1, LEN(D92)))), _xlpm.result, IFERROR( _xlfn.XLOOKUP(_xlpm.val, 'DB2'!H:H, 'DB2'!S:S), _xlfn.XLOOKUP(_xlpm.val, 'DB2'!I:I, 'DB2'!S:S) ), IF(OR(_xlpm.result="", _xlpm.result=0), "", _xlpm.result) ) -> HC. CHUN | I92: Valid | M92: OPEN OBS | N92: 46269 | O92: TOTAL | P92: 7 | Q92: 7 | R92: YEOSU, KOREA | S92: CLOSED | T92: 46140 | U92: IDEMITSU | V92: 3 | W92: 0 | X92: SINGAPORE
B93: 2010 | C93: 86 | D93: CROATIA PROSPERITY | E93: FLEET | F93: =IFERROR(INDEX('DB2'!U:U, MATCH(G93, 'DB2'!V:V, 0)), "") -> TRMT1 | G93: =_xlfn.LET( _xlpm.val, TRIM(LEFT(D93, IFERROR(FIND(CHAR(10), D93)-1, LEN(D93)))), _xlpm.result, IFERROR( _xlfn.XLOOKUP(_xlpm.val, 'DB2'!H:H, 'DB2'!V:V), _xlfn.XLOOKUP(_xlpm.val, 'DB2'!I:I, 'DB2'!V:V) ), IF(OR(_xlpm.result="", _xlpm.result=0), "", _xlpm.result) ) -> JH. YANG | H93: =_xlfn.LET( _xlpm.val, TRIM(LEFT(D93, IFERROR(FIND(CHAR(10), D93)-1, LEN(D93)))), _xlpm.result, IFERROR( _xlfn.XLOOKUP(_xlpm.val, 'DB2'!H:H, 'DB2'!S:S), _xlfn.XLOOKUP(_xlpm.val, 'DB2'!I:I, 'DB2'!S:S) ), IF(OR(_xlpm.result="", _xlpm.result=0), "", _xlpm.result) ) -> YN. PARK | I93: Valid | J93: 46308 | K93: TOTAL | L93: LINGGI | M93: CLOSED | N93: 46219 | O93: IMT | P93: 5 | Q93: 0 | R93: THANH HOA, VIETNAM | S93: CLOSED | T93: 46162 | U93: IDEMITSU | V93: 3 | W93: 0 | X93: SINGAPORE
B94: 2011 | C94: 87 | D94: PHILIPPINES PROSPERITY | E94: FLEET | F94: =IFERROR(INDEX('DB2'!U:U, MATCH(G94, 'DB2'!V:V, 0)), "") -> TRMT1 | G94: =_xlfn.LET( _xlpm.val, TRIM(LEFT(D94, IFERROR(FIND(CHAR(10), D94)-1, LEN(D94)))), _xlpm.result, IFERROR( _xlfn.XLOOKUP(_xlpm.val, 'DB2'!H:H, 'DB2'!V:V), _xlfn.XLOOKUP(_xlpm.val, 'DB2'!I:I, 'DB2'!V:V) ), IF(OR(_xlpm.result="", _xlpm.result=0), "", _xlpm.result) ) -> JH. YANG | H94: =_xlfn.LET( _xlpm.val, TRIM(LEFT(D94, IFERROR(FIND(CHAR(10), D94)-1, LEN(D94)))), _xlpm.result, IFERROR( _xlfn.XLOOKUP(_xlpm.val, 'DB2'!H:H, 'DB2'!S:S), _xlfn.XLOOKUP(_xlpm.val, 'DB2'!I:I, 'DB2'!S:S) ), IF(OR(_xlpm.result="", _xlpm.result=0), "", _xlpm.result) ) -> HC. CHUN | I94: Valid | M94: OPEN OBS | N94: 46268 | O94: TOTAL | P94: 15 | Q94: 11 | R94: DALIAN | S94: CLOSED | T94: 46146 | U94: IDEMITSU | V94: 6 | W94: 0 | X94: SINGAPORE
A95: ARIAKE. D | B95: 2007 | C95: 88 | D95: BAHAMAS PROSPERITY | E95: FLEET | F95: =IFERROR(INDEX('DB2'!U:U, MATCH(G95, 'DB2'!V:V, 0)), "") -> TRMT1 | G95: =_xlfn.LET( _xlpm.val, TRIM(LEFT(D95, IFERROR(FIND(CHAR(10), D95)-1, LEN(D95)))), _xlpm.result, IFERROR( _xlfn.XLOOKUP(_xlpm.val, 'DB2'!H:H, 'DB2'!V:V), _xlfn.XLOOKUP(_xlpm.val, 'DB2'!I:I, 'DB2'!V:V) ), IF(OR(_xlpm.result="", _xlpm.result=0), "", _xlpm.result) ) -> JH. JEONG | H95: =_xlfn.LET( _xlpm.val, TRIM(LEFT(D95, IFERROR(FIND(CHAR(10), D95)-1, LEN(D95)))), _xlpm.result, IFERROR( _xlfn.XLOOKUP(_xlpm.val, 'DB2'!H:H, 'DB2'!S:S), _xlfn.XLOOKUP(_xlpm.val, 'DB2'!I:I, 'DB2'!S:S) ), IF(OR(_xlpm.result="", _xlpm.result=0), "", _xlpm.result) ) -> HS. CHO | I95: Valid | M95: CLOSED | N95: 46249 | O95: IDEMITSU | P95: 6 | Q95: 0 | R95: OMAN | S95: CLOSED | T95: 46142 | U95: IDEMITSU | V95: 6 | W95: 0 | X95: OMAN
B96: 2008 | C96: 89 | D96: MERSIN PROSPERITY | E96: FLEET | F96: =IFERROR(INDEX('DB2'!U:U, MATCH(G96, 'DB2'!V:V, 0)), "") -> TRMT1 | G96: =_xlfn.LET( _xlpm.val, TRIM(LEFT(D96, IFERROR(FIND(CHAR(10), D96)-1, LEN(D96)))), _xlpm.result, IFERROR( _xlfn.XLOOKUP(_xlpm.val, 'DB2'!H:H, 'DB2'!V:V), _xlfn.XLOOKUP(_xlpm.val, 'DB2'!I:I, 'DB2'!V:V) ), IF(OR(_xlpm.result="", _xlpm.result=0), "", _xlpm.result) ) -> JH. JEONG | H96: =_xlfn.LET( _xlpm.val, TRIM(LEFT(D96, IFERROR(FIND(CHAR(10), D96)-1, LEN(D96)))), _xlpm.result, IFERROR( _xlfn.XLOOKUP(_xlpm.val, 'DB2'!H:H, 'DB2'!S:S), _xlfn.XLOOKUP(_xlpm.val, 'DB2'!I:I, 'DB2'!S:S) ), IF(OR(_xlpm.result="", _xlpm.result=0), "", _xlpm.result) ) -> HI. HUR | I96: Not Valid | M96: CLOSED | N96: 46173 | O96: IDEMITSU | P96: 2 | Q96: 0 | R96: SINGAPORE
A97: ARIAKE. E | B97: 2006 | C97: 90 | D97: LILA JAMNAGAR | F97: =IFERROR(INDEX('DB2'!U:U, MATCH(G97, 'DB2'!V:V, 0)), "") -> TRMT3 | G97: =_xlfn.LET( _xlpm.val, TRIM(LEFT(D97, IFERROR(FIND(CHAR(10), D97)-1, LEN(D97)))), _xlpm.result, IFERROR( _xlfn.XLOOKUP(_xlpm.val, 'DB2'!H:H, 'DB2'!V:V), _xlfn.XLOOKUP(_xlpm.val, 'DB2'!I:I, 'DB2'!V:V) ), IF(OR(_xlpm.result="", _xlpm.result=0), "", _xlpm.result) ) -> YS. SON | H97: =_xlfn.LET( _xlpm.val, TRIM(LEFT(D97, IFERROR(FIND(CHAR(10), D97)-1, LEN(D97)))), _xlpm.result, IFERROR( _xlfn.XLOOKUP(_xlpm.val, 'DB2'!H:H, 'DB2'!S:S), _xlfn.XLOOKUP(_xlpm.val, 'DB2'!I:I, 'DB2'!S:S) ), IF(OR(_xlpm.result="", _xlpm.result=0), "", _xlpm.result) )
A98: KURE. A | B98: 2013 | C98: 91 | D98: SINGAPORE PROSPERITY | E98: CSM | F98: =IFERROR(INDEX('DB2'!U:U, MATCH(G98, 'DB2'!V:V, 0)), "") -> TRMT1 | G98: =_xlfn.LET( _xlpm.val, TRIM(LEFT(D98, IFERROR(FIND(CHAR(10), D98)-1, LEN(D98)))), _xlpm.result, IFERROR( _xlfn.XLOOKUP(_xlpm.val, 'DB2'!H:H, 'DB2'!V:V), _xlfn.XLOOKUP(_xlpm.val, 'DB2'!I:I, 'DB2'!V:V) ), IF(OR(_xlpm.result="", _xlpm.result=0), "", _xlpm.result) ) -> NIKOS | H98: =_xlfn.LET( _xlpm.val, TRIM(LEFT(D98, IFERROR(FIND(CHAR(10), D98)-1, LEN(D98)))), _xlpm.result, IFERROR( _xlfn.XLOOKUP(_xlpm.val, 'DB2'!H:H, 'DB2'!S:S), _xlfn.XLOOKUP(_xlpm.val, 'DB2'!I:I, 'DB2'!S:S) ), IF(OR(_xlpm.result="", _xlpm.result=0), "", _xlpm.result) ) -> IJ. YEOL | I98: Valid | M98: CLOSED | N98: 46214 | O98: PETROVIETNAM | P98: 5 | Q98: 0 | R98: FUJAIRAH | S98: CLOSED | T98: 46144 | U98: PETRON | V98: 5 | W98: 0 | X98: SINGAPORE
A99: KURE. B | B99: 2011 | C99: 92 | D99: GABON PROSPERITY | E99: SNGY | F99: =IFERROR(INDEX('DB2'!U:U, MATCH(G99, 'DB2'!V:V, 0)), "") -> TRMT1 | G99: =_xlfn.LET( _xlpm.val, TRIM(LEFT(D99, IFERROR(FIND(CHAR(10), D99)-1, LEN(D99)))), _xlpm.result, IFERROR( _xlfn.XLOOKUP(_xlpm.val, 'DB2'!H:H, 'DB2'!V:V), _xlfn.XLOOKUP(_xlpm.val, 'DB2'!I:I, 'DB2'!V:V) ), IF(OR(_xlpm.result="", _xlpm.result=0), "", _xlpm.result) ) -> NIKOS | H99: =_xlfn.LET( _xlpm.val, TRIM(LEFT(D99, IFERROR(FIND(CHAR(10), D99)-1, LEN(D99)))), _xlpm.result, IFERROR( _xlfn.XLOOKUP(_xlpm.val, 'DB2'!H:H, 'DB2'!S:S), _xlfn.XLOOKUP(_xlpm.val, 'DB2'!I:I, 'DB2'!S:S) ), IF(OR(_xlpm.result="", _xlpm.result=0), "", _xlpm.result) ) -> SY. KIM | I99: Valid | M99: OPEN OBS | N99: 46256 | O99: ENOC | P99: 5 | Q99: 5 | R99: AIN SUKHNA | S99: CLOSED | T99: 46144 | U99: ECOPETROL | V99: 3 | W99: 0 | X99: FUJAIRAH
A100: KHI | B100: 2008 | C100: 93 | D100: LILA KOCHI | F100: TRMT1
A101: IHI | B101: 2010 | C101: 94 | D101: BASRAH ENERGY | E101: SNGY | F101: =IFERROR(INDEX('DB2'!U:U, MATCH(G101, 'DB2'!V:V, 0)), "") -> TRMT3 | G101: =_xlfn.LET( _xlpm.val, TRIM(LEFT(D101, IFERROR(FIND(CHAR(10), D101)-1, LEN(D101)))), _xlpm.result, IFERROR( _xlfn.XLOOKUP(_xlpm.val, 'DB2'!H:H, 'DB2'!V:V), _xlfn.XLOOKUP(_xlpm.val, 'DB2'!I:I, 'DB2'!V:V) ), IF(OR(_xlpm.result="", _xlpm.result=0), "", _xlpm.result) ) -> HM. KIM | H101: =_xlfn.LET( _xlpm.val, TRIM(LEFT(D101, IFERROR(FIND(CHAR(10), D101)-1, LEN(D101)))), _xlpm.result, IFERROR( _xlfn.XLOOKUP(_xlpm.val, 'DB2'!H:H, 'DB2'!S:S), _xlfn.XLOOKUP(_xlpm.val, 'DB2'!I:I, 'DB2'!S:S) ), IF(OR(_xlpm.result="", _xlpm.result=0), "", _xlpm.result) ) -> TW. HWANG | I101: Not Valid
...

Sheet Add. Crew
A1: VLCC EVENT & SIRE STATUS
A3: VESSEL INFO | D3: ADDITIONAL CREW
A4: VESSEL NAME | B4: O/X | C4: CREW PIC | D4: CREW NUMBER | H4: CREW DETAIL | I4: REMARK
D5: MAX | E5: SMA | F5: NOW | G5: PLAN | H5: ADD CREW
A6: PACIFIC SUCCESS
A7: MONACO LOYALTY
A8: SINGAPORE LOYALTY
A9: PLATA SINGAPORE
A10: PLATA CARRIER
A11: PLATA LUCKY
A12: PANAMA PROSPERITY
A13: LUCKY PIONEER
A14: SINGAPORE ENERGY
A15: ROBERTA B
A16: TRIKWONG VENTURE
A17: BANGLADESH PROSPERITY
... A43: BULGARIA PROSPERITY
A44: ARGENTINA B | I44: ADNOC BBC
A45: MALTA PROSPERITY
A46: IVORY COAST PROSPERITY
A47: TOGO PROSPERITY | I47: ADNOC BBC
A48: BALTIC LOYALTY
A49: GULF LOYALTY
A50: CARIBBEAN LOYALTY
A51: SOUTH AFRICA PROSPERITY
A52: JAMAICA PROSPERITY
A53: SWEDEN PROSPERITY
A54: BAHRAIN PROSPERITY | I54: ADNOC BBC
A55: DUBAI ENERGY
A56: ANGOLA B | I56: ADNOC BBC
A57: MOZAMBIQUE B
A58: VIETNAM PROSPERITY
A59: SPAIN B
A60: KUWAIT PROSPERITY
A61: MOMBASA B
A62: ECUADOR PROSPERITY
A63: CAMEROON PROSPERITY | I63: ADNOC BBC
A64: ROMANIA PROSPERITY | I64: ADNOC BBC
A65: GHANA PROSPERITY
A66: COLOMBIA PROSPERITY
A67: GREECE PROSPERITY
A68: GUYANA PROSPERITY
A69: BELGIUM B
A70: ANGOLA PROSPERITY
A71: FRANCE C | I71: ADNOC BBC
A72: DHT BAUHINIA
A73: PLATA SOUTH
A74: BRUNEI PROSPERITY
A75: MONACO PROSPERITY
A76: MOROCCO PROSPERITY
A77: KENYA B
A78: FUJAIRAH ENERGY | I78: ADNOC BBC
A79: CARIBBEAN GLORY
A80: GULF SUNRISE
A81: EAST LOYALTY
A82: WEST LOYALTY
A83: SOUTH LOYALTY
A84: NORTH LOYALTY
A85: SENEGAL PROSPERITY
A86: OCEAN LOYALTY
A87: MERCURY HOPE
A88: MERMAID HOPE
A89: BARBADOS PROSPERITY
A90: CROATIA PROSPERITY
... A96: GABON PROSPERITY
A97: BASRAH ENERGY | I97: ADNOC BBC
A98: TUNISIA PROSPERITY
A99: FIJI PROSPERITY

Sheet 보고양식
A1: *##LUCKY PIONEER [DALIAN 2011 BUILT] – DD 연장 계획##* 1. 현재 DD DUE : 2025년 9월 16일 2. 연장 계획 1) PORT : SALDANHA BAY, SOUTH AFRICA (현위치에서 650마일 이동) 2) 연장 검사 일정 : 8월9일 ~ 8월 11일 3) 검사 항목 : 수중검사 / 무선 장비 검사 / 소화 인명 장비 검사 / 선급 검사 / 보일러 검사 4) 예상 비용 : 약 5만불. | B1: *## – ##* | D1: ##PACIFIC EMERALD (BLT 2021) NO.2 LNG PUMP 압력 저하## NO.2 LNG PUMP 운용 중 압력 저하 발생. 5/16 ROTTERDAM에서 시행한 LNG BUNKERING 시 섬유질 유입 추정. 1. EVENT 1) 5/16일 ROTTERDAM, NETHELAND - LNG 벙커링 시행. A. 벙커링 총량 : 860 MT (1,992 M3) B. NO.1 LNG TANK (395m3 에서 1,435m3로 보급) C. NO.2 LNG TANK (469m3 에서 1,423m3로 보급) 2) 5/21 1000LT NO.2 LNG TANK 사용 시작. (시작 시점 총량 1,425 m3 PUMP 압력 7.0 Bar ) 3) 5/21 1000LT NO.2 LNG PUMP START 와 동시에 7.0 Bar 이상 압력 생성 불가 확인. 4) 5/21 1600LT 부터 BACK FLUSHING 지속 시행 중 5) 5/24 2.0 Bar 까지 Flushing 압력을 올려 시도 하였으나 현재까지 상태 동일함. 2. 추정 원인 1) 5/16 ROTTERDAM에서 시행한 LNG BUNKERING 시 섬유질 유입 후 시간이 지남에 따라 STRAINER (4 MICRON) 막히는 것으로 추정. 2) 현재 NO.1 LNG PUMP 사용 시 압력하강 문제 없는 점 고려 이번 BUNKERING시의 외부 유입이 아닐 수 있다는 추정. 3) 원인과 관련해서는 Tank 내부 검사 전까지는 확신할 수 없으나 4 MICRON FILTER MESH 교체에도 동일한 현상이 발생 할 수 있음이 확인됨. 3. 수리 계획 1) 현재로써는 NO.1 LNG PUMP로 BACK FLUSHING 하여 NO.2 STRAINER 지속 BLOWING. 2) 조선소 측과 협의하여 추가 TROUBLESHOOTING 관련 확인 중. 3) 2025년 입거시까지 상기 방법으로 운용 후 입거 중 TANK EMPTY 후 소제 예정. 4) 2025년 입거시까지 운용 불가능할 경우 항차 중 LNG TANK EMPTY 계획 수립 예정.

Sheet DB2
A1: VLCC - PIC List | B1: VLCC - PIC List | C1: TANKER FLEET - PIC LIST
S2: TRMT1 | T2: =SUM(T3:T9) -> 83 | U2: TRMT2 | V2: =SUM(V3:V9) -> 64 | W2: TRMT3 | X2: =SUM(X3:X9) -> 43
S3: YS. YOUN | T3: =COUNTIF($V$14:$V$121,S3) -> 10 | U3: KL. CHOI | V3: =COUNTIF($V$14:$V$121,U3)+18 -> 22 | W3: YS. SON | X3: =COUNTIF($V$14:$V$121,W3)+8 -> 12
S4: NIKOS | T4: =COUNTIF($V$14:$V$121,S4) -> 12 | U4: JN. SHIM | V4: =COUNTIF($V$14:$V$121,U4)+19 -> 21 | W4: HM. KIM | X4: =COUNTIF($V$14:$V$121,W4)+10 -> 18
S5: JH. YANG | T5: =COUNTIF($V$14:$V$121,S5) -> 14 | U5: YJ. JEON | V5: =COUNTIF($V$14:$V$121,U5)+18 -> 21 | W5: CJ. LEE | X5: =COUNTIF($V$14:$V$121,W5)+9 -> 13
S6: MS. KANG | T6: =COUNTIF($V$14:$V$121,S6) -> 14 | U6: SH. BAE | V6: 0
S7: JH. JEONG | T7: =COUNTIF($V$14:$V$121,S7) -> 14
S8: HS. KIM | T8: =COUNTIF($V$14:$V$121,S8) -> 11
S9: TW. CHOI | T9: =COUNTIF($V$14:$V$121,S9) -> 8
U10: LR | V10: 10 | W10: CNTR | X10: 27
B11: =TODAY() -> 46182 | U11: MR | V11: 45
N12: MANAGER | O12: MANAGER | P12: MANAGER | Q12: SINOKOR VLCC OPERATION | T12: SINOKOR | U12: SINOKOR
A13: KIND | B13: KIND | C13: NO | D13: BUILT YARD | E13: HULL NO. | F13: BUILT DATE | G13: AGE | H13: VESSEL NAME | I13: EX-NAME | J13: CODE | K13: IMO | L13: FLAG | M13: CLASS | N13: COMPANY | O13: MARINE | P13: TECH | Q13: CONTRACT | R13: OPERATION | T13: CREW | U13: TECH | V13: PIC | W13: 2026 DOCK | X13: REMARK
A14: TANKER | B14: LNG | C14: 1 | D14: SHI | E14: 5421 | F14: 45369 | G14: =($B$11-F14)/365 -> 2.2273973 | H14: PACIFIC SUCCESS | J14: PFSC | K14: 9903425 | L14: PAN | M14: BV | N14: WSM | O14: CAPT. PAVNEET | P14: SAFUWAN | Q14: TOTAL T/C | R14: 2 | S14: SI. YANG | U14: TRMT1 | V14: HS. KIM | Y14: 1
A15: TANKER | B15: VLCC | C15: 1 | D15: DALIAN. A | E15: T3000-10 | F15: 39280 | G15: =($B$11-F15)/365 -> 18.909589 | H15: MONACO LOYALTY | J15: MNLT | K15: 9312511 | L15: MI | M15: KR | N15: FLEET T6 | O15: CAPT. KUNAL | P15: PRAVEEN | Q15: SPOT | R15: 3 | S15: SY. CHOI | U15: TRMT1 | V15: JH. JEONG | Y15: 2
A16: TANKER | B16: VLCC | C16: 2 | D16: DALIAN. A | E16: T3000-11 | F16: 39382 | G16: =($B$11-F16)/365 -> 18.630137 | H16: SINGAPORE LOYALTY | J16: SGLT | K16: 9322293 | L16: MI | M16: KR | N16: FLEET T6 | O16: CAPT. KUNAL | P16: SUMIT | Q16: SPOT | R16: 3 | S16: DE. PARK | U16: TRMT1 | V16: JH. JEONG | Y16: 3
A17: TANKER | B17: VLCC | C17: 3 | D17: DALIAN. A | E17: T3000-12 | F17: 39472 | G17: =($B$11-F17)/365 -> 18.383562 | H17: PLATA SINGAPORE | J17: PTSG | K17: 9323936 | L17: LIB | M17: KR | N17: AETM SG | O17: CAPT. FRANCO | P17: CHEN | Q17: SPOT | R17: 2 | S17: JY. RO | U17: TRMT1 | V17: JH. JEONG | Y17: 4
A18: TANKER | B18: VLCC | C18: 4 | D18: DALIAN. A | E18: T3000-16 | F18: 39718 | G18: =($B$11-F18)/365 -> 17.709589 | H18: PLATA CARRIER | J18: PTCR | K18: 9358280 | L18: LIB | M18: KR | N18: AETM SG | O18: CAPT. FRANCO | P18: STANLY | Q18: SPOT | R18: 1 | S18: SY. KIM | U18: TRMT1 | V18: JH. JEONG | W18: 46299 | Y18: 5
A19: TANKER | B19: VLCC | C19: 5 | D19: DALIAN. A | E19: T3000-17 | F19: 39867 | G19: =($B$11-F19)/365 -> 17.30137 | H19: PLATA LUCKY | J19: PTLK | K19: 9358292 | L19: LIB | M19: KR | N19: AETM SG | O19: CAPT. FRANCO | P19: PAUL | Q19: SPOT | R19: 1 | S19: JA. YOUN | U19: TRMT1 | V19: JH. JEONG | Y19: 6
A20: TANKER | B20: VLCC | C20: 6 | D20: DALIAN. B | E20: T3000-37 | F20: 40631 | G20: =($B$11-F20)/365 -> 15.208219 | H20: PANAMA PROSPERITY | I20: NAVE BUENA SUERTE | J20: PMPS | K20: 9514561 | L20: LIB | M20: BV | N20: SYNERGY A/S | P20: VIJAY | Q20: SPOT | R20: 3 | S20: HR. KIM | U20: TRMT1 | V20: MS. KANG | Y20: 7
A21: TANKER | B21: VLCC | C21: 7 | D21: DALIAN. B | E21: T3000-41 | F21: 40732 | G21: =($B$11-F21)/365 -> 14.931507 | H21: LUCKY PIONEER | J21: LKPN | K21: 9530228 | L21: MI | M21: KR | N21: VSHIPS. UK | O21: CAPT. ROMEL | P21: GANESA | Q21: SPOT | R21: 1 | S21: JA. YOUN | U21: TRMT2 | V21: KL. CHOI | Y21: 8
A22: TANKER | B22: VLCC | C22: 8 | D22: DALIAN. B | E22: T3000-40 | F22: 40786 | G22: =($B$11-F22)/365 -> 14.783562 | H22: SINGAPORE ENERGY | I22: BLUE NOVA | J22: SGEG | K22: 9534846 | L22: LIB | M22: BV | N22: FLEET T2 | O22: CAPT. KUNAL | P22: AJIT | Q22: SPOT | R22: 2 | S22: JS. LEE | U22: TRMT1 | V22: MS. KANG | W22: 46264 | Y22: 9
A23: TANKER | B23: VLCC | C23: 9 | D23: DALIAN. B | E23: T3000-42 | F23: 40914 | G23: =($B$11-F23)/365 -> 14.432877 | H23: ROBERTA B | I23: SW KILIMANJARO | J23: RBBB | K23: 9563237 | L23: LIB | M23: BV | N23: VSHIPS. UK | P23: MUSTAFA | Q23: SPOT | R23: AST | S23: HS. CHO | U23: TRMT2 | V23: KL. CHOI | W23: 46380 | Y23: 10
A24: TANKER | B24: VLCC | C24: 10 | D24: DALIAN. B | E24: T3000-43 | F24: 40918 | G24: =($B$11-F24)/365 -> 14.421918 | H24: COSTA RICA PROSPERITY | I24: TRIKWONG VENTURE | J24: CTPS | K24: 9534858 | L24: LIB | M24: BV | N24: WAH KWONG | O24: CAPT. ADAM Z. TAO | P24: JET ZHOU | Q24: SPOT | R24: 3 | S24: YN. KIM | U24: TRMT1 | V24: MS. KANG | Y24: 11
A25: TANKER | B25: VLCC | C25: 11 | D25: DALIAN. C | E25: T300K-66 | F25: 42639 | G25: =($B$11-F25)/365 -> 9.7068493 | H25: BANGLADESH PROSPERITY | I25: VENI VIDI VICI | J25: BDPS | K25: 9727223 | L25: LIB | M25: BV | N25: CSM 1 | P25: SALAB | Q25: SPOT | R25: 3 | S25: YS. HEO | U25: TRMT1 | V25: YS. YOUN | W25: 46290 | Y25: 12
A26: TANKER | B26: VLCC | C26: 12 | D26: DALIAN. D | E26: T308K-3 | F26: 43578 | G26: =($B$11-F26)/365 -> 7.1342466 | H26: CHILE PROSPERITY | I26: VERY LUCKY | J26: CHPS | K26: 9826847 | L26: LIB | M26: BV | N26: CSM 2 | P26: S.MASLOV | Q26: SPOT | R26: 1 | S26: DB. SEO | U26: TRMT1 | V26: HS. KIM | Y26: 13
A27: TANKER | B27: VLCC | C27: 13 | D27: JIANGNAN. A | E27: H2389 | F27: 39819 | G27: =($B$11-F27)/365 -> 17.432877 | H27: SURINAME PROSPERITY | I27: ADVANTAGE VALUE | J27: SRPS | K27: 9376749 | L27: LIB | M27: BV | N27: CSM 2 | P27: C. ONOUFRIOS | Q27: SPOT | R27: B2 | S27: CH. BAE | U27: TRMT1 | V27: NIKOS | W27: 46364 | Y27: 14
A28: TANKER | B28: VLCC | C28: 14 | D28: JIANGNAN. A | E28: H2394 | F28: 39959 | G28: =($B$11-F28)/365 -> 17.049315 | H28: FINLAND PROSPERITY | I28: ASIAN LION | J28: FLPS | K28: 9376751 | L28: LIB | M28: BV | N28: BSM | P28: DAVID WANG | Q28: SPOT | R28: 1 | S28: HI. HUR | U28: TRMT1 | V28: NIKOS | Y28: 15
A29: TANKER | B29: VLCC | C29: 15 | D29: JIANGNAN. A | E29: H2396 | F29: 39821 | G29: =($B$11-F29)/365 -> 17.427397 | H29: PLATA GLORY | J29: PTGY | K29: 9384590 | L29: MI | M29: KR | N29: VSHIPS. NOR | O29: CAPT. LUKASZ | P29: LAIHO | Q29: SPOT | R29: 1 | S29: SY. RYU | U29: TRMT2 | V29: JN. SHIM | Y29: 16
A30: TANKER | B30: VLCC | C30: 16 | D30: JIANGNAN. A | E30: H2397 | F30: 39951 | G30: =($B$11-F30)/365 -> 17.071233 | H30: PLATA NORTH | J30: PTNT | K30: 9384605 | L30: MI | M30: KR | N30: VSHIPS. NOR | O30: CAPT. LUKASZ | P30: LAIHO | Q30: SPOT | R30: 3 | S30: YS. HEO | U30: TRMT2 | V30: JN. SHIM | Y30: 17
A31: TANKER | B31: VLCC | C31: 17 | D31: JIANGNAN. A | E31: H2398 | F31: 40102 | G31: =($B$11-F31)/365 -> 16.657534 | I31: NAVE GALACTIC | K31: 9384617 | L31: LIB | M31: BV | Q31: SPOT | U31: TRMT1 | V31: JH. YANG | Y31: 18
A32: TANKER | B32: VLCC | C32: 18 | D32: JIANGNAN. A | E32: H2399 | F32: 40219 | G32: =($B$11-F32)/365 -> 16.336986 | H32: LUCKY CARRIER | J32: LKCR | K32: 9400679 | L32: MI | M32: KR | N32: VSHIPS. UK | O32: CAPT. ROMEL | P32: GANESA | Q32: SPOT | R32: 2 | S32: JM. YOUN | U32: TRMT2 | V32: KL. CHOI | Y32: 19
A33: TANKER | B33: VLCC | C33: 19 | D33: JIANGNAN. A | E33: H2402 | F33: 40918 | G33: =($B$11-F33)/365 -> 14.421918 | H33: MADAGASCAR PROSPERITY | I33: KONDOR | J33: MGPS | K33: 9610250 | L33: LIB | M33: BV | N33: VSHIPS. UK | P33: MUSTAFA | Q33: SPOT | R33: 3 | S33: HR. KIM | U33: TRMT2 | V33: YJ. JEON | Y33: 20
A34: TANKER | B34: VLCC | C34: 20 | D34: JIANGNAN. A | E34: H2407 | F34: 40807 | G34: =($B$11-F34)/365 -> 14.726027 | H34: MALAYSIA PROSPERITY | I34: DESIMI | J34: MLPS | K34: 9395305 | L34: LIB | M34: BV | N34: SYNERGY A/S | P34: ADITYA BAKSHI | Q34: SPOT | R34: 2 | S34: TW. HWANG | U34: TRMT1 | V34: MS. KANG | W34: 46285 | Y34: 21
A35: TANKER | B35: VLCC | C35: 21 | D35: JIANGNAN. A | E35: H2408 | F35: 40305 | G35: =($B$11-F35)/365 -> 16.10137 | H35: GERMANY B | I35: SOLANA | J35: GMBB | K35: 9395317 | L35: LIB | M35: BV | N35: FLEET T2 | P35: AJITH | Q35: SPOT | R35: AST | S35: YN. PARK | U35: TRMT1 | V35: MS. KANG | Y35: 22
A36: TANKER | B36: VLCC | C36: 22 | D36: JIANGNAN. A | E36: H2415 | F36: 40407 | G36: =($B$11-F36)/365 -> 15.821918 | H36: TANZANIA PROSPERITY | I36: YIANGOS | J36: TZPS | K36: 9414931 | L36: LIB | M36: BV | N36: SYNERGY A/S | P36: JUSTIN JOHN | Q36: SPOT | R36: AST | S36: HS. CHO | U36: TRMT1 | V36: JH. YANG | Y36: 23
A37: TANKER | B37: VLCC | C37: 23 | D37: JIANGNAN. A | E37: H2416 | F37: 40480 | G37: =($B$11-F37)/365 -> 15.621918 | H37: ROTTERDAM ENERGY | I37: KALLIOPI | J37: RDEG | K37: 9508859 | L37: LIB | M37: BV | N37: FLEET T6 | O37: CAPT. KUNAL | P37: ARUN | Q37: SPOT | R37: 3 | S37: MJ. CHOI | U37: TRMT1 | V37: MS. KANG | Y37: 24
A38: TANKER | B38: VLCC | C38: 24 | D38: JIANGNAN. A | E38: H2417 | F38: 40555 | G38: =($B$11-F38)/365 -> 15.416438 | H38: SRI LANKA PROSPERITY | I38: EVGENIA I | J38: SLPS | K38: 9575943 | L38: LIB | M38: BV | N38: CSM 3 | P38: G.APOSTOLIDIS | Q38: SPOT | R38: MPT | S38: CHAN HEO | U38: TRMT1 | V38: JH. YANG | Y38: 25
A39: TANKER | B39: VLCC | C39: 25 | D39: JIANGNAN. A | E39: H2418 | F39: 40651 | G39: =($B$11-F39)/365 -> 15.153425 | H39: THAILAND PROSPERITY | I39: POLYMNIA I | J39: TLPS | K39: 9575955 | L39: LIB | M39: BV | N39: FLEET T2 | P39: AJITH | Q39: SPOT | R39: 3 | S39: DE. PARK | U39: TRMT1 | V39: MS. KANG | Y39: 26
A40: TANKER | B40: VLCC | C40: 26 | D40: JIANGNAN. A | E40: H2419 | F40: 40339 | G40: =($B$11-F40)/365 -> 16.008219 | H40: PLATA WEST | J40: PTWT | K40: 9400681 | L40: MI | M40: KR | N40: CSM 1 | O40: ANTONIOU | P40: MANOJ | Q40: SPOT | R40: 1 | S40: SY. RYU | U40: TRMT2 | V40: YJ. JEON | Y40: 27
A41: TANKER | B41: VLCC | C41: 27 | D41: JIANGNAN. A | E41: H2420 | F41: 40399 | G41: =($B$11-F41)/365 -> 15.843836 | H41: PLATA EAST | J41: PTET | K41: 9410997 | L41: MI | M41: KR | N41: CSM 1 | O41: ANTONIOU | P41: MANOJ | Q41: SPOT | R41: B2 | S41: ROY. HA | U41: TRMT2 | V41: YJ. JEON | Y41: 28
A42: TANKER | B42: VLCC | C42: 28 | D42: SWS. A | E42: 1102 | F42: 40031 | G42: =($B$11-F42)/365 -> 16.852055 | H42: PERU PROSPERITY | I42: MARAN LUPUS | J42: PRPS | K42: 9418066 | L42: LIB | M42: BV | N42: SYNERGY A/S | P42: VIJAY | Q42: SPOT | R42: MPT | S42: IJ. YEOL | U42: TRMT1 | V42: TW. CHOI | Y42: 29
A43: TANKER | B43: VLCC | C43: 29 | D43: SWS. A | E43: 1104 | F43: 40212 | G43: =($B$11-F43)/365 -> 16.356164 | H43: BRAZIL PROSPERITY | I43: MARAN LYRA | J43: BZPS | K43: 9559406 | L43: LIB | M43: BV | N43: FLEET T2 | O43: CAPT. KUNAL | P43: HIMANSHU | Q43: SPOT | R43: 3 | S43: HS. LEE | U43: TRMT1 | V43: TW. CHOI | Y43: 30
A44: TANKER | B44: VLCC | C44: 30 | D44: SWS. B | E44: 1191 | F44: 40645 | G44: =($B$11-F44)/365 -> 15.169863 | H44: EGYPT PROSPERITY | I44: CYAN NOVA | J44: EGPS | K44: 9534004 | L44: LIB | M44: BV | N44: FLEET T2 | P44: HIMANSHU | Q44: SPOT | R44: AST | S44: YN. PARK | U44: TRMT1 | V44: MS. KANG | Y44: 31
A45: TANKER | B45: VLCC | C45: 31 | D45: SWS. B | E45: 1201 | F45: 40855 | G45: =($B$11-F45)/365 -> 14.594521 | H45: RIO DE JANEIRO ENERGY | I45: COBALT NOVA | J45: RDEG | K45: 9534028 | L45: LIB | M45: BV | N45: FLEET T2 | O45: CAPT. KUNAL | P45: PANDEY | Q45: SPOT | R45: 2 | S45: HK. SOHN | U45: TRMT1 | V45: MS. KANG | W45: 46333 | Y45: 32
A46: TANKER | B46: VLCC | C46: 32 | D46: SWS. B | E46: 1203 | F46: 41093 | G46: =($B$11-F46)/365 -> 13.942466 | I46: VLCC STEPHANIE | K46: 9534042 | L46: LIB | M46: BV | Q46: SPOT | U46: TRMT1 | V46: TW. CHOI | Y46: 33
A47: TANKER | B47: VLCC | C47: 33 | D47: SWS. C | E47: 1250 | F47: 41439 | G47: =($B$11-F47)/365 -> 12.994521 | I47: SINGAPORE SPIRIT | K47: 9602289 | L47: LIB | M47: BV | Q47: SPOT | U47: TRMT1 | V47: TW. CHOI | Y47: 34
A48: TANKER | B48: VLCC | C48: 34 | D48: SWS. D | E48: 1421 | F48: 42762 | G48: =($B$11-F48)/365 -> 9.369863 | H48: CONGO PROSPERITY | I48: LEICESTER | J48: CGPS | K48: 9792266 | L48: LIB | M48: BV | Q48: SPOT | U48: TRMT1 | V48: NIKOS | W48: 46278 | Y48: 35
A49: TANKER | B49: VLCC | C49: 35 | D49: NEW TIMES. A | E49: 332001 | F49: 41232 | G49: =($B$11-F49)/365 -> 13.561644 | H49: CYPRUS PROSPERITY | I49: BOSTON | J49: CPPS | K49: 9595216 | L49: LIB | M49: BV | N49: SYNERGY A/S | P49: NITIN KRISHNAN | Q49: SPOT | R49: 2 | S49: TW. HWANG | U49: TRMT3 | V49: YS. SON | Y49: 36
A50: TANKER | B50: VLCC | C50: 36 | D50: NEW TIMES. A | E50: 332002 | F50: 41311 | G50: =($B$11-F50)/365 -> 13.345205 | H50: INDONESIA PROSPERITY | I50: DALIAN | J50: INPS | K50: 9595228 | L50: LIB | M50: BV | N50: CSM 3 | P50: K.PAPADIMOULIS | Q50: SPOT | R50: 3 | S50: SE. PARK | U50: TRMT3 | V50: YS. SON | Y50: 37
A51: TANKER | B51: VLCC | C51: 37 | D51: HHI. A | E51: 1921 | F51: 39678 | G51: =($B$11-F51)/365 -> 17.819178 | H51: BULGARIA PROSPERITY | I51: IOANNA | J51: BGPS | K51: 9387566 | L51: LIB | M51: BV | N51: FLEET T2 | P51: SHETTY | Q51: SPOT | R51: AST | S51: HS. CHO | U51: TRMT1 | V51: JH. JEONG | W51: 46309 | Y51: 38
A52: TANKER | B52: VLCC | C52: 38 | D52: HHI. A | E52: 1923 | F52: 39888 | G52: =($B$11-F52)/365 -> 17.243836 | H52: ARGENTINA B | I52: MARINA | J52: ATBB | K52: 9389021 | L52: LIB | M52: BV | N52: SYNERGY A/S | P52: PRADEEP NAIR | Q52: ADNOC BBC 2 | R52: 2 | S52: TW. HWANG | U52: TRMT3 | V52: HM. KIM | Y52: 39
A53: TANKER | B53: VLCC | C53: 39 | D53: HHI. A | E53: 1924 | F53: 39940 | G53: =($B$11-F53)/365 -> 17.10137 | H53: MALTA PROSPERITY | I53: GEORGIOS | J53: MTPS | K53: 9389033 | L53: LIB | M53: BV | N53: FLEET T6 | P53: PRAVEEN | Q53: SPOT | R53: 1 | S53: SH, OHN | U53: TRMT1 | V53: JH. JEONG | Y53: 40
A54: TANKER | B54: VLCC | C54: 40 | D54: HHI. A | E54: 1933 | F54: 39989 | G54: =($B$11-F54)/365 -> 16.967123 | H54: IVORY COAST PROSPERITY | I54: CAESAR | J54: IVPS | K54: 9389265 | L54: LIB | M54: BV | N54: FLEET T2 | P54: AJITH | Q54: SPOT | R54: 3 | S54: HS. LEE | U54: TRMT1 | V54: MS. KANG | Y54: 41
A55: TANKER | B55: VLCC | C55: 41 | D55: HHI. B | E55: 2001 | F55: 40213 | G55: =($B$11-F55)/365 -> 16.353425 | H55: TOGO PROSPERITY | I55: SW RAFFLES | J55: TGPS | K55: 9411032 | L55: LIB | M55: BV | N55: FLEET SG | P55: SUMIT | Q55: ADNOC BBC 5 | R55: 2 | S55: TW. HWANG | U55: TRMT1 | V55: MS. KANG | Y55: 42
A56: TANKER | B56: VLCC | C56: 42 | D56: HHI. C | E56: 2003 | F56: 40189 | G56: =($B$11-F56)/365 -> 16.419178 | H56: BALTIC LOYALTY | J56: BTLT | K56: 9411953 | L56: LIB | M56: KR | N56: CSM 1 | O56: ANTONIOU | P56: SALAB | Q56: SPOT | R56: 3 | S56: SE. PARK | U56: TRMT1 | V56: NIKOS | Y56: 43
A57: TANKER | B57: VLCC | C57: 43 | D57: HHI. D | E57: 2247 | F57: 40553 | G57: =($B$11-F57)/365 -> 15.421918 | H57: GULF LOYALTY | J57: GFLT | K57: 9441245 | L57: MI | M57: BV | N57: OMAN | O57: CAPT. SAH | P57: SAKTHIVEL | Q57: SPOT | R57: 2 | S57: SI. YANG | U57: TRMT1 | V57: JH. YANG | Y57: 44
A58: TANKER | B58: VLCC | C58: 44 | D58: HHI. D | E58: 2248 | F58: 40679 | G58: =($B$11-F58)/365 -> 15.076712 | H58: CARIBBEAN LOYALTY | J58: CBLT | K58: 9501150 | L58: MI | M58: BV | N58: CSM 1 | O58: ANTONIOU | P58: SALAB | Q58: SPOT | R58: 2 | S58: HJ. LEE | U58: TRMT1 | V58: NIKOS | Y58: 45
A59: TANKER | B59: VLCC | C59: 45 | D59: HHI. E | E59: 2308 | F59: 40766 | G59: =($B$11-F59)/365 -> 14.838356 | H59: SOUTH AFRICA PROSPERITY | I59: ITHAKI | J59: SAPS | K59: 9526461 | L59: LIB | M59: BV | N59: CSM 3 | P59: K.PAPADIMOULIS | Q59: SPOT | R59: B2 | S59: ROY. HA | U59: TRMT3 | V59: HM. KIM | W59: 46244 | Y59: 46
A60: TANKER | B60: VLCC | C60: 46 | D60: HHI. F | E60: 2417 | F60: 40914 | G60: =($B$11-F60)/365 -> 14.432877 | H60: JAMAICA PROSPERITY | I60: INGRID | J60: JMPS | K60: 9529956 | L60: LIB | M60: BV | N60: CSM 2 | P60: C. ONOUFRIOS | Q60: SPOT | R60: MPT | S60: CHAN HEO | U60: TRMT1 | V60: YS. YOUN | Y60: 47
A61: TANKER | B61: VLCC | C61: 47 | D61: HHI. F | E61: 2419 | F61: 41038 | G61: =($B$11-F61)/365 -> 14.093151 | H61: SWEDEN PROSPERITY | I61: ILMA | J61: SWPS | K61: 9588392 | L61: LIB | M61: BV | N61: CSM 2 | P61: C. ONOUFRIOS | Q61: SPOT | R61: MPT | S61: CHAN HEO | U61: TRMT1 | V61: YS. YOUN | Y61: 48
A62: TANKER | B62: VLCC | C62: 48 | D62: HHI. G | E62: 2456 | F62: 41109 | G62: =($B$11-F62)/365 -> 13.89863 | H62: BAHRAIN PROSPERITY | I62: HOUSTON | J62: BRPS | K62: 9596947 | L62: LIB | M62: BV | N62: SYNERGY A/S | P62: NITIN KRISHNAN | Q62: ADNOC BBC 4 | R62: AST | S62: JH. JO | U62: TRMT3 | V62: HM. KIM | Y62: 49
A63: TANKER | B63: VLCC | C63: 49 | D63: HHI. H | E63: 2479 | F63: 41508 | G63: =($B$11-F63)/365 -> 12.805479 | H63: DUBAI ENERGY | I63: AGNETA PALLAS III | J63: DBEG | K63: 9602928 | L63: LIB | M63: BV | N63: OSM THOME | O63: CAPT. FRANS | P63: SHETTY | Q63: SPOT | R63: 2 | S63: JY. RO | U63: TRMT3 | V63: HM. KIM | Y63: 50
A64: TANKER | B64: VLCC | C64: 50 | D64: HHI. I | E64: 2520 | F64: 41180 | G64: =($B$11-F64)/365 -> 13.70411 | H64: ANGOLA B | I64: TEXAS | J64: AGBB | K64: 9623685 | L64: LIB | M64: BV | N64: CSM 1 | P64: MANOJ | Q64: ADNOC BBC 6 | R64: AST | S64: JH. JO | U64: TRMT3 | V64: HM. KIM | Y64: 51
A65: TANKER | B65: VLCC | C65: 51 | D65: HHI. J | E65: 2725 | F65: 42272 | G65: =($B$11-F65)/365 -> 10.712329 | H65: MOZAMBIQUE B | I65: ANTIGONE | J65: MZBB | K65: 9709075 | L65: LIB | M65: BV | N65: FLEET T6 | P65: SUMIT | Q65: SPOT | R65: MPT | S65: HC. CHUN | U65: TRMT3 | V65: HM. KIM | Y65: 52
A66: TANKER | B66: VLCC | C66: 52 | D66: HHI. J | E66: 2726 | F66: 42395 | G66: =($B$11-F66)/365 -> 10.375342 | H66: VIETNAM PROSPERITY | I66: FRONT CLYDE | J66: VNPS | K66: 9709087 | L66: LIB | M66: BV | N66: CSM 2 | P66: S.MASLOV | Q66: SPOT | R66: MPT | S66: CHAN HEO | U66: TRMT3 | V66: CJ. LEE | Y66: 53
A67: TANKER | B67: VLCC | C67: 53 | D67: HHI. J | E67: 2727 | F67: 42460 | G67: =($B$11-F67)/365 -> 10.19726 | H67: SPAIN B | I67: FRONT CLOUD | J67: SPBB | K67: 9722924 | L67: LIB | M67: BV | N67: CSM 2 | P67: G.SHIAKALLIS | Q67: SPOT | R67: AST | S67: HS. CHO | U67: TRMT3 | V67: CJ. LEE | Y67: 54
A68: TANKER | B68: VLCC | C68: 54 | D68: HHI. J | E68: 2728 | F68: 42503 | G68: =($B$11-F68)/365 -> 10.079452 | H68: KUWAIT PROSPERITY | I68: FRONT SPEY | J68: KWPS | K68: 9722936 | L68: LIB | M68: BV | N68: CSM 2 | P68: EVGENY | Q68: SPOT | R68: 3 | S68: SE. PARK | U68: TRMT3 | V68: YS. SON | Y68: 55
A69: TANKER | B69: VLCC | C69: 55 | D69: HGI. B | E69: 2794 | F69: 42626 | G69: =($B$11-F69)/365 -> 9.7424658 | H69: MOMBASA B | I69: FRONT FORTH | J69: MBBB | K69: 9739501 | L69: LIB | M69: BV | N69: SYNERGY A/S | O69: PRAMOD SHARMA | P69: ADITYA BAKSHI | Q69: SPOT | R69: 2 | S69: TW. HWANG | U69: TRMT3 | V69: HM. KIM | W69: 46273 | Y69: 56
C70: 56 | D70: HSI. A | E70: S273 | F70: 39043 | G70: =($B$11-F70)/365 -> 19.558904 | H70: ECUADOR PROSPERITY | I70: SEASILK | J70: EDPS | K70: 9315147 | L70: LIB | M70: BV | N70: FLEET T2 | P70: SHETTY | Q70: SPOT | R70: 3 | S70: SH. KIM | U70: TRMT1 | V70: MS. KANG | W70: 46270 | Y70: 57
B71: VLCC | C71: 57 | D71: HSI. A | E71: S274 | F71: 39183 | G71: =($B$11-F71)/365 -> 19.175342 | H71: CAMEROON PROSPERITY | I71: ARAM | J71: CMPS | K71: 9315159 | L71: LIB | M71: BV | N71: FLEET T2 | P71: AJITH | Q71: ADNOC BBC 7 | R71: AST | S71: JH. JO | U71: TRMT1 | V71: JH. JEONG | Y71: 58
B72: VLCC | C72: 58 | D72: HSI. A | E72: S275 | F72: 39218 | G72: =($B$11-F72)/365 -> 19.079452 | H72: ROMANIA PROSPERITY | I72: DHT CHINA | J72: RMPS | K72: 9315161 | L72: LIB | M72: BV | N72: SYNERGY A/S | P72: NITIN KRISHNAN | Q72: ADNOC BBC 8 | R72: 2 | S72: TW. HWANG | U72: TRMT1 | V72: JH. YANG | Y72: 59
A73: TANKER | B73: VLCC | C73: 59 | D73: HSI. B | E73: S777 | F73: 42548 | G73: =($B$11-F73)/365 -> 9.9561644 | H73: GHANA PROSPERITY | I73: FRONT OTRA | J73: GNPS | K73: 9732541 | L73: LIB | M73: BV | N73: CSM 2 | P73: S.MASLOV | Q73: SPOT | R73: MPT | S73: CHAN HEO | U73: TRMT1 | V73: HS. KIM | Y73: 60
A74: TANKER | B74: VLCC | C74: 60 | D74: HSI. B | E74: S778 | F74: 42625 | G74: =($B$11-F74)/365 -> 9.7452055 | H74: COLOMBIA PROSPERITY | I74: AEGEAN | J74: CLPS | K74: 9732553 | L74: LIB | M74: BV | N74: FLEET SG | O74: CAPT. KUNAL | P74: NARENDRA | Q74: SPOT | R74: 3 | S74: YS. HEO | U74: TRMT1 | V74: HS. KIM | W74: 46276 | Y74: 61
A75: TANKER | B75: VLCC | C75: 61 | D75: HSI. B | E75: S779 | F75: 42506 | G75: =($B$11-F75)/365 -> 10.071233 | H75: GREECE PROSPERITY | I75: ULYSSES | J75: GRPS | K75: 9723112 | L75: LIB | M75: BV | N75: CSM | Q75: SPOT | U75: TRMT1 | V75: HS. KIM | W75: 46157 | Y75: 62
A76: TANKER | B76: VLCC | C76: 62 | D76: HSI. C | E76: S768 | F76: 42480 | G76: =($B$11-F76)/365 -> 10.142466 | H76: GUYANA PROSPERITY | I76: FRONT SURNA | J76: GYPS | K76: 9728693 | L76: LIB | M76: BV | N76: CSM 2 | P76: EVGENY | Q76: SPOT | R76: 3 | S76: SY. CHOI | U76: TRMT1 | V76: HS. KIM | Y76: 63
A77: TANKER | B77: VLCC | C77: 63 | D77: HSI. C | E77: S769 | F77: 42615 | G77: =($B$11-F77)/365 -> 9.7726027 | H77: BELGIUM B | I77: FRONT OSEN | J77: BGBB | K77: 9728708 | L77: LIB | M77: BV | N77: CSM 2 | P77: S.MASLOV | Q77: SPOT | R77: B2 | S77: CH. BAE | U77: TRMT1 | V77: HS. KIM | W77: 46263 | Y77: 64
A78: TANKER | B78: VLCC | C78: 64 | D78: HSI. D | E78: 8036 | F78: 44288 | G78: =($B$11-F78)/365 -> 5.1890411 | H78: ANGOLA PROSPERITY | I78: HUNTER | J78: AGPS | K78: 9896414 | L78: LIB | M78: BV | N78: CSM 3 | P78: P. KESKINIS | Q78: SPOT | R78: 2 | S78: HJ. LEE | U78: TRMT1 | V78: NIKOS | Y78: 65
A79: TANKER | B79: VLCC | C79: 65 | D79: DSME. A | E79: 5267 | F79: 39253 | G79: =($B$11-F79)/365 -> 18.983562 | H79: FRANCE C | I79: DAISHAN | J79: FRBB | K79: 9322281 | L79: LIB | M79: BV | N79: FLEET T2 | P79: AJITH | Q79: ADNOC BBC 3 | R79: AST | S79: JH. JO | U79: TRMT1 | V79: YS. YOUN | Y79: 66
A80: TANKER | B80: VLCC | C80: 66 | D80: DSME. B | E80: 5288 | F80: 39100 | G80: =($B$11-F80)/365 -> 19.40274 | I80: DHT BAUHINIA | K80: 9315070 | L80: LIB | M80: BV | N80: FLEET | Q80: SPOT | U80: TRMT1 | V80: JH. YANG | Y80: 67
A81: TANKER | B81: VLCC | C81: 67 | D81: DSME. C | E81: 5307 | F81: 39989 | G81: =($B$11-F81)/365 -> 16.967123 | H81: PLATA SOUTH | J81: PTST | K81: 9353797 | L81: MI | M81: KR | N81: VSHIPS. NOR | O81: CAPT. LUKASZ | P81: LAIHO | Q81: SPOT | R81: 1 | S81: SH, OHN | U81: TRMT2 | V81: KL. CHOI | Y81: 68
A82: TANKER | B82: VLCC | C82: 68 | D82: DSME. C | E82: 5309 | F82: 40330 | G82: =($B$11-F82)/365 -> 16.032877 | H82: BRUNEI PROSPERITY | I82: ATLANTAS | J82: BNPS | K82: 9389899 | L82: LIB | M82: BV | N82: FLEET | Q82: SPOT | R82: 1 | S82: SH, OHN | U82: TRMT1 | V82: JH. JEONG | Y82: 69
B83: VLCC | C83: 69 | D83: DSME. D | E83: 5380 | F83: 41290 | G83: =($B$11-F83)/365 -> 13.40274 | H83: MONACO PROSPERITY | I83: EAGLE VANCOUVER | J83: MNPS | K83: 9597240 | L83: LIB | M83: BV | N83: FLEET T6 | P83: CYLIL | Q83: SPOT | R83: 3 | S83: SH. KIM | U83: TRMT1 | V83: TW. CHOI | Y83: 70
A84: TANKER | B84: VLCC | C84: 70 | D84: DSME. D | E84: 5381 | F84: 41348 | G84: =($B$11-F84)/365 -> 13.243836 | H84: MOROCCO PROSPERITY | I84: EAGLE VARNA | J84: MCPS | K84: 9597252 | L84: LIB | M84: BV | N84: FLEET T6 | P84: PRAVEEN | Q84: SPOT | R84: MPT | S84: HC. CHUN | U84: TRMT1 | V84: TW. CHOI | Y84: 71
A85: TANKER | B85: VLCC | C85: 71 | D85: DSME. E | E85: 5404 | F85: 42005 | G85: =($B$11-F85)/365 -> 11.443836 | H85: KENYA B | I85: FRONT DEE | J85: KNBB | K85: 9723069 | L85: LIB | M85: BV | N85: CSM 2 | P85: S.MASLOV | Q85: T/C 2~4M | R85: MPT | S85: CHAN HEO | U85: TRMT1 | V85: YS. YOUN | Y85: 72
A86: TANKER | B86: VLCC | C86: 72 | D86: DSME. E | E86: 5405 | F86: 42305 | G86: =($B$11-F86)/365 -> 10.621918 | H86: FUJAIRAH ENERGY | I86: DIA | J86: FJEG | K86: 9723071 | L86: LIB | M86: BV | N86: FLEET T6 | O86: CAPT. KUNAL | P86: ARUN | Q86: ADNOC BBC 9 | R86: 2 | S86: TW. HWANG | U86: TRMT1 | V86: YS. YOUN | Y86: 73
A87: TANKER | B87: VLCC | C87: 73 | D87: DSME. F | E87: 5421 | F87: 42867 | G87: =($B$11-F87)/365 -> 9.0821918 | H87: CARIBBEAN GLORY | J87: CBGL | K87: 9788875 | L87: PAN | M87: BV | N87: FLEET T6 | O87: CAPT. KUNAL | P87: ARUN | Q87: SPOT | R87: 1 | S87: DB. SEO | U87: TRMT1 | V87: YS. YOUN | Y87: 74
A88: TANKER | B88: VLCC | C88: 74 | D88: DSME. F | E88: 5422 | F88: 42923 | G88: =($B$11-F88)/365 -> 8.9287671 | H88: GULF SUNRISE | J88: GFSR | K88: 9788887 | L88: PAN | M88: KR | N88: VSHIPS. GER | O88: CAPT. BILGIC | P88: BJAALAND | Q88: SPOT | R88: 2 | S88: HK. SOHN | U88: TRMT1 | V88: YS. YOUN | Y88: 75
A89: TANKER | B89: VLCC | C89: 75 | D89: STX. A | E89: S1407 | F89: 40695 | G89: =($B$11-F89)/365 -> 15.032877 | H89: EAST LOYALTY | J89: ESLT | K89: 9537745 | L89: MI | M89: BV | N89: FLEET T6 | O89: CAPT. KUNAL | P89: NARENDRA | Q89: SPOT | R89: 3 | S89: HJ. KOH | U89: TRMT1 | V89: NIKOS | W89: 46173 | Y89: 76
A90: TANKER | B90: VLCC | C90: 76 | D90: STX. A | E90: S1410 | F90: 40770 | G90: =($B$11-F90)/365 -> 14.827397 | H90: WEST LOYALTY | J90: WSLT | K90: 9537757 | L90: MI | M90: BV | N90: CSM 1 | O90: ANTONIOU | P90: SALAB | Q90: SPOT | R90: 3 | S90: YN. KIM | U90: TRMT1 | V90: NIKOS | W90: 46248 | Y90: 77
A91: TANKER | B91: VLCC | C91: 77 | D91: STX. A | E91: S1433 | F91: 40998 | G91: =($B$11-F91)/365 -> 14.20274 | H91: SOUTH LOYALTY | J91: STLT | K91: 9537769 | L91: MI | M91: BV | N91: FLEET T6 | O91: CAPT. KUNAL | P91: NARENDRA | Q91: SPOT | R91: 3 | S91: SH. KIM | U91: TRMT1 | V91: NIKOS | Y91: 78
A92: TANKER | B92: VLCC | C92: 78 | D92: STX. A | E92: S1459 | F92: 41102 | G92: =($B$11-F92)/365 -> 13.917808 | H92: NORTH LOYALTY | J92: NTLT | K92: 9537771 | L92: MI | M92: BV | N92: CSM 1 | O92: ANTONIOU | P92: SALAB | Q92: SPOT | R92: MPT | S92: JH. CHOI | U92: TRMT1 | V92: NIKOS | Y92: 79
A93: TANKER | B93: VLCC | C93: 79 | D93: SHI | E93: 1896 | F93: 40647 | G93: =($B$11-F93)/365 -> 15.164384 | H93: SENEGAL PROSPERITY | I93: OCEANIS | J93: SNPS | K93: 9532757 | L93: LIB | M93: BV | N93: CSM 3 | P93: K.PAPADIMOULIS | Q93: SPOT | R93: 1 | S93: JA. YOUN | U93: TRMT1 | V93: YS. YOUN | Y93: 80
A94: TANKER | B94: VLCC | C94: 80 | D94: JMU. ARIAKE A | E94: 112 | F94: 40477 | G94: =($B$11-F94)/365 -> 15.630137 | H94: OCEAN LOYALTY | J94: ONLT | K94: 9375238 | L94: MI | M94: BV | N94: SYNERGY A/S | O94: CAPT. SAH | P94: ANAND SHINDE | Q94: SPOT | R94: 1 | S94: HI. HUR | U94: TRMT1 | V94: JH. YANG | Y94: 81
A95: TANKER | B95: VLCC | C95: 81 | D95: JMU. ARIAKE B | E95: 124 | F95: 40868 | G95: =($B$11-F95)/365 -> 14.558904 | I95: MERCURY HOPE | K95: 9395290 | L95: PAN | M95: BV | N95: AETM SG | Q95: SPOT | U95: TRMT1 | V95: JH. YANG | W95: 46164 | Y95: 82
A96: TANKER | B96: VLCC | C96: 82 | D96: JMU. ARIAKE B | E96: 125 | F96: 40892 | G96: =($B$11-F96)/365 -> 14.493151 | H96: DOMINICA PROSPERITY | I96: MERMAID HOPE | J96: DMPS | K96: 9395496 | L96: PAN | M96: BV | N96: AETM SG | Q96: SPOT | U96: TRMT1 | V96: JH. YANG | W96: 46370 | Y96: 83
A97: TANKER | B97: VLCC | C97: 83 | D97: JMU. ARIAKE C | E97: 93 | F97: 40263 | G97: =($B$11-F97)/365 -> 16.216438 | H97: BARBADOS PROSPERITY | I97: FELICE | J97: BBPS | K97: 9377418 | L97: PAN | M97: BV | N97: FLEET T6 | P97: SUMIT | Q97: SPOT | R97: MPT | S97: HC. CHUN | U97: TRMT1 | V97: JH. YANG | Y97: 84
A98: TANKER | B98: VLCC | C98: 84 | D98: JMU. ARIAKE C | E98: 94 | F98: 40354 | G98: =($B$11-F98)/365 -> 15.967123 | H98: CROATIA PROSPERITY | I98: ACHILLEAS | J98: CRPS | K98: 9398072 | L98: LIB | M98: BV | N98: FLEET T6 | P98: RAHUL. P | Q98: SPOT | R98: AST | S98: YN. PARK | U98: TRMT1 | V98: JH. YANG | Y98: 85
A99: TANKER | B99: VLCC | C99: 85 | D99: JMU. ARIAKE C | E99: 95 | F99: 40702 | G99: =($B$11-F99)/365 -> 15.013699 | H99: PHILIPPINES PROSPERITY | I99: HIRADO | J99: PPPS | K99: 9377420 | L99: LIB | M99: BV | N99: FLEET T2 | P99: AJIT | Q99: SPOT | R99: MPT | S99: HC. CHUN | U99: TRMT1 | V99: JH. YANG | Y99: 86
B100: VLCC | C100: 86 | D100: JMU. ARIAKE D | E100: 76 | F100: 39326 | G100: =($B$11-F100)/365 -> 18.783562 | H100: BAHAMAS PROSPERITY | I100: DIVA | J100: BMPS | K100: 9327114 | L100: LIB | M100: BV | N100: FLEET T6 | P100: RAHUL. P | Q100: SPOT | R100: AST | S100: HS. CHO | U100: TRMT1 | V100: JH. JEONG | Y100: 87
...

Sheet Sire Inspector List
A1: VETTING & RIGHTSHIP INSPECTOR 인적 정보 - 지속 업데이트 요!
A3: No. | B3: Company | C3: Name | D3: Phone | E3: Survey Scope | F3: Remark | G3: Address or Remark
A4: 1 | B4: Total | C4: 박종희 | D4: 010-3877-0826 | E4: Total | F4: chpak@chpak.co.kr | G4: 서울시 강남구 개포로 516 개포동 주공아파트 606동 1302호
A5: 2 | B5: Shell Shell 극동지역 Marine Technical Advisor | C5: 김대홍 (Reo Kim) | D5: 010-5261-1114 | E5: Shell | F5: leo.kim@shell.com | G5: 부산시 남구 용호동 LG 메트로시티 아파트 220-1603 TEL : 051-622-5331, FAX : 051-620-5182, 해전4기
A6: 3 | B6: PMS Korea 703 ILSHIN Building 541, Dohwa Dong, Mapo Gu, Seoul, Korea | C6: 장주갑 (한국 지사장) | D6: 010-3705-5311 | E6: Shell, BP, BHP, Chevron | F6: Jgjang55@kornet.net jgjang@pac-marine.com | G6: 경기도 김포시 김포한강2로 362번지 청송마을 중흥S클라스 613동 2002호
C7: 김정휘 | D7: 010-7151-6922 | F7: chkim@pacmarine.com | G7: 부산광역시 해운대구 재송1동 더샾센텀파크 103동 1301호
C8: 김영길 | D8: 010-3839-2722 | F8: yggim@pacmarine.com | G8: 경기도 고양시 일산서구 탄현동 두산위브더제니스 106동 2404호
C9: 박대연 | D9: 010-5512-4131 | F9: nagyon@empas.com | G9: 세종특별시 아름동 L2블럭 호반베르디움 707동 1502호
C10: 정 빈 | D10: 010-3861-5996 | F10: jbin@pacmarine.com | G10: 경기도 고양시 일산동구 정발산동 1324-5번지
C11: 임락원 | D11: 010-3722-2228 | E11: Sire + Rightship | F11: imrakwon@pacmarine.com | G11: 부산시 동래구 사직동 사직쌍용예가 106동 304호
C12: 권송안 | D12: 016-9661-8700 | E12: Rightship | F12: Rightship Inspector | G12: 부산광역시 남구 문현3동 삼성아파트 111동 1302호
C13: 문보영 | D13: 02-3664-5517 | E13: 비서 | G13: 서울시 마포구 도화동 541번지 일신빌딩 703호 PACMARINE SERVICES
A14: 4 | B14: Y-Marine / Fair Bridge | C14: 유덕렬 | D14: 010-5572-5326 | E14: BHP, Shell | F14: ydymarine@gmain.com | G14: 인천시 계양구 황어로 139 이화신동아 파리리에 206동1106호
A15: 5 | B15: Fair Bridge | C15: 박우석 | D15: 010-2777-6934 | E15: BHP, Shell | G15: 경기도 군포시 금산로 91, 120동 1802호
C16: 김경수 | D16: 010-4604-3806 | E16: BHP, Shell | G16: 부산시 해운대구 세실로 138 좌동롯데3차 아파트 305-1902
A17: 6 | B17: JS Marine Consultancy | C17: 변진섭 | D17: 010-4189-3562 | E17: BP, Shell | F17: ackmaster@naver.com | G17: 강원도 원주시 만대로 119 609동 704호
A18: 7 | B18: Won Marine Consultant | C18: 원준식 | D18: 010 3683 4338 | E18: Exxon, Koch | F18: jswon@wonmarine.biz | G18: 서울시 강남구 대치동 삼성로 150 미도아파트 111동 805호
C19: 김윤영 | D19: 010-8559-5235 | E19: Exxon, Koch | F19: won@wonmarine.biz | G19: 부산시 사하구 사하로47 구평화신아파트 103동 501호
A20: 8 | B20: S-Oil | C20: 서형희 | D20: 010 2616 2316 | E20: Vetting 팀장 | G20: 44651 울산광역시 남구 동산로29번길 19 S-Oil사택A2동 205호
C21: 김복수 | D21: 010 2245 2579 | E21: Loading Master | G21: 44933 울산시 울주군 범서읍 굴화리 734 동문굿모닝힐아파트 104-2202
C22: 김남수 | D22: 010 2801 5379 | E22: Loading Master | G22: 44651 울산시 남구 동산로 29번길 19 S-Oil 사택 B1동 303호
C23: 권용남 | D23: 010 8785 6848 | E23: Loading Master | G23: 44651 울산시 남구 동산로 29번길 19 S-Oil 사택 B2동 104호
A24: 9 | B24: 소속 불확실 | C24: 조성호 | D24: 011-868-3863 | F24: jsho@pac-marine.com | G24: 인천광역시 서구 원당동 LG자이아파트 707동 103호
A25: 10 | B25: 소속 불확실 | C25: 김동영 | D25: 010-6656-5777 | F25: dygim@pacmarine.com | G25: 부산시 금정구 구서동 420-12 유림노르웨이 아침 1210
A26: 11 | B26: 소속 불확실 | C26: 김일권 | D26: 011-645-6141 | G26: 전남 여수시 여서동 373번지 금호 APT 6동 502호
A27: 12 | B27: 소속 불확실 | C27: 한상봉 | D27: 010-4579-7669 | E27: BP, Tesoro, Chevron, CDI (Container) | F27: 독립 | G27: 부산시 동구 초량1동 1213-8번지 삼성빌딩 301호(사무실) 해운대구(자택)
A28: 13 | B28: PMS Singapore | C28: Ms. Candy | D28: 65-9179-3399 | G28: 사무실 경리 여직원
C29: Danish Sultan | D29: 65-6534-3456 65-9179-3399 | F29: dsultan@pac-marine.com | G29: 파키스탄인, Auditor 역할도 함. 신규 inspector에 대하여 auditor, 나이 많음. Shell 직원이 vetting시에도 auditing하였음.
C30: Capt. Abdul Waheed | D30: 65-6534-3456 | G30: 파키스탄인, 2010년 조인 함.
C31: Capt. Shaukat Ali | D31: 65-6534-3456 65-9021-8625 | F31: Pac-marine@pac-pmarine.com | G31: 파키스탄인
C32: Capt. Ervin J. Fernandez | D32: 65-6534-3456 | F32: pacmar@singnet.com.sg
A33: 14 | B33: PMS Hongkong 중국 남부(닝보 포함), DALIAN 도 COVER할 경우도 있음. | C33: Ms. Minda Po | D33: 852-2233-7177 | E33: 비서 | F33: hongkong@pac-marine.com | G33: 사무실 경리 여직원
C34: Capt. Shiraz Mougul | D34: 852-2233-7177 852-9863-5468 | E34: Shell, Chevron | F34: smogul@pac-marine.com | G34: 2007.06.01. P/Courage 수검 하였으며, 상당히 다혈질의 인도인
C35: Capt. Pramod Correa | D35: 852-2233-7177 852-9485-6849 | E35: Shell, Chevron | F35: pcorrea@pac-marine.com | G35: 2008.02.20. P/Courage 수검 인도인, 합리적이고 친근하게 검사 진행하지만, 본인이 마음에 들지 않는 부분에 대하여는 화를 내기도 함. 지적건수는 PacMarine Hongkong에서 가장 많다고 함.
C36: Peter W.L.Yeung | D36: 852 9365 5983 陽 雲 龍 | E36: Shell, Chevron, BP, Exxon | F36: pyeung@pacmarine.com | G36: 중국계 홍콩인, 52년 생. 수검시간 상당히 오래 걸림. 약 10시간 소요, 서류/선교/데크에서 시간 많이 걸리고 기관실은 상당히 빨리 진행, 2002년부터 팩마린 홍콩 근무,
C37: Capt. Ajitkumar K.Pillai | D37: 852-2233-7177 | E37: Shell | G37: 인도인, 2009년말 조인하였으며, 차분하고 온화한 편임 인도인. 온화한 것 같으나 상당히 꼼꼼하게 점검 함
A38: 15 | B38: PMS Shanghai | C38: Ms. Huang | D38: 86-21-6422-8730 | E38: 비서 | F38: shanghai@pac-marine.com | G38: 사무실 경리 여직원
C39: Capt. Andrew Woodhouse | D39: +86-21-6422-8730 +86-1381-610-6597 | E39: Shell, BP | F39: shanghai@pac-marine.com | G39: 영국인, 상해 지점장, 차분함, Shell/BP 모두 함. 서류는 오래 보지 않음. 굳이 8시간을 고집하지 않으면 통상 6시간 정도 검사 함. 인도인이 승선할 경우 서류 보다는 현장을 더 중시 함.
C40: Li Bo | D40: +86-21-6422-8730 +86-1350-180-5248 | E40: Shell, BP, Statoil | F40: bli@pac-marine.com | G40: 중국인, 67년생, 서류를 꼼꼼히 보지는 않음. 있다고 하면 그냥 훑어보고 넘어감. 검사 후 에 식사도 같이 함. 술(백주)도 조금 마심. 비싼 술(우량예)를 좋아함. 선장은 하지 않았고, 일항사 까지 한 후 cargo surveyor생활을 좀 하였음. Tanker에 대하여 정통하지는 않음.
C41: Capt. Ma Qun Chao | D41: +86-21-6381-0077 +86-138-18817829 | E41: Shell, Statoil | F41: shanghai@pac-marine.com | G41: Capt. Ma라고 부르던지, 마 촨장(마 선장)으로 부르면 됨. 성격은 아주 순함. 식사요청은 거절함. 고맙다고 해도 자신은 자신의 일을 하고 우리는 우리의 일을 하기 때문에 그런 인사가 필요 없다고 함. 검사는 그다지 까다롭지 않음. 선장 출신으로 선박에 대하여 비교적 잘 알고 있음.
C42: Tony Wang | D42: +86-134-1967-5257 | E42: Shell, BP | F42: shanghai@pac-marine.com | G42: Wuhan 출신/거주, 약간의 술은 마심 (30도 전후)
A43: 16 | B43: PMS Tokyo | C43: Capt. Savio Gomez | F43: sgomez@pac-marine.com | G43: 2009년 Tokyo 지점 설립하여 지점장. 온화함. 합리적 임. 인도인들이 깐깐하게 하는 부분에 대하여 자신도 인도인이지만 부정적인 생각을 가지고 있음.
A44: 17 | B44: Shell HongKong Limited | C44: Richard Wilby | D44: 852-9860-9909(Mobil) | E44: Shell | F44: Richard.wilby@shell.com | G44: Shell Hong Kong Limited, Shell Building, Sai Tso Wan Road, Tsing Yi Island, New Territories, Hong Kong
A45: 18 | B45: Showa Shell Sempaku K.K. | C45: Capt. M.I.Oshiro | D45: +81 3 5531 5812 | E45: Shell | G45: Showa Shell Sempaku K.K., Daiba Frontier Building 3-2, Daiba 2 chome, Minato-ku, Tokyo 135-8074, Japan
C46: Capt. T.Kobashi | D46: +81-3-5531-5812 | E46: Shell | F46: Inspection-1@showa-shell.co.jp | G46: 실제로는 기관장 출신 임. 검사시 report 작성에 필요한 data만 미리 준비해 두면 검사는 빨리 진행 됨. 필요한 모든 파일은 한 곳에 모아 둘 것, 증서나 파일의 내용에 대하여 꼼꼼히 보지는 않음. 8시간 점검시간에 구애 받지 않음. 가능한 한 빨리 진행하려고 함. 지적 사항에 대하여 조정 가능 함.
A47: 19 | B47: Jupiter Marine | C47: Capt. Francis Rodrigues | D47: +91 (22) 6794 7278 +91 (99) 3092 1424 | E47: Total | F47: francis@jupitermarine.net jupiter@jupitermarine.net | G47: 인도/남아프리카 TAM MAJOR INSPECTION 커버
A48: 20 | B48: Ray Marine 6명의 inspector중 3명이 Shell 담당 | C48: Capt. Qu Shen Sen (Boss) | D48: 86-135 7013 3136 | E48: Shell, BHP | F48: qushensen@163.com | G48: Shell에 근무하다가 떨어져 나와 개업하여 Vetting 만 하고 있음. Shell에서 비교적 많은 Order를 주고 있으며, 자신도 검사관으로 활동 중.
C49: Capt. Liu An Qing | D49: 86-13801918387 | E49: BHP | F49: Anq_liu@hotmail.com | G49: 사무실은 Guangzhou에 있으나, 거주는 상해에 하고 있음. 성격은 온순 함. 고집이 있음. 서류 보는데 시간을 많이 소요 함. VIQ의 문구 하나하나에 신경을 씀. Close meeting시 협상이 잘 안됨. 만민은 평등해야 하는데.. 그렇지 못한 부분에 대하여 불만이 많음. 특히, 중국 정부 관리의 불공평한 부분에 대하여 불만이 많음. 그래서 자신이 지적한 부분에 대하여 어떤 선박은 봐주고 어떤 선박은 봐주지 않으면 불공평하다고 생각 함.
C50: Capt. Zhang Wieyi | E50: Shell | G50: 71년생, 대련 거주. 말은 좀 많으나 접근하기는 용이하며, 한국/필리핀 선원에 대하여 좋은 감정을 가지고 있음. 서류 검사의 진행도 빨리하고, vetting시 기본적으로 test 및 확인하는 항목에 대하여 일부 생략 or 간단히 진행, Shell vetting담당
C51: Capt. Geng Li Yong(耿立勇) | D51: 86 13601909826 | E51: BHP | F51: gengliyong@hotmail.com | G51: 74년생, 난징 거주. 상당히 낙천적임. BHP 담당
C52: Capt. Lu YiYong | E52: Shell, BHP
C53: Shi Zheng Qiu | D53: 86 138 6289 6396 | E53: Shell | F53: shizhengqiu1973@163.com | G53: 기관장 출신, 2016년 초에 입사
C54: Ji Guo Liang | D54: 86 136 2623 8312 | E54: Shell | F54: jijinjia3@163.com | G54: 2016 후반에 죠인
A55: 21 | B55: Bosson Marine Company Limited | C55: Capt. Zhang Bo (Boss) | D55: 86-138-0494-0158 | E55: Chevron | F55: dlzhangbo@gmail.com | G55: 대련 해사대 출신, 66년생, 대련 거주, 李明道 동기
C56: Capt. Zhang HongBo | D56: 86 186 0426 3312 | E56: Chevron | F56: greentown100@163.com | G56: 張紅波, 73년생, 길림성 출신
C57: Capt. Zhuo Wen Xiang | E57: Chevron | F57: dlzhangbo@gmail.com | G57: 卓文翔 77년생, 복건성 (Xiamen?) 출신
A58: 22 | B58: JSL Marine | C58: Capt. J.S Luthra (Boss) | D58: 852 63332 7237 | E58: Shell, BP, BHP | F58: luthrajs@gmail.com | G58: 홍콩 거주하면서 Free-Lancer로 활동하였으나 최근 중국에 사무실 개설한 것으로 보여 짐.
C59: Capt. Liu Lei
C60: Capt. Gong Jun Zhong

Sheet 지역별 소속 Inspector 조사
A1: 주요 지역별 OIL MAJOR INSPECTOR 조사
A3: AREA | B3: 소속 AGENCY | C3: INSPECTOR | E3: MAJOR | I3: PHONE | K3: EMAIL | L3: AREA
C4: 성명 | D4: 국적 | I4: NATIONAL | J4: NUMBER
A5: 유럽 AREA Antwerp Rotterdam UK Amsterdam Egpyt | B5: 소속 불확실 (Rotterdam) | C5: Capt. Khawar Shafiq | D5: IND | E5: IDEMITSU | L5: N/A
B6: 소속 불확실 (Rotterdam) | C6: Francois Corthals | D6: BELGIUM | E6: TOTAL | L6: N/A
B7: 소속 불확실 (Egypt) | C7: Altuntas | D7: TK | E7: ENOC | F7: EQUINOR | L7: N/A
B8: 소속 불확실 (France) | C8: Capt Ken Fernandes | D8: SP | E8: ENOC | L8: N/A
B9: 소속 불확실 (France) | C9: Nick Gralka | D9: FRANCE | E9: BP | F9: SHELL | L9: N/A
B10: 소속 불확실 (UK) | C10: Capt Stephen Jenkins | D10: FRANCE | E10: SHELL | L10: N/A
B11: 소속 불확실 (Germany) | C11: Capt Sanjay Sinha | D11: IND | E11: SHELL | L11: N/A
B12: 소속 불확실 (Guyana) | C12: Capt. Syed Ahsan Athar | D12: GUYANA | E12: ENOC | L12: N/A
B13: 소속 불확실 (Italy) | C13: Capt. Francesco Costagliola | D13: ITALY | E13: ENI | L13: N/A
B14: 소속 불확실 (Italy) | C14: Capt. Rogelio Fernandez | D14: ITALY | E14: SHELL | L14: N/A
B15: 소속 불확실 (Morocco) | C15: Capt.Khalid Mouchtaki | D15: MOROCCO | E15: PREEM AB | L15: N/A
B16: 소속 불확실 (Rotterdam) | C16: Capt. Manish Thapar | D16: IND | E16: IDEMITSU | L16: N/A
B17: 소속 불확실 (Turkey) | C17: Hulusi Altuntas | D17: TK | E17: ENOC | F17: EQUINOR | L17: N/A
B18: 소속 불확실 (Turkey) | C18: Nikos Tsouras - Turkey | D18: TK | E18: EXXON | L18: N/A
B19: 소속 불확실 (Spain) | C19: Capt. Eamonn Connolly | D19: SP | E19: CHEVRON | L19: N/A
B20: 소속 불확실 (Spain) | C20: Sanjay Sinha | D20: IND | E20: PHILLIPS66 | F20: SHELL | L20: N/A
L21: N/A
L22: N/A
A23: 아메리카 AREA Houston Miami Brazil | B23: 소속 불확실 (US) | C23: Irfanul Haque | D23: IND | E23: CHEVRON | L23: N/A
B24: 소속 불확실 (US) | C24: Tom Conlon | D24: USA | E24: SHELL | L24: N/A
B25: 소속 불확실 (US) | C25: Arun Richard | D25: USA | E25: MARATHON | L25: N/A
B26: 소속 불확실 (US) | C26: Mr Pavan Abhyankar | D26: IND | E26: IDEMITSU | L26: N/A
B27: 소속 불확실 (US) | C27: Capt. Omar Mauco | D27: USA | E27: IDEMITSU | L27: N/A
B28: 소속 불확실 (US) | C28: Capt. Saul Stashower | D28: USA | E28: PHILLIPS66 | L28: N/A
B29: 소속 불확실 (US) | C29: Phil Townsend | D29: USA | E29: SHELL | L29: N/A
B30: 소속 불확실 (US) | C30: Sukhrajbir Singh Sandhu | D30: IND | E30: AMPOL | L30: N/A
B31: 소속 불확실 (US) | C31: Capt. Sumit Rawla | D31: IND | E31: AMPOL | L31: N/A
B32: 소속 불확실 (US) | C32: Sylvester Solanki | D32: USA | E32: ENOC | L32: N/A
B33: 소속 불확실 (US) | C33: Thomas Rivas | D33: USA | E33: SHELL | L33: N/A
B34: 소속 불확실 (US) | C34: Muhammad Imran | D34: USA | E34: EXXON | L34: N/A
B35: 소속 불확실 (US) | C35: Capt.Neeraj Jaggi | D35: USA | E35: SHELL | L35: N/A
B36: 소속 불확실 (Brazil) | C36: Hector Clarke | D36: BZ | E36: EXXON | F36: IDEMITSU | L36: N/A
B37: 소속 불확실 (Brazil) | C37: Otmaro Roses | D37: BZ | E37: MARATHON | L37: N/A
B38: 소속 불확실 (Brazil) | C38: Theocharopoulos Theocharis | D38: BZ | E38: EQUINOR | L38: N/A
B39: 소속 불확실 (남아메리카, Chille) | C39: Alvaro Huerta | D39: CHILLE | E39: EXXON | L39: N/A
B40: 소속 불확실 (남아메리카, Chille) | C40: Alvaro Barrientos | D40: CHILLE | E40: SHELL | L40: N/A
B41: 소속 불확실 (남아메리카, Chille) | C41: Mr. Marco Carrasco | D41: CHILLE | E41: SHELL | L41: N/A
B42: 소속 불확실 (남아메리카, Chille) | C42: John Craig | D42: CHILLE | E42: CHEVRON | L42: N/A
B43: 소속 불확실 (남아메리카, Chille) | C43: Jose Sotto | D43: CHILLE | E43: SHELL | L43: N/A
B44: 소속 불확실 (Panama) | C44: Capt. Daniel Alfaro | D44: PANAMA | E44: KOCH | L44: N/A
B45: 소속 불확실 (Panama) | C45: Francisco Molina | D45: PANAMA | E45: ADNOC | L45: N/A
L46: N/A
L47: N/A
A48: 인도 - 중동 - 아프리카 AREA India Middle East Africa | B48: 소속 불확실 | C48: Capt. Pankaj Singh | D48: IND | E48: ENOC | L48: N/A
B49: 소속 불확실 | C49: Capt. Sandeep Soni | D49: IND | E49: EQUINOR | L49: N/A
B50: 소속 불확실 | C50: Vishwanathan Narayana Swamy | D50: IND | E50: ENOC | L50: N/A
B51: 소속 불확실 | C51: Fadra Makshud | D51: IND | E51: EQUINOR | L51: N/A
B52: 소속 불확실 | C52: Jerson De Silva | D52: IND | E52: PERTAMINA | L52: N/A
B53: 소속 불확실 | C53: Capt. Anuj Malik | D53: IND | E53: ENOC | L53: N/A
B54: 소속 불확실 - 케냐, 중동 | C54: Capt. Suresh Menakath | D54: IND | E54: PHILLIPS66 | L54: N/A
B55: 소속 불확실 | C55: Trilochan Sahu | D55: IND | E55: PERTAMINA | L55: N/A
B56: 소속 불확실 (Tanzania) | C56: Capt. Amardeep Singh | D56: IND | E56: IDEMITSU | L56: N/A
B57: 소속 불확실 (Togo) | C57: Indu Prakash | D57: IND | E57: PHILLIPS66 | F57: PREEM AB | L57: N/A
B58: 소속 불확실 (Nigeria) | C58: Capt. Tallat Karamat | D58: IND | E58: PHILLIPS66 | F58: PREEM AB | L58: N/A
B59: 소속 불확실 (South Africa) | C59: Capt. Arshad Debara | D59: S.AFR | E59: PREEM AB | L59: N/A
L60: N/A
L61: N/A
A62: 아시아 AREA Singapore Hongkong Malaysia Thailand India South Africa Etc | B62: PMS Singapore | C62: Danish Sultan | D62: PK | L62: N/A
C63: Capt. Abdul Waheed | D63: PK | L63: N/A
C64: Capt. Shaukat Ali | D64: PK | L64: N/A
C65: Capt. Ervin J. Fernandez | L65: N/A
B66: Jupiter Marine | C66: Capt. Francis Rodigues | E66: TOTAL | L66: N/A
B67: 소속 불확실 (Indonesia) | C67: Capt. Mohan I | D67: IND | E67: PERTAMINA | L67: N/A
B68: 소속 불확실 (Malaysia) | C68: Capt. Raju Vickneswaran | D68: IND | E68: IDEMITSU | L68: N/A
B69: 소속 불확실 (Philippines) | C69: Nelson Miranda | D69: PH | E69: SHELL | L69: N/A
B70: 소속 불확실 (Singapore) | C70: Mr. Rakesh Kumar Sharma | D70: IND | E70: IDEMITSU | L70: N/A
B71: 소속 불확실 (Singapore) | C71: Capt. Venkateswaran Swamynathan | D71: IND | E71: OMV | L71: N/A
B72: 소속 불확실 (Taiwan) | C72: Capt. Rahul Hakim | D72: IND | E72: MARATHON | L72: N/A
B73: 소속 불확실 (Taiwan) | C73: Capt. Shamin Adil Siddiqui | D73: IND | E73: EXXON | L73: N/A
B74: 소속 불확실 (Thailand) | C74: Mohd Rusdiyusaini Bin Mohd Zahari | D74: MY | L74: N/A
B75: 소속 불확실 | C75: Titus Kumpeerapun | E75: PTT | L75: N/A
B76: 소속 불확실 | C76: Juhazwan bin junaidi | D76: MY | E76: PETRO VIETNAM | L76: N/A
B77: 소속 불확실 | C77: Yeo Heng Moh | D77: SG | E77: PETRO VIETNAM | L77: N/A
B78: 소속 불확실 | C78: 김정혁 | D78: KR | E78: IDEMITSU | F78: PETRO VIETNAM | L78: N/A
A79: 오세아니라 AREA Australia New Zealand & etc | B79: 소속 불확실 (Melbourne) | C79: Gurpreet Singh | D79: IND | E79: SHELL | F79: AMPOL | L79: N/A
B80: 소속 불확실 (Brisbane) | C80: Capt. Soni Dehiya | D80: IND | E80: AMPOL | L80: N/A
B81: 소속 불확실 (Melbourne) | C81: Capt. Gurpreet | D81: IND | E81: AMPOL | L81: N/A
L82: N/A
L83: N/A
A84: 일본 AREA | B84: PMS Tokyo | C84: Capt. Savio Gomez | L84: N/A
B85: Showa Shell Sempaku K.K. | C85: Capt. M.I.Oshiro | D85: JAP | E85: SHELL | L85: N/A
C86: Capt. T.Kobashi | D86: JAP | E86: SHELL | L86: N/A
B87: Won Marine Consultant | C87: 김윤영 | D87: KR | E87: PREEM AB | L87: N/A
L88: N/A
L89: N/A
A90: 중국 - 홍콩 AREA | B90: PMS Hongkong | C90: Capt. Shiraz Mougul | D90: IND | E90: SHELL | F90: CHEVRON | L90: N/A
C91: Capt. Pramod Correa | D91: IND | E91: SHELL | F91: CHEVRON | L91: N/A
C92: Peter W.L.Yeung | D92: HK | E92: SHELL | F92: CHEVRON | G92: BP | H92: EXXON | L92: N/A
C93: Capt. Ajitkumar K.Pillai | D93: IND | E93: SHELL | L93: N/A
B94: PMS Shanghai | C94: Capt. Andrew Woodhouse | D94: UK | E94: SHELL | F94: BP | L94: N/A
C95: Li Bo | D95: CN | E95: SHELL | F95: BP | G95: STATOIL | L95: N/A
C96: Capt. Ma Qun Chao | D96: CN | E96: SHELL | F96: STATOIL | L96: N/A
C97: Tony Wang | D97: CN | E97: SHELL | F97: BP | L97: N/A
B98: Shell HongKong Limited | C98: Richard Wilby | D98: HK | E98: SHELL | L98: N/A
B99: Ray Marine | C99: Capt. Qu Shen Sen (Boss) | D99: CN | E99: SHELL | F99: PETRON | G99: BHP | L99: N/A
C100: Capt. Liu An Qing | D100: CN | E100: PETRON | F100: BHP | L100: N/A
C101: Capt. Zhang Wieyi | D101: CN | E101: SHELL | F101: PETRON | L101: N/A
...

Sheet VLCC PRE-VETTING 전략
A1: VLCC PRE-VETTING INSPECTION 전략
A4: PRE-VETTING INSPECTION
A5: 장점 | B5: 본 SIRE INSPECTION 전 지적 가능한 OBSERVATION의 사전 식별/개선을 통한 지적 최소화.
A8: 시행 방안 | B8: 1) 본 SIRE를 5개월 이하 간격으로 조정 후 그 사이에 시행 (OPERATION 일정에 따라 유동적) 2) 하역항에서의 시행을 원칙으로 하되 불가능할 경우 BUNKERING 시간을 최대한 활용 3) PORT 제약에 따라 아래 3개의 서비스 컴퍼니를 적절히 활용.
A14: 고려 사항 | B14: 1) 하역 TERMINAL에서의 검사 제약이 있을 수 있음. 2) BUNKERING 중 시행할 경우 하역 관련된 기기는 배제하고 시스템 위주로 검사 진행. 3) 통상 검사에 최소한 8시간 이상 됨.
A22: 업체별 예상 비용
A23: 지역 LIST | D23: AALMAR | F23: IDWAL | H23: RINA
D24: SURVEY | E24: 추가 / Day | F24: SURVEY | G24: 추가/ Sum | H24: SURVEY | I24: 추가 / Day
A25: ROTTERDAM - AMSTERDAM | D25: 3450 | E25: 1750 | F25: 3600 | G25: 0 | H25: 12000 | I25: 0
A26: SINGAPORE | D26: 3450 | E26: 1750 | F26: 3600 | G26: 0 | H26: 12000 | I26: 0
A27: HONGKONG | D27: 3450 | E27: 1750 | F27: 3600 | G27: 0 | H27: 12000 | I27: 2000
A28: FUJAIRAH - DUBAI | D28: 3450 | E28: 1750 | F28: 3600 | G28: 0 | H28: 12000 | I28: 2000
A29: GIBRALTAR | D29: 3450 | E29: 1750 | F29: 3600 | G29: 0 | H29: 12000 | I29: 2000
A30: PANAMA | D30: 3650 | E30: 1750 | F30: 3600 | G30: 0 | H30: N/A | I30: N/A
A31: HOUSTON | D31: 3650 | E31: 1750 | F31: 3600 | G31: 0 | H31: 12000 | I31: 2000
A32: SUEZ | D32: 3950 | E32: 1750 | F32: 3600 | G32: 1000 | H32: N/A | I32: N/A
A33: BRAZIL | D33: 3950 | E33: 1750 | F33: 3600 | G33: 1000 | H33: N/A | I33: N/A
A34: LAGOS | D34: 3950 | E34: 1750 | F34: 3600 | G34: 1000 | H34: 12000 | I34: 2000
A35: * 추가 / DAY : LATE PM에 승선하여 당일 하선하지 못하고 다음날까지 검사가 진행될 경우 추가 비용.
A36: * IDWAL의 경우 연간 50검사 미달성의 경우 PLATFORM 사용비용 $18,000/년 추가 부과.
A37: * PRE-SIRE 검사는 가능한 항구 및 검사원 수가 충분히 확보된 AALMAR 또는 IDWAL을 활용하는 것이 효과적.
A38: * RINA는 비용 및 가능한 PORT LIST 확인 중.

Sheet VLCC Info for SNP
A1: VLCC INFORMATION FOR SNP
A2: =TODAY() -> 46182
A3: VESSEL INFO
A4: VESSEL [MANAGER] | B4: DWT | C4: BUILT DATE | D4: BUIT YARD | E4: NEXT DOCK | F4: ENGINE MAKER
A6: CARIBBEAN GLORY | B6: 301528.4 | C6: 42867 | D6: DSME, KOREA | E6: 46518 | F6: DOOSAN MAN B&W 7G80ME-C9.5 TII
A7: GULF SUNRISE | B7: 301528.4 | C7: 42923 | D7: DSME, KOREA | E7: 46574 | F7: DOOSAN MAN B&W 7G80ME-C9.5 TII
A8: MONACO LOYALTY | B8: 307284 | C8: 39280 | D8: DALIAN, CHINA | E8: 45977 | F8: DOOSAN WARTSILA 7RTFLEX84T-D
A9: SINGAPORE LOYALTY | B9: 307284 | C9: 39382 | D9: DALIAN, CHINA | E9: 45988 | F9: DOOSAN WARTSILA 7RTFLEX84T-D
A10: PLATA SINGPAORE | B10: 307284 | C10: 39472 | D10: DALIAN, CHINA | E10: 현재 입거 중 | F10: DOOSAN WARTSILA 7RTFLEX84T-D
A11: PLATA CARRIBER | B11: 307284 | C11: 39718 | D11: DALIAN, CHINA | E11: 46299 | F11: DOOSAN WARTSILA 7RTFLEX84T-D
A12: PLATA LUCKY | B12: 307284 | C12: 39867 | D12: DALIAN, CHINA | E12: 46513 | F12: DOOSAN WARTSILA 7RTFLEX84T-D
A13: BALTIC LOYALTY | B13: 317441 | C13: 40189 | D13: HHI, KOREA | E13: 46772 | F13: HYUNDAI MAN B&W 6S90MC-C MK7
A14: EAST LOYALTY | B14: 323183 | C14: 40695 | D14: STX, KOREA | E14: 46173 | F14: STX MAN B&W 6S90ME-C MK8
A15: WEST LOYALTY | B15: 314000 | C15: 40770 | D15: STX, KOREA | E15: 46248 | F15: STX MAN B&W 6S90ME-C MK8
A16: SOUTH LOYALTY | B16: 314000 | C16: 40998 | D16: STX, KOREA | E16: 46475 | F16: STX MAN B&W 6S90ME-C MK8
A17: NORTH LOYALTY | B17: 314000 | C17: 41102 | D17: STX, KOREA | E17: 46579 | F17: STX MAN B&W 6S90ME-C MK8
A18: OCEAN LOYALTY | B18: 299991 | C18: 40477 | D18: UNIVERSAL JAPAN | E18: 45955 | F18: HITACHI MAN B&W 7S80MC MK6
A19: GULF LOYALTY | B19: 316373 | C19: 40553 | D19: HHI, KOREA | E19: 46031 | F19: HYUNDAI WARTSILA 7RTFLEX82T
A20: CARIBBEAN LOYALTY | B20: 316373 | C20: 40679 | D20: HHI, KOREA | E20: 46157 | F20: HYUNDAI WARTSILA 7RTFLEX82T
A21: PLATA SOUTH | B21: 321300 | C21: 39989 | D21: DSME, KOREA | E21: 46632 | F21: DOOSAN WARTSILA 7RTFLEX84T-D
A22: PLATA GLORY | B22: 297974 | C22: 39821 | D22: SWS, CHINA | E22: 46411 | F22: CSSC MAN B&W 7S80MC MK6
... A27: LUCKY CARRIER | B27: 296907 | C27: 40219 | D27: JIANGNAN, CHINA | E27: 46777 | F27: CSSC MAN B&W 7S80MC MK6

Sheet VLCC OIL MAJOR 전략
A1: VLCC OIL MAJOR COMPANY 관리 전략
A4: 1. PORT별로 특정 SIRE COMPANY 지정 및 소수의 OIL MAJOR만 유지
A5: 현행 | B5: OIL MAJOR는 관리사에 의해 OCIMF에 SIRE 요청 -> OCIMF가 직접 검사 업체 또는 검사원 (프리랜서) 지정. (TOTAL은 자사 소속 검사원 보유 / 아시아 2명 배치)
A8: 변경 방안 | B8: 1) 중국, 싱가폴, ROTTERDAM, HOUSTON 지역 내 SIRE COMPANY 중 FRIENDLY한 업체 분석 후 선별된 업체에서 가능한 OIL MAJOR 수검만 향후 요청. 2) 연간 평균 지적 건수가 하위 30% 이내인 KOCH, PETRON, P66, IDEMITSU 검사를 우선 신청. 3) KOCH, PETRON, P66, IDEMITSU 관련 동아시아 쪽 검사원 정보 확보하여 관계 형성.
A15: 고려 사항 | B15: 1) OCIMF에서 SIRE 업체를 지정하는 관계로 지정되기 전까지 선주/관리사가 개입 불가. 2) MAJOR PORT SIRE 업체 분석 중이나 검사원 정보 공개를 각 업체가 꺼림. ** 한국의 경우 검사원 정보 입수하여 관리 중.
A23: 2. 일정에 따라 SIRE 취소되는 경우에 대한 방안
A24: 현행 | B24: 1) 접안대기, 기상 등에 따른 여러 사유로 지연 발생 시 다음 일정을 사유로 검사 취소하고 감. 2) 관리사는 OCIMF에만 검사 비용 (약 $5,000)을 지불하며 검사업체/검사원에게는 별도 지불하지 않음. 3) 검사 전에 검사원에게 선주/관리사가 CONTACT 불가.
A30: 변경 방안 | B30: 1) OCIMF에서 검사원 지정 직후 바로 대리점을 통해 검사원 일정 실시간 확보. 2) 일정이 확실하지 않은 지역에서의 검사 시 해당 검사 업체와 별도의 대기비용 협의 후 검사원 확보. : FLEET/CSM 관리사에서 일부 SIRE 업체에서 AGREEMENT 수취 (약 $700~900/DAY)
A35: 고려 사항 | B35: 1) 비상상황을 대비하여 검사원을 2명 지정하는 것은 검사업체에서 거부. 2) POB와 동시에 승선하는 방안 확인 결과 각국의 CUSTOM 규정에 의해 불법인 관계로 불가. 3) 원칙적으로, OIL MAJOR가 SIRE 업체를 지정 후 검사원이 대리점에 먼저 연락 전까지 정보를 알수 없음.

Sheet OLD VLCC 입거공기 단축 시나리오
A1: VLCC (OLD) 입거 공기 단축 시나리오
A4: 1. 발라스트 탱크 도장 정비 사전 시행 - 외주 업체
A5: 장점 | B5: 1) 입거 전 모든 BALLAST TANK 도장 정비를 시행함에 따라 입거 중의 작업 (약 28일 소요) 배제 가능. 2) 도장 정비 시행 중 강재 물량을 선행적으로 식별 가능.
A8: 고려 사항 | B8: 1) LADEN VOY에만 시행 가능하며 BALLAST VOY에는 불가. 2) VLCC의 경우 TANK 면적이 큰 관계로 시간이 오래 소요됨. (약 6명 X 15일 X 5항차) 3) VLCC 최대 승무원 제약으로 선박에 따라 최대 3명에서 6명만 가능
A12: 예상 비용 | B12: 1) 인건비 : 월 2만불 (6명 SQUAD) 2) 장비비 : 월 1.5만불 (MACHINE 2대 + STAGING + 기타 안전 장비) 3) 부대비 : 약 3만불 (승하선 1회성 비용 + 본선 식비 외) 합계 : 약 20.5만불 (입거 약 5개월 전 시점부터 입거지까지 승선 기준)
A20: 2. 갑판 OUTFITTING 용 구조물 사전 제작 - 외주 업체
A21: 장점 | B21: 1) 입거 전에 DECK OUTFITTING용 자재 (VLCC 기준 약 2만 PIECE) 사전 계측을 통해 육상에서 선제작 후 입거 시작과 동시에 교체 진행함으로써 조선소 자재 제작기간 (약 7일) 배제 가능. 2) 외부에서 제작함으로써 조선소 대비해서 좋은 QUALITY 유지 가능.
A25: 고려 사항 | B25: 1) 약 2만 PIECE가 넘는 종류의 각각의 구조물에 대한 철저한 사전 계측이 필요. 2) 조선소에서 제작/교체하는 비용 대비 약 20% 이상 비용의 추가 고려 (외주제작)
A28: 예상 비용 | B28: 1) 발라스트 탱크용 LADDER 일체 : 약 10만불 추가 (WBT LADDER 약 80% 물량 기준) 2) 데크 OUTFITTINGS : 약 15만불 추가 (2만 PIECE 기준) 3) DIMENSION 계측용 업체 최소 1항차 동승 : 약 2만불 (30일 기준) 합계 : 약 27만불 (선박별 상태에 따라 상이함)
A36: 3. 입거조선소의 연간 계약 - 매년 시작 전
A37: 장점 | B37: 1) 연간 계약을 통해 DC RATE 극대화. 2) 입거 최소 2-3달 전부터 자주 SPEC 미팅을 통해 조선소 사전 준비 (강재/인력 등) 극대화. 3) 조선소 BIDDING 업무에 시간을 뺏기지 않고 이미 정해진 조선소와 작업 준비에 전념 가능.
A41: 고려 사항 | B41: 1) 차기 년도 대상선박 및 예상비용/TARIFF를 직전년도에 BIDDING 필요. 2) 선대 운항 ROUTE에 따른 조선소 후보지 결정 필요.
A46: 4. 입거 파견 감독의 중국 현지화
A47: 장점 | B47: 1) 중국 지역 조선소 입거 파견 감독의 경우 중국 현지 감독이 커뮤니케이션 등에 유리. 2) 중국 현지 감독은 대부분이 법인 소속이므로 회사 대 회사간의 거래/비용 처리가 용이. 3) 2022년부터 실적에 따르면 중국과 인도 감독 간의 테크니컬 스킬에는 큰 차이가 없음.
A51: 고려 사항 | B51: 1) 인도/외국적 감독의 경우 대부분 프리랜서로 비용지불 과정에 어려움이 있음. (회계) 2) 인도/외국적 감독의 경우 현지 이동/숙박/조선소 이동등의 과정에 선주감독이 케어 필요.
A54: 예상 비용 | B54: 1) 중국 감독 : 약 1만불/월 (법인 소속 및 기타 비용 무) 2) 인도 감독 : 약 6천불 ~ 1.2만불 (프리랜서로 사고 시 보험관계 문제 및 숙식비용 별도)

Sheet VLCC 입거선 LIST
A1: VLCC 입거 대상 선박
A4: 입거 대상 선박
A5: 선명 | C5: 건조 조선소 | D5: 입거 지정일 | F5: 타켓 CAP GRADE | G5: WBT 예상 강재량 [Tons] | H5: WBT 예상 도장량 [m2] | I5: 승무정원 | J5: 비고
A6: PACIFIC LOYALTY | C6: 대련 조선 | D6: 18년 | E6: 45712 | F6: 1 | G6: 200 Tons | H6: =2000*12 -> 24000 | I6: 28명 | J6: 대련 건조 선박의 경우, 데크 구조물 취약문제가 많은 관계로 타 호선 대비 작업 공수가 더 들어갈 것으로 예상됨.
A7: ATLANTIC LOYALTY | C7: 대련 조선 | D7: 18년 | E7: 45956 | F7: 1 | G7: 200 Tons | H7: =2000*12 -> 24000 | I7: 28명
A8: MONACO LOYALTY | C8: 대련 조선 | D8: 18년 | E8: 45977 | F8: 1 | G8: 200 Tons | H8: =2000*12 -> 24000 | I8: 28명
A9: SINGAPORE LOYALTY | C9: 대련 조선 | D9: 18년 | E9: 45988 | F9: 1 | G9: 200 Tons | H9: =2000*12 -> 24000 | I9: 28명
A10: PLATA SINGPAORE | C10: 대련 조선 | D10: 18년 | E10: 45832 | F10: 1 | G10: 200 Tons | H10: =2000*12 -> 24000 | I10: 28명
A11: PLATA CARRIBER | C11: 대련 조선 | D11: 18년 | E11: 46299 | F11: 1 | G11: 200 Tons | H11: =2000*12 -> 24000 | I11: 28명
A12: PLATA LUCKY | C12: 대련 조선 | D12: 18년 | E12: 46514 | F12: 1 | G12: 200 Tons | H12: =2000*12 -> 24000 | I12: 28명
A13: SEAWAYS MCKINLEY | C13: 대련 조선 | D13: 15년 | E13: 45916 | F13: 1 | G13: 200 Tons | H13: =2000*12 -> 24000 | I13: 28명
A14: BALTIC LOYALTY | C14: 현대중공업 | D14: 15년 | E14: 45667 | F14: 1 | G14: 50 Tons | H14: =1200*12 -> 14400 | I14: 27명
A15: EAST LOYALTY | C15: STX 조선 | D15: 15년 | E15: 46173 | F15: 1 | G15: 120 Tons | H15: =1500*12 -> 18000 | I15: 25명 | J15: STX 건조 선박의 경우, EGE TOWER + 터빈발전기 설치된 선박으로 EGE 내부 구조물 문제 있음.
A16: WEST LOYALTY | C16: STX 조선 | D16: 15년 | E16: 46248 | F16: 1 | G16: 120 Tons | H16: =1500*12 -> 18000 | I16: 25명
A17: SOUTH LOYALTY | C17: STX 조선 | D17: 15년 | E17: 46475 | F17: 1 | G17: 120 Tons | H17: =1500*12 -> 18000 | I17: 25명
A18: NORTH LOYALTY | C18: STX 조선 | D18: 15년 | E18: 46579 | F18: 1 | G18: 120 Tons | H18: =1500*12 -> 18000 | I18: 25명
A19: OCEAN LOYALTY | C19: ARIAKE 조선 | D19: 15년 | E19: 45955 | F19: 1 | G19: 100 Tons | H19: =1200*12 -> 14400 | I19: 28명
A20: GULF LOYALTY | C20: 현대중공업 | D20: 15년 | E20: 46031 | F20: 1 | G20: 100 Tons | H20: =1500*12 -> 18000 | I20: 28명
A21: CARIBBEAN LOYALTY | C21: 현대중공업 | D21: 15년 | E21: 46157 | F21: 1 | G21: 100 Tons | H21: =1500*12 -> 18000 | I21: 28명
A22: PLATA SOUTH | C22: 대우 조선 | D22: 18년 | E22: 46632 | F22: 1 | G22: 100 Tons | H22: =1500*12 -> 18000 | I22: 30명
A23: PLATA GLORY | C23: 상해강남조선 | D23: 18년 | E23: 46411 | F23: 1 | G23: 200 Tons | H23: =2000*12 -> 24000 | I23: 30명 | J23: 상해 강남 건조 선박의 경우, WBT 도장/구조물 취약 문제로 타 호선 대비 작업 공수가 더 들어갈 것으로 예상됨.
A24: PLATA NORTH | C24: 상해강남조선 | D24: 18년 | E24: 46585 | F24: 1 | G24: 200 Tons | H24: =2000*12 -> 24000 | I24: 30명
A25: SEAWAYS EVEREST | C25: 상해강남조선 | D25: 15년 | E25: 45697 | F25: 1 | G25: 200 Tons | H25: =2000*12 -> 24000 | I25: 30명
A26: PLATA WEST | C26: 상해강남조선 | D26: 15년 | E26: 45818 | F26: 1 | G26: 200 Tons | H26: =2000*12 -> 24000 | I26: 30명
A27: PLATA EAST | C27: 상해강남조선 | D27: 15년 | E27: 45878 | F27: 1 | G27: 200 Tons | H27: =2000*12 -> 24000 | I27: 30명

Sheet 사진
A2: 본선 타입 | B2: 타 선박 타입
A3: #VALUE! | B3: #VALUE!

Sheet BackData
A2: SIZE/TEU | B2: NO. | C2: NAME | D2: MGR | E2: DELIVERY | F2: DELIVERY | G2: SHIPYARD | H2: HULL NO. | I2: IMO NO | J2: FLAG | K2: CLASS | M2: DWT | N2: NEXT SS
K3: MAIN | L3: SUB
A4: LNG | B4: 1 | C4: LNG ALLIANCE [WSM] | D4: WSM | E4: 39147 | F4: 2007Y | G4: FRANCE | H4: P32 | I4: 9320075 | J4: MARSHALL | K4: BV | M4: 86389 | N4: 46450
A5: LNG | B5: 2 | C5: PACIFIC SUCCESS [WSM] | D5: WSM | E5: 45369 | F5: 2024Y | G5: SHI | H5: 2315 | I5: 9903425 | J5: PANAMA | K5: BV | M5: 88624.7 | N5: 47194
A6: VLCC | B6: 1 | C6: CARIBBEAN GLORY [FML] | D6: FML | E6: 42867 | F6: 2017Y | G6: DSME | H6: 5421 | I6: 9788875 | J6: PANAMA | K6: BV | L6: KR | M6: 301528.4 | N6: 46518
A7: VLCC | B7: 2 | C7: GULF SUNRISE [VSG] | D7: VSG | E7: 42923 | F7: 2017Y | G7: DSME | H7: 5422 | I7: 9788887 | J7: PANAMA | K7: KR | L7: BV | M7: 301528.4 | N7: 46574
A8: VLCC | B8: 3 | C8: PACIFIC LOYALTY [FML] | D8: FML | E8: 39061 | F8: 2006Y | G8: DALIAN | H8: T3000-8 | I8: 9312494 | J8: MARSHALL | K8: BV | M8: 307284 | N8: 46364
A9: VLCC | B9: 4 | C9: ATLANTIC LOYALTY [FML] | D9: FML | E9: 39184 | F9: 2007Y | G9: DALIAN | H9: T3000-9 | I9: 9312509 | J9: MARSHALL | K9: KR | M9: 307284 | N9: 46488
A10: VLCC | B10: 5 | C10: MONACO LOYALTY [FML] | D10: FML | E10: 39280 | F10: 2007Y | G10: DALIAN | H10: T3000-10 | I10: 9312511 | J10: MARSHALL | K10: KR | M10: 307284 | N10: 46584
A11: VLCC | B11: 6 | C11: SINGAPORE LOYALTY [FML] | D11: FML | E11: 39382 | F11: 2007Y | G11: DALIAN | H11: T3000-11 | I11: 9322293 | J11: MARSHALL | K11: KR | M11: 307284 | N11: 46686
A12: VLCC | B12: 7 | C12: PLATA SINGPAORE [AETM] | D12: AETM | E12: 39472 | F12: 2008Y | G12: DALIAN | H12: T3000-12 | I12: 9323936 | J12: LIBERIA | K12: KR | M12: 307284 | N12: 46776
A13: VLCC | B13: 8 | C13: PLATA CARRIBER [AETM] | D13: AETM | E13: 39718 | F13: 2008Y | G13: DALIAN | H13: T3000-16 | I13: 9358280 | J13: LIBERIA | K13: KR | M13: 307284 | N13: 47023
A14: VLCC | B14: 9 | C14: PLATA LUCKY [AETM] TRAFIGURA T/C | D14: AETM | E14: 39867 | F14: 2009Y | G14: DALIAN | H14: T3000-17 | I14: 9358292 | J14: LIBERIA | K14: KR | M14: 307284 | N14: 47171
A15: VLCC | B15: 10 | C15: BALTIC LOYALTY [CSM] | D15: CSM | E15: 40189 | F15: 2010Y | G15: HHI | H15: 2003 | I15: 9411953 | J15: LIBERIA | K15: KR | M15: 317441 | N15: 45667
A16: VLCC | B16: 11 | C16: EAST LOYALTY [FML] TRAFIGURA T/C | D16: FML | E16: 40695 | F16: 2011Y | G16: STX | H16: S1407 | I16: 9537745 | J16: MARSHALL | K16: BV | M16: 323183 | N16: 46173
A17: VLCC | B17: 12 | C17: WEST LOYALTY [CSM] TRAFIGURA T/C | D17: CSM | E17: 40770 | F17: 2011Y | G17: STX | H17: S1410 | I17: 9537757 | J17: MARSHALL | K17: BV | M17: 314000 | N17: 46248
A18: VLCC | B18: 13 | C18: SOUTH LOYALTY [FML] | D18: FML | E18: 40998 | F18: 2012Y | G18: STX | H18: S1433 | I18: 9537769 | J18: MARSHALL | K18: BV | M18: 314000 | N18: 46475
A19: VLCC | B19: 14 | C19: NORTH LOYALTY [CSM] | D19: CSM | E19: 41102 | F19: 2012Y | G19: STX | H19: S1459 | I19: 9537771 | J19: MARSHALL | K19: BV | M19: 314000 | N19: 46579
A20: VLCC | B20: 15 | C20: OCEAN LOYALTY [OMAN] | D20: OSC | E20: 40477 | F20: 2010Y | G20: UNIVERSAL | H20: 112 | I20: 9375238 | J20: MARSHALL | K20: BV | M20: 299991 | N20: 45955
A21: VLCC | B21: 16 | C21: GULF LOYALTY [OMAN] | D21: OSC | E21: 40553 | F21: 2011Y | G21: HHI | H21: H2247 | I21: 9441245 | J21: MARSHALL | K21: BV | M21: 316373 | N21: 46031
A22: VLCC | B22: 17 | C22: CARIBBEAN LOYALTY [CSM] | D22: CSM | E22: 40679 | F22: 2011Y | G22: HHI | H22: H2248 | I22: 9501150 | J22: MARSHALL | K22: BV | M22: 316373 | N22: 46157
A23: VLCC | B23: 18 | C23: PLATA SOUTH [VSN] | D23: VSN | E23: 39989 | F23: 2009Y | G23: DSME | H23: 5307 | I23: 9353797 | J23: MARSHALL | K23: KR | M23: 321300 | N23: PROGRESS
A24: VLCC | B24: 19 | C24: PLATA GLORY [VSN] | D24: VSN | E24: 39821 | F24: 2009Y | G24: SWS | H24: H2396 | I24: 9384590 | J24: MARSHALL | K24: KR | M24: 297974 | N24: 47125
A25: VLCC | B25: 20 | C25: PLATA NORTH [VSN] | D25: VSN | E25: 39951 | F25: 2009Y | G25: SWS | H25: H2397 | I25: 9384605 | J25: MARSHALL | K25: KR | M25: 297936 | N25: 47255
A26: VLCC | B26: 21 | C26: PLATA WEST [CSM] | D26: CSM | E26: 40339 | F26: 2010Y | G26: SWS | H26: H2419 | I26: 9400681 | J26: MARSHALL | K26: KR | M26: 296995 | N26: 45818
A27: VLCC | B27: 22 | C27: PLATA EAST [CSM] | D27: CSM | E27: 40399 | F27: 2010Y | G27: SWS | H27: H2420 | I27: 9410997 | J27: MARSHALL | K27: KR | M27: 297008.8 | N27: 45878
A28: AFRAMAX | B28: 1 | C28: PACIFIC TREASURES | D28: BSM | E28: 42460 | F28: 2016Y | G28: DHSC | H28: H5005 | I28: 9732242 | J28: MARSHALL | K28: ABS | L28: KR | M28: 115177.4 | N28: 46111
A29: AFRAMAX | B29: 2 | C29: PACIFIC JEWELS | D29: FML | E29: 42506 | F29: 2016Y | G29: DHSC | H29: H5006 | I29: 9732254 | J29: MARSHALL | K29: ABS | L29: KR | M29: 115177 | N29: 46157
A30: AFRAMAX | B30: 3 | C30: FREEDOM GLORY | D30: VSN | E30: 44151 | F30: 2020Y | G30: SHI | H30: 2334 | I30: 9863417 | J30: MARSHALL | K30: BV | M30: 114122 | N30: 45976
A31: AFRAMAX | B31: 4 | C31: MARITIME GLORY | D31: VSN | E31: 44208 | F31: 2021Y | G31: SHI | H31: 2335 | I31: 9863429 | J31: MARSHALL | K31: BV | M31: 114122 | N31: 46033
A32: AFRAMAX | B32: 5 | C32: PACIFIC EMERALD | D32: SNGY | E32: 44294 | F32: 2021Y | G32: SHI | H32: 2345 | I32: 9893022 | J32: MARSHALL | K32: KR | M32: 113305.5 | N32: 46119
A33: AFRAMAX | B33: 6 | C33: PACIFIC RUBY | D33: SNGY | E33: 44323 | F33: 2021Y | G33: SHI | H33: 2346 | I33: 9893034 | J33: MARSHALL | K33: KR | M33: 113305.5 | N33: 46148
A34: AFRAMAX | B34: 7 | C34: PACIFIC DIAMOND | D34: SNGY | E34: 44364 | F34: 2021Y | G34: SHI | H34: 2347 | I34: 9893046 | J34: MARSHALL | K34: KR | M34: 113305.5 | N34: 46189
A35: AFRAMAX | B35: 8 | C35: PACIFIC SAPPHIRE | D35: FML | E35: 44386 | F35: 2021Y | G35: SHI | H35: 2348 | I35: 9893058 | J35: MARSHALL | K35: KR | M35: 113305.5 | N35: 46211
A36: AFRAMAX | B36: 9 | C36: PACIFIC JADE | D36: FML | E36: 44427 | F36: 2021Y | G36: SHI | H36: 2349 | I36: 9893060 | J36: MARSHALL | K36: KR | M36: 113305.5 | N36: 46252
A37: AFRAMAX | B37: 10 | C37: PACIFIC PEARL | D37: SNGY | E37: 44477 | F37: 2021Y | G37: SHI | H37: 2350 | I37: 9893072 | J37: MARSHALL | K37: KR | M37: 113305.5 | N37: 46302
A38: AFRAMAX | B38: 11 | C38: PACIFIC GARNET | D38: SNGY | E38: 44505 | F38: 2021Y | G38: SHI | H38: 2351 | I38: 9893084 | J38: MARSHALL | K38: KR | M38: 113305.5 | N38: 46330
A39: AFRAMAX | B39: 12 | C39: PACIFIC OPAL | D39: SNGY | E39: 44532 | F39: 2021Y | G39: SHI | H39: 2352 | I39: 9893096 | J39: MARSHALL | K39: KR | M39: 113305.5 | N39: 46357
A40: AFRAMAX | B40: 13 | C40: PACIFIC TOPAZ | D40: CSM | E40: 44600 | F40: 2022Y | G40: SHI | H40: 2353 | I40: 9893101 | J40: MARSHALL | K40: KR | M40: 113305.5 | N40: 46426
A41: AFRAMAX | B41: 14 | C41: PACIFIC CORAL | D41: CSM | E41: 44614 | F41: 2022Y | G41: SHI | H41: 2354 | I41: 9893113 | J41: MARSHALL | K41: KR | M41: 113305.5 | N41: 46439
A42: AFRAMAX | B42: 15 | C42: MONIQUE GLORY | D42: FML | E42: 45013 | F42: 2023Y | G42: KSHIP | H42: S1625 | I42: 9953042 | J42: MARSHALL | K42: KR | L42: ABS | M42: 115645.6 | N42: 46839
A43: AFRAMAX | B43: 16 | C43: MEGAN GLORY | D43: FML | E43: 45121 | F43: 2023Y | G43: KSHIP | H43: S1626 | I43: 9953054 | J43: MARSHALL | K43: KR | L43: ABS | M43: 115481 | N43: 46947
A44: LR1 | B44: 1 | C44: PACIFIC SARAH | D44: FML | E44: 42863 | F44: 2017Y | G44: STX | H44: S1741 | I44: 9772034 | J44: MARSHALL | K44: DNV | L44: KR | M44: 74356.1 | N44: 46515
A45: LR1 | B45: 2 | C45: PACIFIC JULIA | D45: FML | E45: 42894 | F45: 2017Y | G45: STX | H45: S1742 | I45: 9772046 | J45: MARSHALL | K45: KR | L45: DNV | M45: 74438.9 | N45: 46545
A46: LR1 | B46: 3 | C46: PACIFIC DEBBIE | D46: CSM | E46: 42923 | F46: 2017Y | G46: STX | H46: S1743 | I46: 9772058 | J46: MARSHALL | K46: KR | L46: ABS | M46: 74253.6 | N46: 46574
A47: LR1 | B47: 4 | C47: PACIFIC MARTINA | D47: CSM | E47: 43028 | F47: 2017Y | G47: STX | H47: S1744 | I47: 9772060 | J47: MARSHALL | K47: ABS | L47: KR | M47: 74356.1 | N47: 46759
A48: LR2 | B48: 1 | C48: PACIFIC A. DORODCHI | D48: FML | E48: 42625 | F48: 2016Y | G48: DHSC | H48: H5007 | I48: 9732266 | J48: MARSHALL | K48: ABS | L48: KR | M48: 109999 | N48: 46276
A49: LR2 | B49: 2 | C49: PACIFIC NAFSIKA | D49: FML | E49: 42690 | F49: 2016Y | G49: DHSC | H49: H5008 | I49: 9732278 | J49: MARSHALL | K49: ABS | L49: KR | M49: 109999 | N49: 46341
A50: LR2 | B50: 3 | C50: PACIFIC ANNA | D50: FML | E50: 42755 | F50: 2017Y | G50: DHSC | H50: H5009 | I50: 9772010 | J50: MARSHALL | K50: ABS | L50: KR | M50: 109999 | N50: 46406
A51: LR2 | B51: 4 | C51: PACIFIC RAWAN | D51: FML | E51: 42816 | F51: 2017Y | G51: DHSC | H51: H5010 | I51: 9772022 | J51: MARSHALL | K51: ABS | L51: KR | M51: 109999 | N51: 46467
A52: LR2 | B52: 5 | C52: JILL GLORY | D52: FML | E52: 45244 | F52: 2023Y | G52: KSHIP | H52: S1627 | I52: 9959917 | J52: MARSHALL | K52: KR | L52: ABS | M52: 115415 | N52: 47070
A53: LR2 | B53: 6 | C53: SABRINA GLORY | D53: FML | E53: 45336 | F53: 2024Y | G53: KSHIP | H53: S1628 | I53: 9959929 | J53: MARSHALL | K53: KR | L53: ABS | M53: 115415 | N53: 47162

Sheet Sire List
A1: SIRE AGENCY LIST
A3: REVISION DATE. | B3: 46113
A5: NO | B5: REV. DATE | C5: SHORT | D5: UPDATED LIST OF RECOMMENDED SIRE AGENCY
A7: 0 | B7: 45779 | C7: NOT FIXED | D7: UNKNOWN
A8: 1 | B8: 45499 | C8: ADNOC | D8: ADNOC | E8: O
A9: 2 | B9: 45499 | C9: BP | D9: BP SHIPPING | E9: O
A10: 3 | B10: 45499 | C10: CHEVRON | D10: CHEVRON SHIPPING | E10: O
A11: 4 | B11: 45499 | C11: P66 | D11: PHILLIPS 66 (추천) | E11: O
A12: 5 | B12: 45499 | C12: IMT | D12: INTERNATIONAL MARINE TRANSPORT (IMT) SERVICES - EXXON | E12: O
A13: 6 | B13: 45499 | C13: IDEMITSU | D13: IDEMITSU SHIP VETTING SERVICES (추천) | E13: O
A14: 7 | B14: 45499 | C14: KPC | D14: KPC | E14: O
A15: 8 | B15: 45499 | C15: MMS | D15: MISC MARITIME SERVICES SDN BHD (MMS) | E15: O
A16: 9 | B16: 45499 | C16: REPSOL | D16: REPSOL | E16: O
A17: 10 | B17: 45499 | C17: SHELL | D17: SHELL INTERNATIONAL TRADING AND SHIPPING COMPANY | E17: O
A18: 11 | B18: 45499 | C18: TOTAL | D18: TOTAL SA | E18: O
A19: 12 | B19: 45499 | C19: EQUINOR | E19: O
A20: 13 | B20: 45499 | C20: ENI | D20: ENI | E20: O
A21: 14 | B21: 45499 | C21: ENOC | D21: EMIRATES NATIONAL OIL COMPANY (ENOC) | E21: O
A22: 15 | B22: 45499 | C22: KOCH | D22: KOCH (추천) | E22: O
A23: 16 | B23: 45499 | C23: MOH | D23: MOTOR OIL HELLAS | E23: O
A24: 17 | B24: 45499 | C24: OMV | D24: OMV | E24: O
A25: 18 | B25: 45499 | C25: PETROBRAS | D25: PETROBRAS | E25: O
A26: 19 | B26: 45601 | C26: KMG | D26: KAZMUNAY GAS INTERNATIONAL (KMG) (금지)
A27: 20 | B27: 45499 | C27: PETRON | D27: PETRON CORPORATION (추천) | E27: O
A28: 21 | B28: 45499 | C28: POT | D28: PRIMORSK OIL TERMINAL | E28: O
A29: 22 | B29: 45499 | C29: AMPOL | D29: AMPOL MANAGEMENT SERVICES PTE. LTD. | E29: O
A30: 23 | B30: 45499 | C30: ARAMCO | D30: ARAMCO TRADING CO. | E30: O
A31: 24 | B31: 45499 | C31: GAZPROM | D31: GAZPROM GLOBAL LNG LIMITED
A32: 25 | B32: 45499 | C32: PETROVIET | D32: PETRO VIETNAM (VIETNAM OIL & GAS GROUP) | E32: O
A33: 26 | B33: 45499 | C33: PTT | D33: PTT | E33: O
A34: 27 | B34: 45499 | C34: MARATHON | D34: MARATHON PETROLEUM COMPANY LP | E34: O
A35: 28 | B35: 45601 | C35: MAXCOM | D35: MAXCOM PETROLI S.P.A (금지)
A36: 29 | B36: 45499 | C36: PREEM AB | D36: PREEM AB | E36: O
A37: 30 | B37: 45601 | C37: ALMA PETROLI | D37: ALMA PETROLI S.P.A (금지)
A38: 31 | B38: 45499 | C38: SARAS | D38: SARAS SPA ITALY | E38: O
A39: 32 | B39: 45499 | C39: VIVA | D39: VIVA ENERGY AUSTRALIA | E39: O
A40: 33 | B40: 45779 | C40: VIVO | D40: VIVO MOROCCO
A41: 33 | B41: 45499 | C41: SONANGOL | D41: SONANGOL USA | E41: O
A42: 34 | B42: 45601 | C42: IPLOM | D42: IPLOM (금지)
A43: 35 | B43: 45499 | C43: PERTAMINA | D43: PERTAMINA (PERSERO) SHIPPING | E43: O
A44: 36 | B44: 45779 | C44: ECOPETROL | D44: ECOPETROL
A45: 37 | B45: 45779 | C45: UNIPEC | D45: UNIPEC (가급적 금지)
