Workbook

Sheet Daily Status
A1: VLCC - CLASS & SIRE STATUS
A3: VESSEL INFO | F3: VOYAGE SCHEDULE | K3: SIRE INSPECTION | Q3: CLASS COC & CRITICAL REPAIR ISSUE
A4: VESSEL NAME | B4: BUILT | D4: MAN | E4: TECH | F4: L/B | G4: STATUS | H4: PORT NAME [PURPOSE] | I4: KIND | J4: DATE | K4: STATUS | L4: PORT NAME | M4: DATE | N4: OIL MAJOR | O4: OBS ALL / REMAIN | P4: Clear되지 않은 OBS 경우, 반드시 구체적인 지적내용/Clear 예상일자/방법 기입 바람. | Q4: CLASS | R4: COC | S4: Clear되지 않은 COC 경우, 반드시 구체적인 지적내용/Clear 예상일자/방법 기입 바람.
A6: PACIFIC SUCCESS | B6: 2024 | C6: SHI | D6: WSM | E6: 김한솔 | F6: B | G6: SAIL | H6: DARWIN | I6: ETA | J6: 46179 | K6: LAST RESULT | L6: PYEONGTAEK | M6: 46116 | N6: TOTAL | O6: 2 // 0 | P6: NIL | Q6: BV | R6: 0
A7: MONACO LOYALTY | B7: 2007 | C7: DSIC-A | D7: FML | E7: 정제훈 | F7: B | G7: DRIFT | K7: LAST RESULT | L7: LINGGI | M7: 46207 | N7: IDEMITSU | O7: 8 // 0 | Q7: KR | R7: 0
A8: SINGAPORE LOYALTY | B8: 2007 | C8: DSIC-A | D8: FML | E8: 정제훈 | F8: B | G8: SAIL | H8: BASRA, IRAQ | I8: ETA | J8: 46302.708 | K8: LAST RESULT | L8: DUBAI ANCHORAGE | M8: 46170 | N8: ENOC | O8: 6 // 0 | Q8: KR | R8: 0
A9: PLATA SINGAPORE | B9: 2008 | C9: DSIC-A | D9: AETM | E9: 정제훈 | F9: B | G9: BERTH | H9: KHOR FAKKAN | K9: LAST RESULT | L9: SHUIDONG | M9: 46199 | N9: PETROVIETNAM | O9: 8 // 0 | P9: PETROVIETNAM VETTING 잔여 OBS 1건 조치 중. 1. SLOP(S) PRESS. 지시 불량 - SIRE REPORT 상 CLOSE 함. : 차항 자재 보급 준비중. | Q9: KR | R9: 0
A10: PLATA CARRIER | B10: 2008 | C10: DSIC-A | D10: AETM | E10: 정제훈 | F10: B | G10: ANCHOR | H10: ZHOUSHAN, CHINA | K10: LAST RESULT | L10: Paradip | M10: 46213 | N10: PETROVIETNAM | O10: 6 // 4 | P10: PETROVIETNAM VETTING 잔여 OBS 4건 조치 중. 1. FWD MAST HORN 작동 불량 - 7/24 FUJAIRAH 보급. 그 외 PROCESS / PHOTOGRAPH 지적 3건 | Q10: KR | R10: 2 | S10: NIL
A11: PLATA LUCKY | B11: 2009 | C11: DSIC-A | D11: AETM | E11: 정제훈 | F11: B | G11: SAIL | H11: ANGRA DOS REIS, BRAZIL | I11: ETA | J11: 46307.375 | K11: LAST RESULT | L11: SINES | M11: 46287 | N11: PERTAMINA | O11: 10 // 10 | P11: PERTAMINA VETTING 잔여 OBS 10건 조치 중. 1. Stripping pump 및 Cargo pump No.2 하부 청결 상태 불량. 2. Forecastle 내 계류 장비용 배전반 및 제어 밸브 배전반의 도어 잠금장치 고장으로 외부에 노출됨. 3. IG branch drop line 밸브 Open 시 체인 및 자물쇠를 이용한 고정 조치 미흡. 4. Overfill alarm 경보등 위치가 부적절하여 Manifold 등 갑판 주요 구역에서 식별이 어려움. 5. Winch 4대의 Engagement 레버 마모 과다로 인해 클러치 이탈 현상 발생. 그 외 HUMAN 지적 5건. | Q11: KR | R11: 0 | S11: NIL
A12: PANAMA PROSPERITY | B12: 2011 | C12: DSIC-B | D12: SNGY | E12: 강명수 | F12: B | G12: ANCHOR | H12: RAS TANURA, SAUDI ARABIA | K12: LAST RESULT | L12: SOHAR | M12: 46267 | N12: TOTAL | O12: 7 // 2 | P12: 1. FIRE DETECTION SYSTEM FAULT 2. FIXED GAS DETECTION SYSTEM FAULT | Q12: BV | R12: 0
A13: LUCKY PIONEER | B13: 2011 | C13: DSIC-B | D13: VSU | E13: 최강림 | F13: L | G13: SAIL | H13: RIZHAO, CHINA | I13: ETA | J13: 46304.167 | K13: LAST RESULT | L13: NGHI SON, VIETNAM | M13: 46227 | N13: PETRON | O13: 26 // 0 | Q13: KR | R13: 0
A14: SINGAPORE ENERGY | B14: 2011 | C14: DSIC-B | D14: FML | E14: 강명수 | F14: L | G14: SAIL | H14: KOREA REPUBLIC OF/O, KOREA | I14: ETA | J14: 46193.75 | K14: NEXT PLAN | L14: DAESAN | M14: 46193 | N14: P66 | P14: HOB, DAESAN에서 시행 예정 | Q14: BV | R14: 0 | S14: SPEED LOG 문제 - 6/10경 싱가폴 통과시 선적예정 S-BAND RADAR - 6/10경 싱가폴 통과시 자재 선적예정
A15: ROBERTA B | B15: 2012 | C15: DSIC-B | D15: VSU | E15: 최강림 | F15: B | G15: SAIL | H15: YANBU, SAUDI ARABIA | I15: ETA | J15: 46303.583 | K15: LAST RESULT | L15: AIN, SUKHNA, EGYPT | M15: 46242 | N15: PERTAMINA | O15: 8 // 0 | Q15: BV | R15: 0
A16: COSTA RICA PROSPERITY | B16: 2012 | C16: DSIC-B | D16: WAH KWONG | E16: 강명수 | F16: B | G16: STBY | H16: OMAN, OMAN | K16: LAST RESULT | L16: ALIAGA, TURKEY | M16: 46266 | N16: TOTAL | O16: 12 // 12 | P16: 1. FIRE HYDRANT VALVE FIXING NUT MISSING 2. WORK SHOP FIRE CURTAIN SHORT SIZE 3. HUMAN OBS 10건 | Q16: BV | R16: 0
A17: BANGLADESH PROSPERITY | B17: 2016 | C17: DSIC-C | D17: CSM | E17: 윤영수 | F17: B | G17: SAIL | H17: FUJAIRAH (AL-FUJAIRA, UNITED ARAB EMIRATES | I17: ETA | J17: 46304.896 | K17: LAST RESULT | L17: SINGAPORE | M17: 46229 | N17: SONANGOL | O17: 4 // 0 | Q17: BV | R17: 0
A18: CHILE PROSPERITY | B18: 2019 | C18: DSIC-D | D18: CSM | E18: 김한솔 | F18: L | G18: BERTH | H18: SOHAR, OMAN | I18: ETD | J18: 46303.417 | K18: LAST RESULT | L18: ROTTERDAM | M18: 46255 | N18: IDEMITSU | O18: 4 // 4 | P18: IDEMITSU VETTING 잔여 OBS 4건 조치 중. 1. LIFERAFT CONTAINER에 선박정보 누락 2. IOPP증서에 ME SACV SPACE DRAIN OIL TANK 정보 누락 3. DECK HYDRAULIC LINE 임시수리 건 영구수리 필요 4. CCR VIBRATION INDICATOR 및 AUS VALVE POSITION INDICATOR 신환 필요 | Q18: BV | R18: 0 | S18: NIL
A19: SURINAME PROSPERITY | B19: 2009 | C19: JSBD | D19: CSM | E19: NIKOS | F19: L | G19: ANCHOR | H19: FUJAIRAH (AL-FUJAIRA, UNITED ARAB EMIRATES | I19: ETD | J19: 46307.5 | K19: LAST RESULT | L19: FUJAIRAH | M19: 46245 | N19: ECOPETROL | O19: 6 // 1 | P19: ECOPETROL SIRE OBS 잔여 1건 조치 중 1. CARGO TANK VALVE 유압 라인 누설 - GAS FREE 후 수리 예정 / 화물작업에는 지장없음. | Q19: BV | R19: 0 | S19: 1. MAIN ENGINE STARTING VALVEBLOCKING MECHANISM - NEED OVERHAUL. 2. BWPT PUMP TURBINE OIL LEAKAGE FROM GOVERNOR - TROUBLESHOOTING IN PROGRESS. 3. NO.3 DG OIL LEAKAGE FROM SHAFT SEAL - TROUBLESOOTING IN PROGRESS.
A20: FINLAND PROSPERITY | B20: 2009 | C20: JSBD | D20: BSM | E20: NIKOS | F20: B | G20: DRIFT | H20: KANDLA, INDIA | K20: LAST RESULT | L20: MUNDRA | M20: 46297 | N20: TOTAL | O20: 26 // 26 | P20: 1. CLASS MEMORANDUM: ADDITIONAL MONITORING OF CARGO TANK SURROUNDING AREAS REQUIRED 2. SHIP'S ELEVATOR NOT WORKING (DOOR MOTOR FAILURE) 3. A/E NO.1 & 2 EXHAUST GAS TEMPERATURE SENSORS NOT WORKING 4. PUMP ROOM STBD BLOWER NOT WORKING (SHAFT DISCONNECTED) 5. BUNKER LINE SOFT PATCH AND HEAVY CORROSION AT MANIFOLD GAUGE CONNECTION 6. KYMA PERFORMANCE ANALYSER NOT WORKING 7. E/R AIR BLOWER FLAP REMOTE QUICK CLOSING SYSTEM REMOVED 8. STBD ANCHOR FOULED / UPSIDE DOWN WITH FLUKES OUTSIDE HAWSE PIPE 9. STBD ANCHOR INCIDENT NOT REPORTED TO FLAG / CLASS 10. JUNIOR DECK OFFICER NOT FAMILIAR WITH LIFEBOAT DAVIT LIMIT SWITCH 11. MOST LAMPS IN ACCOMMODATION / CCR / AFT MOORING DECK FUSED 12. DECK FOAM LINE LEAKING AT 2C & 3C COT ISOLATION VALVES 13. AFT 7 TON GANTRY CRANE MOTOR DAMAGED 14. NO.2 GYRO OUTPUT TO STEERING STAND NOT WORKING 15. SENIOR DECK OFFICER DID NOT RECORD LIGHTING ISSUES IN SAFETY INSPECTION 16. COP NO.1 & 3 TURBINE STEAM LEAKING 17. SOFT PATCH ON SW DECK SEAL LINE TO PUMP ROOM 18. SENIOR ENGINEER OFFICER DID NOT IDENTIFY MACHINERY SPACE ISSUES 19. DISCHARGE PLAN SF/BM CALCULATION ERRONEOUS, COW PRE-ARRIVAL CHECKLIST NOT FILLED AND PLAN INCONSISTENT WITH AGREED COW 20. NO EVIDENCE OF PRE-ARRIVAL CHECKS FOR CARGO DISCHARGE 21. SENIOR DECK OFFICER NOT FAMILIAR WITH TANK PRESSURE SENSOR ALARM TESTING 22. EXTENSIVE SPOT RUST AND CORROSION ON DECK FWD OF MIDSHIP 23. EXTENSIVE CORROSION ON MAIN BUNKER LINE AND SUPPORTS 24. HEAVY CORROSION ON AFT MANIFOLD LINES / PIPE RACK FLANGES 25. OIL LEAKING FROM PURIFIER CIRCULATING PUMP, PURIFIER FLAT OILY 26. HYDRAULIC OIL LEAKING FROM STEERING GEAR LOWER SEAL | Q20: BV | R20: 0 | S20: 1. AUX.ENGINE LO PURIFIER OUT OF OPERATION - SPARE PARTS ORDERED & SUPPLY SOON. 2. ELEVATOR OUT OF ORDER - SPARES ORDERED 3.No.2 windlass Hyd. Motor insulation issue.
A21: PLATA GLORY | B21: 2009 | C21: JSBD | D21: VSN | E21: 심재남 | F21: B | G21: SAIL | H21: PORT SAID, EGYPT | I21: ETA | J21: 46308.25 | K21: LAST RESULT | L21: FAWLEY, UK | M21: 46160 | N21: PERTAMINA | O21: 22 // 0 | Q21: KR | R21: 0
A22: PLATA NORTH | B22: 2009 | C22: JSBD | D22: VSN | E22: 심재남 | F22: B | G22: DRIFT | K22: LAST RESULT | L22: ROTTERDAM, NETHERLANS | M22: 46284 | N22: PERTAMINA | O22: 20 // 6 | Q22: KR | R22: 2 | S22: NIL
A23: NAVE GALACTIC | B23: 2009 | C23: JSBD | E23: 양종현 | K23: LAST RESULT | L23: JIEYANG, CHINA | M23: 46295 | N23: MARATHON | O23: 9 // 9 | Q23: BV | R23: 0
A24: LUCKY CARRIER | B24: 2010 | C24: JSBD | D24: VSU | E24: 최강림 | F24: B | G24: ANCHOR | H24: KHOR FAKKAN, UNITED ARAB EMIRATES | K24: LAST RESULT | L24: TANJUNG PELEPAS | M24: 46238 | N24: SONANGOL | O24: 5 // 0 | Q24: KR | R24: 1 | S24: 1. BWTS Defect Rectify 관련 자재 장납기로 납기 단축 중이며 11월 초중순 수리 Target으로 업무 진행 중
A25: MADAGASCAR PROSPERITY | B25: 2012 | C25: JSBD | D25: VSU | E25: 전영주 | F25: B | G25: ANCHOR | H25: PASIR GUDANG, MALAYSIA, MALAYSIA | Q25: BV | R25: 0 | S25: NIL
A26: MALAYSIA PROSPERITY | B26: 2011 | C26: JSBD | D26: SNGY | E26: 강명수 | F26: L | G26: ANCHOR | H26: VADINAR, INDIA | K26: LAST RESULT | L26: FUJAIRAH | M26: 46209 | N26: ECOPETROL | O26: 5 // 1 | P26: ECOPETROL VETTING 잔여 OBS 1건 조치 중. 1. EGCS SENSOR - FLAG DISPENSATION 중 | Q26: BV | R26: 7
A27: GERMANY B | B27: 2010 | C27: JSBD | D27: FML | E27: 강명수 | F27: B | G27: ANCHOR | H27: SHARJAH, UNITED ARAB EMIRATES | K27: LAST RESULT | L27: LIANYUGANG | M27: 46265 | N27: TOTAL | O27: 13 // 0 | Q27: BV | R27: 0
A28: TANZANIA PROSPERITY | B28: 2010 | C28: JSBD | D28: SNGY | E28: 양종현 | F28: B | G28: SAIL | H28: JUAYMAH TERMINAL, SAUDI ARABIA | K28: LAST RESULT | L28: SOHAR | M28: 46262 | N28: TOTAL | O28: 4 // 0 | P28: 8/28 TOTAL DISCHARGE SIRE OBS 잔여 0건 조치 중 | Q28: BV | R28: 0
A29: ROTTERDAM ENERGY | B29: 2010 | C29: JSBD | D29: FML | E29: 강명수 | F29: L | G29: BERTH | H29: ZIRKU ISLAND, UNITED ARAB EMIRATES | K29: LAST RESULT | L29: SHARJAH | M29: 46156 | N29: MOH | O29: 3 // 0 | Q29: BV | R29: 0
A30: SRI LANKA PROSPERITY | B30: 2011 | C30: JSBD | D30: CSM | E30: 양종현 | F30: L | G30: SAIL | H30: FUJAIRAH (AL-FUJAIRA, UNITED ARAB EMIRATES | I30: ETA | J30: 46302.958 | K30: LAST RESULT | L30: AIN SUKHNA | M30: 46200 | N30: ADNOC | O30: 13 // 0 | Q30: BV | R30: 0
A31: THAILAND PROSPERITY | B31: 2011 | C31: JSBD | D31: FML | E31: 강명수 | F31: L | G31: ANCHOR | H31: FUJAIRAH (AL-FUJAIRA, UNITED ARAB EMIRATES | K31: LAST RESULT | L31: CARTAGENA | M31: 46239 | N31: IDEMITSU | O31: 5 // 5 | P31: 1. 기관실 고박미비 2. DECK STEAM LINE HEAVY RUST HUMAN OBS 3 | Q31: BV | R31: 0
A32: PLATA WEST | B32: 2010 | C32: JSBD | D32: CSM | E32: 전영주 | F32: B | G32: STBY | H32: YANBU INDUSTRIAL CITY | I32: ETA | J32: 46304.333 | K32: LAST RESULT | L32: ANTIFER, FRANCE | M32: 46223 | N32: PETROVIETNAM | O32: 5 // 0 | P32: 조치 완료 | Q32: KR | R32: 0
A33: PLATA EAST | B33: 2010 | C33: JSBD | D33: CSM | E33: 전영주 | F33: B | G33: SAIL | H33: SOHAR, OMAN | I33: ETA | J33: 46312.458 | K33: LAST RESULT | L33: ZHOUSAN, CHINA | M33: 46291 | N33: SONANGOL | O33: 9 // | P33: 지적사항 CLOSE 완료 | Q33: KR | R33: 0
A34: PERU PROSPERITY | B34: 2009 | C34: SWS-A | D34: SNGY | E34: 최태원 | F34: L | G34: SAIL | H34: SOHAR, OMAN | I34: ETA | J34: 46304.083 | K34: LAST RESULT | L34: Fujairah | M34: 46255 | N34: TOTAL | O34: 7 // 0 | Q34: BV | R34: 0
A35: BRAZIL PROSPERITY | B35: 2010 | C35: SWS-A | D35: FML | E35: 최태원 | F35: B | G35: SAIL | H35: PORT SAID, EGYPT | I35: ETA | J35: 46305.208 | K35: LAST RESULT | L35: ROTTERDAM | M35: 46292 | N35: ENOC | O35: 6 // 6 | P35: 1. 감독 방선점검 보고서가 선박 전체 구역을 다루지 않음 2. SOLAS·LSA Code 추록과 정오표 미반영 3. 작업계획회의 결과 기록 양식 없음 4. 우현 A deck 방화문이 완전히 닫히지 않음 5. 안전점검 때 방화문 결함을 발견하지 못함 6. UMS 절차에 매 당직 빌지 고수위 경보 테스트 요구 없음 | Q35: BV | R35: 0 | S35: 1. FWD & AFT HPP PUMP 이슈. 2. AMS SCREEN FLICKING. 3. EGCS #1. PUMP M/SEAL & SHAFT 손상. CLASS CERTIFICATE OF ELECTRIC MOTOR FOR FIRE/GS PUMP TO BE PROVIDED ONBOARD. --> CHASING VENDOR TO PROVIDE CORRECT CERTIFICATE
A36: EGYPT PROSPERITY | B36: 2011 | C36: SWS-B | D36: FML | E36: 강명수 | F36: B | G36: ANCHOR | H36: FUJAIRAH (AL-FUJAIRA, UNITED ARAB EMIRATES | K36: LAST RESULT | L36: OMAN | M36: 46250 | N36: ENOC | O36: 4 // 0 | Q36: BV | R36: 0
A37: RIO DE JANEIRO ENERGY | B37: 2011 | C37: SWS-B | D37: FML | E37: 강명수 | F37: L | G37: STBY | H37: CARTAGENA, SPAIN | I37: ETB | J37: 46305.333 | K37: LAST RESULT | L37: JIEYANG | M37: 46197 | N37: MARATHON | O37: 5 // 0 | Q37: BV | R37: 1
A38: VLCC STEPHANIE | B38: 2012 | C38: SWS-B | E38: 최태원 | Q38: BV | R38: 0
A39: SINGAPORE SPIRIT | B39: 2013 | C39: SWS-C | E39: 최태원 | K39: LAST RESULT | L39: AIN SUKHNA | M39: 46238 | N39: IMT | O39: 4 // 4 | P39: IMT VETTING 잔여 OBS 4건 조치중. 1. CARGO PUMP ROOM내 TUBE LIGHT 5개 불량. 그외 HUMAN PROCESS 3건 | Q39: BV | R39: 3
A40: CONGO PROSPERITY | B40: 2017 | C40: SWS-D | D40: CSM | E40: NIKOS | F40: B | G40: BERTH | H40: GUANGZHOU, CHINA | K40: LAST RESULT | L40: LIANYUNGANG, CHINA | M40: 46249 | N40: TOTAL | O40: 6 // 3 | P40: CONGO PROSPERITY (IMO 9792266) SIRE 2.0 Observations — Lianyungang, 15-Aug-2026 1. Cargo tank 1S pressure sensor defective (awaiting spares, manual gauge check twice daily) 2. Officer's mess room extension alarm panel faulty (awaiting spares) 3. Both defects above not recorded in defect reporting system or Open Defect List by Senior Deck Officer 4. Master's Standing Order missing minimum passing distance and AIS/VHF risk guidance → rectified onboard 5. Both liferaft painters connected to ship structure instead of weak links → not ready for auto-release → rectified onboard 6. RP (responsible person) failed to identify the wrong painter connections on both liferafts | Q40: BV | R40: 0
A41: CYPRUS PROSPERITY | B41: 2012 | C41: NWT | D41: SNGY | E41: 손유석 | F41: B | G41: ANCHOR | H41: SINGAPORE(OPERATION PURPOSE), SINGAPORE | K41: LAST RESULT | L41: Mina Al Fahl, Oman | M41: 46123 | N41: VIVO ENERGY | O41: 7 // 3 | P41: ADNOC BBC | Q41: BV | R41: 0
A42: INDONESIA PROSPERITY | B42: 2013 | C42: NWT | D42: CSM | E42: 손유석 | F42: B | G42: ANCHOR | H42: SOHAR, OMAN | I42: ETD | J42: 46302.833 | K42: LAST RESULT | L42: Sohar | M42: 46263 | N42: ECOPETROL | O42: 7 // 6 | P42: 8/29 ECOPETROL DISCHARGE SIRE OBS 잔여 6건 조치 중 1. DECK LIGHTS 및 EMERGENCY LIGHTS 고장 2. CARGO LOADING SYSTEM 및 ALARM BUZZER 고장 그 외 Minor 지적 4건 | Q42: BV | R42: 1 | S42: 1. BWTS 고장으로 인해 Flag administration 승인 하에 수리 및 확인 전까지 비준수 밸러스트수 배출 관리를 위한 비상 조치 시행 중. // DUE DATE : 2026-10-31 조치사항 : [10/5]1. 2026/9/11 Shore service 방선 완료. Service technician이 BWTS system 결함 부품 교체 권고. 2. BWTS system 수리용 Spare 필요: complete drive unit 1pc, limit switch 1pc, power supply module 440v-24v 1pc. 3. 추가 Spare Requisition 발행(79826v00325): float switch FS-2-A, FS-2-B, FS-1-A, FS-1-B 및 parallel communication cable 1pc. 전 Spare 2026/10/10~10/12경 본선 보급 가능 예정. 4. BWTS system 제한 모드로 운용 중: 2026/10/4 1개 system으로 2700m3/hr Ballasting 실시. 5. 2nd system 시험 및 최대 용량 6000m3/hr 정상 기능 유지 위해 Spare 필요.
...

Sheet Sire History
A1: VLCC SIRE STATUS | D1: BRAZIL PROSPERITY
I2: VALID - BLUE
D3: ADNOC BBC - SIRE 상관없음 | I3: NOT VALID - RED
A5: BUILT YARD | B5: BUILT YEAR | C5: NO | D5: VESSEL | E5: MANAGER | F5: SINOKOR TECH TEAM | G5: SINOKOR PIC | H5: OPERATION PIC | I5: STATUS | J5: PLAN | M5: SIRE HISTORY - LATEST 1 | S5: SIRE HISTORY - LATEST 2 | Y5: SIRE HISTORY - LATEST 3 | AE5: SIRE HISTORY - LATEST 4 | AK5: SIRE HISTORY - LATEST 5 | AQ5: SIRE HISTORY - LATEST 6 | AW5: SIRE HISTORY - LATEST 7 | BC5: SIRE HISTORY - LATEST 8
J6: DATE | K6: MAJOR | L6: PORT | M6: KIND | N6: DATE | O6: OIL MAJOR | P6: Observation | R6: PORT | S6: KIND | T6: DATE | U6: OIL MAJOR | V6: Observation | X6: PORT | Y6: KIND | Z6: DATE | AA6: VENDOR | AB6: Observation | AD6: PORT | AE6: KIND | AF6: DATE | AG6: VENDOR | AH6: Observation | AJ6: PORT | AK6: KIND | AL6: DATE | AM6: VENDOR | AN6: Observation | AP6: PORT | AQ6: KIND | AR6: DATE | AS6: VENDOR | AT6: Observation | AV6: PORT | AW6: KIND | AX6: DATE | AY6: VENDOR | AZ6: Observation | BB6: PORT | BC6: KIND | BD6: DATE | BE6: VENDOR | BF6: Observation | BH6: PORT
P7: ALL | Q7: REMAIN | V7: ALL | W7: REMAIN | AB7: ALL | AC7: REMAIN | AH7: ALL | AI7: REMAIN | AN7: ALL | AO7: REMAIN | AT7: ALL | AU7: REMAIN | AZ7: ALL | BA7: REMAIN | BF7: ALL | BG7: REMAIN
A8: DALIAN.A | B8: 2007 | C8: 1 | D8: MONACO LOYALTY | E8: FLEET | F8: =IFERROR(INDEX('DB2'!U:U, MATCH(G8, 'DB2'!V:V, 0)), "") -> TRMT1 | G8: =_xlfn.LET( _xlpm.val, TRIM(LEFT(D8, IFERROR(FIND(CHAR(10), D8)-1, LEN(D8)))), _xlpm.result, IFERROR( _xlfn.XLOOKUP(_xlpm.val, 'DB2'!H:H, 'DB2'!V:V), _xlfn.XLOOKUP(_xlpm.val, 'DB2'!I:I, 'DB2'!V:V) ), IF(OR(_xlpm.result="", _xlpm.result=0), "", _xlpm.result) ) -> JH. JEONG | H8: =_xlfn.LET( _xlpm.val, TRIM(LEFT(D8, IFERROR(FIND(CHAR(10), D8)-1, LEN(D8)))), _xlpm.result, IFERROR( _xlfn.XLOOKUP(_xlpm.val, 'DB2'!H:H, 'DB2'!S:S), _xlfn.XLOOKUP(_xlpm.val, 'DB2'!I:I, 'DB2'!S:S) ), IF(OR(_xlpm.result="", _xlpm.result=0), "", _xlpm.result) ) -> SY. CHOI | I8: Valid | M8: CLOSED | N8: 46207 | O8: IDEMITSU | P8: 8 | Q8: 0 | R8: LINGGI | S8: CLOSED | T8: 46140 | U8: ADNOC | V8: 6 | W8: 0 | X8: JEBEL DHANA | Y8: CLOSED | Z8: 46021 | AA8: EQUINOR | AB8: 5 | AC8: 0 | AD8: SIKKA | AE8: CLOSED | AF8: 45927 | AG8: MMS | AH8: 5 | AI8: 0 | AJ8: NEW MANGALORE | AK8: CLOSED | AL8: 45631 | AM8: PREEM AB | AN8: 12 | AO8: 0 | AP8: LEKKI | AQ8: CLOSED | AR8: 45526 | AS8: ENOC | AT8: 3 | AU8: 0 | AV8: LOME | AW8: CLOSED | AX8: 45437 | AY8: PREEM AB | AZ8: 3 | BA8: 0 | BB8: LOME
B9: 2007 | C9: 2 | D9: SINGAPORE LOYALTY | E9: FLEET | F9: =IFERROR(INDEX('DB2'!U:U, MATCH(G9, 'DB2'!V:V, 0)), "") -> TRMT1 | G9: =_xlfn.LET( _xlpm.val, TRIM(LEFT(D9, IFERROR(FIND(CHAR(10), D9)-1, LEN(D9)))), _xlpm.result, IFERROR( _xlfn.XLOOKUP(_xlpm.val, 'DB2'!H:H, 'DB2'!V:V), _xlfn.XLOOKUP(_xlpm.val, 'DB2'!I:I, 'DB2'!V:V) ), IF(OR(_xlpm.result="", _xlpm.result=0), "", _xlpm.result) ) -> JH. JEONG | H9: =_xlfn.LET( _xlpm.val, TRIM(LEFT(D9, IFERROR(FIND(CHAR(10), D9)-1, LEN(D9)))), _xlpm.result, IFERROR( _xlfn.XLOOKUP(_xlpm.val, 'DB2'!H:H, 'DB2'!S:S), _xlfn.XLOOKUP(_xlpm.val, 'DB2'!I:I, 'DB2'!S:S) ), IF(OR(_xlpm.result="", _xlpm.result=0), "", _xlpm.result) ) -> DE. PARK | I9: Valid | M9: CLOSED | N9: 46170 | O9: ENOC | P9: 6 | Q9: 0 | R9: DUBAI ANCHORAGE | S9: CLOSED | T9: 45837 | U9: OMV | V9: 6 | W9: 0 | X9: SINGAPORE | Y9: CLOSED | Z9: 45704 | AA9: UNIPEC | AB9: 9 | AC9: 0 | AD9: NIPAH | AE9: CLOSED | AF9: 45547 | AG9: IDEMITSU | AH9: 4 | AI9: 0 | AJ9: MELAKA | AK9: CLOSED | AL9: 45385 | AM9: P66 | AN9: 4 | AO9: 0 | AP9: LINGGI
B10: 2008 | C10: 3 | D10: PLATA SINGAPORE | E10: AETM | F10: =IFERROR(INDEX('DB2'!U:U, MATCH(G10, 'DB2'!V:V, 0)), "") -> TRMT1 | G10: =_xlfn.LET( _xlpm.val, TRIM(LEFT(D10, IFERROR(FIND(CHAR(10), D10)-1, LEN(D10)))), _xlpm.result, IFERROR( _xlfn.XLOOKUP(_xlpm.val, 'DB2'!H:H, 'DB2'!V:V), _xlfn.XLOOKUP(_xlpm.val, 'DB2'!I:I, 'DB2'!V:V) ), IF(OR(_xlpm.result="", _xlpm.result=0), "", _xlpm.result) ) -> JH. JEONG | H10: =_xlfn.LET( _xlpm.val, TRIM(LEFT(D10, IFERROR(FIND(CHAR(10), D10)-1, LEN(D10)))), _xlpm.result, IFERROR( _xlfn.XLOOKUP(_xlpm.val, 'DB2'!H:H, 'DB2'!S:S), _xlfn.XLOOKUP(_xlpm.val, 'DB2'!I:I, 'DB2'!S:S) ), IF(OR(_xlpm.result="", _xlpm.result=0), "", _xlpm.result) ) -> JY. RO | I10: Valid | M10: CLOSED | N10: 46199 | O10: PETROVIETNAM | P10: 8 | Q10: 0 | R10: SHUIDONG | S10: CLOSED | T10: 46064 | U10: PERAMINA | V10: 5 | W10: 0 | X10: ZHOUSHAN | Y10: CLOSED | Z10: 45944 | AA10: PETRON | AB10: 6 | AC10: 0 | AD10: ZHOUSHAN | AE10: CLOSED | AF10: 45833 | AG10: ADNOC | AH10: 5 | AI10: 0 | AJ10: YEOSU | AK10: CLOSED | AL10: 45769 | AM10: ECOPETROL | AN10: 16 | AO10: 0 | AP10: KOCHI | AQ10: CLOSED | AR10: 45678 | AS10: VIVO | AT10: 10 | AU10: 0 | AV10: CHENNAI | AW10: CLOSED | AX10: 45580 | AY10: P66 | AZ10: 10 | BA10: 0 | BB10: SIKKA | BC10: CLOSED | BD10: 45488 | BE10: ALMA PETROLI | BF10: 3 | BG10: 0 | BH10: SINGAPORE
B11: 2008 | C11: 4 | D11: PLATA CARRIER | E11: AETM | F11: =IFERROR(INDEX('DB2'!U:U, MATCH(G11, 'DB2'!V:V, 0)), "") -> TRMT1 | G11: =_xlfn.LET( _xlpm.val, TRIM(LEFT(D11, IFERROR(FIND(CHAR(10), D11)-1, LEN(D11)))), _xlpm.result, IFERROR( _xlfn.XLOOKUP(_xlpm.val, 'DB2'!H:H, 'DB2'!V:V), _xlfn.XLOOKUP(_xlpm.val, 'DB2'!I:I, 'DB2'!V:V) ), IF(OR(_xlpm.result="", _xlpm.result=0), "", _xlpm.result) ) -> JH. JEONG | H11: =_xlfn.LET( _xlpm.val, TRIM(LEFT(D11, IFERROR(FIND(CHAR(10), D11)-1, LEN(D11)))), _xlpm.result, IFERROR( _xlfn.XLOOKUP(_xlpm.val, 'DB2'!H:H, 'DB2'!S:S), _xlfn.XLOOKUP(_xlpm.val, 'DB2'!I:I, 'DB2'!S:S) ), IF(OR(_xlpm.result="", _xlpm.result=0), "", _xlpm.result) ) -> SY. KIM | I11: Valid | M11: OPEN OBS | N11: 46213 | O11: PETROVIETNAM | P11: 6 | Q11: 4 | R11: Paradip | S11: CLOSED | T11: 46012 | U11: PERTAMINA | V11: 7 | W11: 0 | X11: VIZAG | Y11: CLOSED | Z11: 45922 | AA11: ENOC | AB11: 6 | AC11: 0 | AD11: PARADIP | AE11: CLOSED | AF11: 45826 | AG11: P66 | AH11: 7 | AI11: 0 | AJ11: SIKKA | AK11: CLOSED | AL11: 45698 | AM11: ECOPETROL | AN11: 7 | AO11: 0 | AP11: PARADIP | AQ11: CLOSED | AR11: 45509 | AS11: PETRON | AT11: 5 | AU11: 0 | AV11: GUANGZHOU | AW11: CLOSED | AX11: 45443 | AY11: IDEMITSU | AZ11: 2 | BA11: 0 | BB11: DAESAN
B12: 2009 | C12: 5 | D12: PLATA LUCKY | E12: AETM | F12: =IFERROR(INDEX('DB2'!U:U, MATCH(G12, 'DB2'!V:V, 0)), "") -> TRMT1 | G12: =_xlfn.LET( _xlpm.val, TRIM(LEFT(D12, IFERROR(FIND(CHAR(10), D12)-1, LEN(D12)))), _xlpm.result, IFERROR( _xlfn.XLOOKUP(_xlpm.val, 'DB2'!H:H, 'DB2'!V:V), _xlfn.XLOOKUP(_xlpm.val, 'DB2'!I:I, 'DB2'!V:V) ), IF(OR(_xlpm.result="", _xlpm.result=0), "", _xlpm.result) ) -> JH. JEONG | H12: =_xlfn.LET( _xlpm.val, TRIM(LEFT(D12, IFERROR(FIND(CHAR(10), D12)-1, LEN(D12)))), _xlpm.result, IFERROR( _xlfn.XLOOKUP(_xlpm.val, 'DB2'!H:H, 'DB2'!S:S), _xlfn.XLOOKUP(_xlpm.val, 'DB2'!I:I, 'DB2'!S:S) ), IF(OR(_xlpm.result="", _xlpm.result=0), "", _xlpm.result) ) -> JA. YOUN | I12: Valid | M12: OPEN OBS | N12: 46287 | O12: PERTAMINA | P12: 10 | Q12: 10 | R12: SINES | S12: CLOSED | T12: 46146 | U12: PETROVIETNAM | V12: 9 | W12: 0 | X12: ROTTERDAM | Y12: CLOSED | Z12: 45939 | AA12: PERTAMINA | AB12: 7 | AC12: 0 | AD12: SHUIDONG | AE12: CLOSED | AF12: 45831 | AG12: PETROVIET | AH12: 5 | AI12: 0 | AJ12: VISHAKHAPATNAM | AK12: CLOSED | AL12: 45705 | AM12: ECOPETROL | AN12: 6 | AO12: 0 | AP12: KAOHSIUNG | AQ12: CLOSED | AR12: 45606 | AS12: P66 | AT12: 7 | AU12: 0 | AV12: ROTTERDAM | AW12: CLOSED | AX12: 45466 | AY12: MAXCOM | AZ12: 2 | BA12: 0 | BB12: SHANGHAI
A13: DALIAN.B | B13: 2011 | C13: 6 | D13: PANAMA PROSPERITY | E13: SNGY | F13: =IFERROR(INDEX('DB2'!U:U, MATCH(G13, 'DB2'!V:V, 0)), "") -> TRMT1 | G13: =_xlfn.LET( _xlpm.val, TRIM(LEFT(D13, IFERROR(FIND(CHAR(10), D13)-1, LEN(D13)))), _xlpm.result, IFERROR( _xlfn.XLOOKUP(_xlpm.val, 'DB2'!H:H, 'DB2'!V:V), _xlfn.XLOOKUP(_xlpm.val, 'DB2'!I:I, 'DB2'!V:V) ), IF(OR(_xlpm.result="", _xlpm.result=0), "", _xlpm.result) ) -> MS. KANG | H13: =_xlfn.LET( _xlpm.val, TRIM(LEFT(D13, IFERROR(FIND(CHAR(10), D13)-1, LEN(D13)))), _xlpm.result, IFERROR( _xlfn.XLOOKUP(_xlpm.val, 'DB2'!H:H, 'DB2'!S:S), _xlfn.XLOOKUP(_xlpm.val, 'DB2'!I:I, 'DB2'!S:S) ), IF(OR(_xlpm.result="", _xlpm.result=0), "", _xlpm.result) ) -> HR. KIM | I13: Not Valid | M13: OPEN OBS | N13: 46267 | O13: TOTAL | P13: 7 | Q13: 2 | R13: SOHAR
B14: 2011 | C14: 7 | D14: LUCKY PIONEER | E14: VSU | F14: =IFERROR(INDEX('DB2'!U:U, MATCH(G14, 'DB2'!V:V, 0)), "") -> TRMT2 | G14: =_xlfn.LET( _xlpm.val, TRIM(LEFT(D14, IFERROR(FIND(CHAR(10), D14)-1, LEN(D14)))), _xlpm.result, IFERROR( _xlfn.XLOOKUP(_xlpm.val, 'DB2'!H:H, 'DB2'!V:V), _xlfn.XLOOKUP(_xlpm.val, 'DB2'!I:I, 'DB2'!V:V) ), IF(OR(_xlpm.result="", _xlpm.result=0), "", _xlpm.result) ) -> KL. CHOI | H14: =_xlfn.LET( _xlpm.val, TRIM(LEFT(D14, IFERROR(FIND(CHAR(10), D14)-1, LEN(D14)))), _xlpm.result, IFERROR( _xlfn.XLOOKUP(_xlpm.val, 'DB2'!H:H, 'DB2'!S:S), _xlfn.XLOOKUP(_xlpm.val, 'DB2'!I:I, 'DB2'!S:S) ), IF(OR(_xlpm.result="", _xlpm.result=0), "", _xlpm.result) ) -> JA. YOUN | I14: Valid | M14: CLOSED | N14: 46227 | O14: PETRON | P14: 26 | Q14: 0 | R14: NGHI SON, VIETNAM | S14: CLOSED | T14: 46166 | U14: PETROVIETNAM | V14: 3 | W14: 0 | X14: YEOSU | Y14: CLOSED | Z14: 45910 | AA14: PERTAMINA | AB14: 5 | AC14: 0 | AD14: LOOP | AE14: CLOSED | AF14: 45747 | AG14: IDEMITSU | AH14: 14 | AI14: 0 | AJ14: ZHOUSHAN | AK14: CLOSED | AL14: 45701 | AM14: ENOC | AN14: 13 | AO14: 0 | AP14: SINGAPORE
B15: 2011 | C15: 8 | D15: SINGAPORE ENERGY | E15: FLEET | F15: =IFERROR(INDEX('DB2'!U:U, MATCH(G15, 'DB2'!V:V, 0)), "") -> TRMT1 | G15: =_xlfn.LET( _xlpm.val, TRIM(LEFT(D15, IFERROR(FIND(CHAR(10), D15)-1, LEN(D15)))), _xlpm.result, IFERROR( _xlfn.XLOOKUP(_xlpm.val, 'DB2'!H:H, 'DB2'!V:V), _xlfn.XLOOKUP(_xlpm.val, 'DB2'!I:I, 'DB2'!V:V) ), IF(OR(_xlpm.result="", _xlpm.result=0), "", _xlpm.result) ) -> MS. KANG | H15: =_xlfn.LET( _xlpm.val, TRIM(LEFT(D15, IFERROR(FIND(CHAR(10), D15)-1, LEN(D15)))), _xlpm.result, IFERROR( _xlfn.XLOOKUP(_xlpm.val, 'DB2'!H:H, 'DB2'!S:S), _xlfn.XLOOKUP(_xlpm.val, 'DB2'!I:I, 'DB2'!S:S) ), IF(OR(_xlpm.result="", _xlpm.result=0), "", _xlpm.result) ) -> JS. LEE | I15: Valid | M15: OPEN OBS | N15: 46198 | O15: P66 | P15: 5 | Q15: 2 | R15: DAESAN
B16: 2012 | C16: 9 | D16: ROBERTA B | E16: VSU | F16: =IFERROR(INDEX('DB2'!U:U, MATCH(G16, 'DB2'!V:V, 0)), "") -> TRMT2 | G16: =_xlfn.LET( _xlpm.val, TRIM(LEFT(D16, IFERROR(FIND(CHAR(10), D16)-1, LEN(D16)))), _xlpm.result, IFERROR( _xlfn.XLOOKUP(_xlpm.val, 'DB2'!H:H, 'DB2'!V:V), _xlfn.XLOOKUP(_xlpm.val, 'DB2'!I:I, 'DB2'!V:V) ), IF(OR(_xlpm.result="", _xlpm.result=0), "", _xlpm.result) ) -> KL. CHOI | H16: =_xlfn.LET( _xlpm.val, TRIM(LEFT(D16, IFERROR(FIND(CHAR(10), D16)-1, LEN(D16)))), _xlpm.result, IFERROR( _xlfn.XLOOKUP(_xlpm.val, 'DB2'!H:H, 'DB2'!S:S), _xlfn.XLOOKUP(_xlpm.val, 'DB2'!I:I, 'DB2'!S:S) ), IF(OR(_xlpm.result="", _xlpm.result=0), "", _xlpm.result) ) -> HS. CHO | I16: Valid | M16: CLOSED | N16: 46242 | O16: PERTAMINA | P16: 8 | Q16: 0 | R16: AIN, SUKHNA, EGYPT | S16: CLOSED | T16: 46118 | U16: SONANGOL | V16: 8 | W16: 0 | X16: AIN, SUKHNA, EGYPT
B17: 2012 | C17: 10 | D17: COSTA RICA PROSPERITY | E17: WAH KWONG | F17: =IFERROR(INDEX('DB2'!U:U, MATCH(G17, 'DB2'!V:V, 0)), "") -> TRMT1 | G17: =_xlfn.LET( _xlpm.val, TRIM(LEFT(D17, IFERROR(FIND(CHAR(10), D17)-1, LEN(D17)))), _xlpm.result, IFERROR( _xlfn.XLOOKUP(_xlpm.val, 'DB2'!H:H, 'DB2'!V:V), _xlfn.XLOOKUP(_xlpm.val, 'DB2'!I:I, 'DB2'!V:V) ), IF(OR(_xlpm.result="", _xlpm.result=0), "", _xlpm.result) ) -> MS. KANG | H17: =_xlfn.LET( _xlpm.val, TRIM(LEFT(D17, IFERROR(FIND(CHAR(10), D17)-1, LEN(D17)))), _xlpm.result, IFERROR( _xlfn.XLOOKUP(_xlpm.val, 'DB2'!H:H, 'DB2'!S:S), _xlfn.XLOOKUP(_xlpm.val, 'DB2'!I:I, 'DB2'!S:S) ), IF(OR(_xlpm.result="", _xlpm.result=0), "", _xlpm.result) ) -> YN. KIM | I17: Valid | M17: OPEN OBS | N17: 46266 | O17: TOTAL | P17: 12 | Q17: 12 | R17: ALIAGA, TURKEY | S17: CLOSED | T17: 46110 | U17: TOTAL | V17: 13 | W17: 0 | X17: RIZHAO
A18: DALIAN.C | B18: 2016 | C18: 11 | D18: BANGLADESH PROSPERITY | E18: CSM | F18: =IFERROR(INDEX('DB2'!U:U, MATCH(G18, 'DB2'!V:V, 0)), "") -> TRMT1 | G18: =_xlfn.LET( _xlpm.val, TRIM(LEFT(D18, IFERROR(FIND(CHAR(10), D18)-1, LEN(D18)))), _xlpm.result, IFERROR( _xlfn.XLOOKUP(_xlpm.val, 'DB2'!H:H, 'DB2'!V:V), _xlfn.XLOOKUP(_xlpm.val, 'DB2'!I:I, 'DB2'!V:V) ), IF(OR(_xlpm.result="", _xlpm.result=0), "", _xlpm.result) ) -> YS. YOUN | H18: =_xlfn.LET( _xlpm.val, TRIM(LEFT(D18, IFERROR(FIND(CHAR(10), D18)-1, LEN(D18)))), _xlpm.result, IFERROR( _xlfn.XLOOKUP(_xlpm.val, 'DB2'!H:H, 'DB2'!S:S), _xlfn.XLOOKUP(_xlpm.val, 'DB2'!I:I, 'DB2'!S:S) ), IF(OR(_xlpm.result="", _xlpm.result=0), "", _xlpm.result) ) -> YS. HEO | I18: Valid | M18: CLOSED | N18: 46229 | O18: SONANGOL | P18: 4 | Q18: 0 | R18: SINGAPORE | S18: CLOSED | T18: 46108 | U18: PETROVIETNAM | V18: 11 | W18: 0 | X18: SINGAPORE
A19: DALIAN.D | B19: 2019 | C19: 12 | D19: CHILE PROSPERITY | E19: CSM | F19: =IFERROR(INDEX('DB2'!U:U, MATCH(G19, 'DB2'!V:V, 0)), "") -> TRMT1 | G19: =_xlfn.LET( _xlpm.val, TRIM(LEFT(D19, IFERROR(FIND(CHAR(10), D19)-1, LEN(D19)))), _xlpm.result, IFERROR( _xlfn.XLOOKUP(_xlpm.val, 'DB2'!H:H, 'DB2'!V:V), _xlfn.XLOOKUP(_xlpm.val, 'DB2'!I:I, 'DB2'!V:V) ), IF(OR(_xlpm.result="", _xlpm.result=0), "", _xlpm.result) ) -> HS. KIM | H19: =_xlfn.LET( _xlpm.val, TRIM(LEFT(D19, IFERROR(FIND(CHAR(10), D19)-1, LEN(D19)))), _xlpm.result, IFERROR( _xlfn.XLOOKUP(_xlpm.val, 'DB2'!H:H, 'DB2'!S:S), _xlfn.XLOOKUP(_xlpm.val, 'DB2'!I:I, 'DB2'!S:S) ), IF(OR(_xlpm.result="", _xlpm.result=0), "", _xlpm.result) ) -> DB. SEO | I19: Valid | M19: OPEN OBS | N19: 46255 | O19: IDEMITSU | P19: 4 | Q19: 4 | R19: ROTTERDAM | S19: CLOSED | T19: 46202 | U19: ECOPETROL | V19: 6 | W19: 0 | X19: LAGOS | Y19: CLOSED | Z19: 46128 | AA19: ECOPETROL | AB19: 5 | AC19: 0 | AD19: SINGAPORE
A20: JIANGNAN | B20: 2009 | C20: 13 | D20: SURINAME PROSPERITY | E20: CSM | F20: TRMT1 | G20: =_xlfn.LET( _xlpm.val, TRIM(LEFT(D20, IFERROR(FIND(CHAR(10), D20)-1, LEN(D20)))), _xlpm.result, IFERROR( _xlfn.XLOOKUP(_xlpm.val, 'DB2'!H:H, 'DB2'!V:V), _xlfn.XLOOKUP(_xlpm.val, 'DB2'!I:I, 'DB2'!V:V) ), IF(OR(_xlpm.result="", _xlpm.result=0), "", _xlpm.result) ) -> NIKOS | H20: =_xlfn.LET( _xlpm.val, TRIM(LEFT(D20, IFERROR(FIND(CHAR(10), D20)-1, LEN(D20)))), _xlpm.result, IFERROR( _xlfn.XLOOKUP(_xlpm.val, 'DB2'!H:H, 'DB2'!S:S), _xlfn.XLOOKUP(_xlpm.val, 'DB2'!I:I, 'DB2'!S:S) ), IF(OR(_xlpm.result="", _xlpm.result=0), "", _xlpm.result) ) -> CH. BAE | I20: Valid | M20: OPEN OBS | N20: 46245 | O20: ECOPETROL | P20: 6 | Q20: 1 | R20: FUJAIRAH | S20: CLOSED | T20: 46188 | U20: ECOPETROL | V20: 5 | W20: 0 | X20: FUJAIRAH
B21: 2009 | C21: 14 | D21: FINLAND PROSPERITY | E21: BSM | F21: TRMT1 | G21: =_xlfn.LET( _xlpm.val, TRIM(LEFT(D21, IFERROR(FIND(CHAR(10), D21)-1, LEN(D21)))), _xlpm.result, IFERROR( _xlfn.XLOOKUP(_xlpm.val, 'DB2'!H:H, 'DB2'!V:V), _xlfn.XLOOKUP(_xlpm.val, 'DB2'!I:I, 'DB2'!V:V) ), IF(OR(_xlpm.result="", _xlpm.result=0), "", _xlpm.result) ) -> NIKOS | H21: =_xlfn.LET( _xlpm.val, TRIM(LEFT(D21, IFERROR(FIND(CHAR(10), D21)-1, LEN(D21)))), _xlpm.result, IFERROR( _xlfn.XLOOKUP(_xlpm.val, 'DB2'!H:H, 'DB2'!S:S), _xlfn.XLOOKUP(_xlpm.val, 'DB2'!I:I, 'DB2'!S:S) ), IF(OR(_xlpm.result="", _xlpm.result=0), "", _xlpm.result) ) -> HI. HUR | I21: Valid | M21: OPEN OBS | N21: 46297 | O21: TOTAL | P21: 26 | Q21: 26 | R21: MUNDRA | S21: CLOSED | T21: 46162 | U21: VIVO ENERGY | V21: 11 | W21: 0 | X21: COLOMBO
B22: 2009 | C22: 15 | D22: PLATA GLORY | E22: VSN | F22: =IFERROR(INDEX('DB2'!U:U, MATCH(G22, 'DB2'!V:V, 0)), "") -> TRMT2 | G22: =_xlfn.LET( _xlpm.val, TRIM(LEFT(D22, IFERROR(FIND(CHAR(10), D22)-1, LEN(D22)))), _xlpm.result, IFERROR( _xlfn.XLOOKUP(_xlpm.val, 'DB2'!H:H, 'DB2'!V:V), _xlfn.XLOOKUP(_xlpm.val, 'DB2'!I:I, 'DB2'!V:V) ), IF(OR(_xlpm.result="", _xlpm.result=0), "", _xlpm.result) ) -> JN. SHIM | H22: =_xlfn.LET( _xlpm.val, TRIM(LEFT(D22, IFERROR(FIND(CHAR(10), D22)-1, LEN(D22)))), _xlpm.result, IFERROR( _xlfn.XLOOKUP(_xlpm.val, 'DB2'!H:H, 'DB2'!S:S), _xlfn.XLOOKUP(_xlpm.val, 'DB2'!I:I, 'DB2'!S:S) ), IF(OR(_xlpm.result="", _xlpm.result=0), "", _xlpm.result) ) -> SY. RYU | I22: Valid | M22: CLOSED | N22: 46160 | O22: PERTAMINA | P22: 22 | Q22: 0 | R22: FAWLEY, UK | S22: CLOSED | T22: 46033 | U22: MOH | V22: 2 | W22: 0 | X22: SINGAPORE | Y22: CLOSED | Z22: 45956 | AA22: KOCH | AB22: 8 | AC22: 0 | AD22: SINGAPORE | AE22: CLOSED | AF22: 45853 | AG22: PERTAMINA | AH22: 6 | AI22: 0 | AJ22: QUANZHOU | AK22: CLOSED | AL22: 45694 | AM22: PETROVIET | AN22: 7 | AO22: 0 | AP22: ZHOUSHAN | AQ22: CLOSED | AR22: 45509 | AS22: KOCH | AT22: 8 | AU22: 0 | AV22: ROTTERDAM | AW22: CLOSED | AX22: 45393 | AY22: MAXCOM | AZ22: 3 | BA22: 0 | BB22: YEOSU
B23: 2009 | C23: 16 | D23: PLATA NORTH | E23: VSN | F23: =IFERROR(INDEX('DB2'!U:U, MATCH(G23, 'DB2'!V:V, 0)), "") -> TRMT2 | G23: =_xlfn.LET( _xlpm.val, TRIM(LEFT(D23, IFERROR(FIND(CHAR(10), D23)-1, LEN(D23)))), _xlpm.result, IFERROR( _xlfn.XLOOKUP(_xlpm.val, 'DB2'!H:H, 'DB2'!V:V), _xlfn.XLOOKUP(_xlpm.val, 'DB2'!I:I, 'DB2'!V:V) ), IF(OR(_xlpm.result="", _xlpm.result=0), "", _xlpm.result) ) -> JN. SHIM | H23: =_xlfn.LET( _xlpm.val, TRIM(LEFT(D23, IFERROR(FIND(CHAR(10), D23)-1, LEN(D23)))), _xlpm.result, IFERROR( _xlfn.XLOOKUP(_xlpm.val, 'DB2'!H:H, 'DB2'!S:S), _xlfn.XLOOKUP(_xlpm.val, 'DB2'!I:I, 'DB2'!S:S) ), IF(OR(_xlpm.result="", _xlpm.result=0), "", _xlpm.result) ) -> YS. HEO | I23: Valid | M23: OPEN OBS | N23: 46284 | O23: PERTAMINA | P23: 20 | Q23: 6 | R23: ROTTERDAM, NETHERLANS | S23: CLOSED | T23: 46202 | U23: PERTAMINA | V23: 6 | W23: 0 | X23: VISAKHAPATNAM, INDIA | Y23: CLOSED | Z23: 46002 | AA23: MOH | AB23: 7 | AC23: 0 | AD23: LEKKI | AE23: CLOSED | AF23: 45889 | AG23: KOCH | AH23: 9 | AI23: 0 | AJ23: PARADIP | AK23: CLOSED | AL23: 45797 | AM23: VIVA | AN23: 8 | AO23: 0 | AP23: ZHOUSHAN | AQ23: CLOSED | AR23: 45679 | AS23: P66 | AT23: 11 | AU23: 0 | AV23: PARADIP | AW23: CLOSED | AX23: 45423 | AY23: ENI | AZ23: 4 | BA23: 0 | BB23: NGHI SON | BC23: CLOSED | BD23: 45377 | BE23: ALMA PETROLI | BF23: 4 | BG23: 0 | BH23: YEOSU
B24: 2009 | C24: 17 | D24: NAVE GALACTIC | F24: =IFERROR(INDEX('DB2'!U:U, MATCH(G24, 'DB2'!V:V, 0)), "") -> TRMT1 | G24: =_xlfn.LET( _xlpm.val, TRIM(LEFT(D24, IFERROR(FIND(CHAR(10), D24)-1, LEN(D24)))), _xlpm.result, IFERROR( _xlfn.XLOOKUP(_xlpm.val, 'DB2'!H:H, 'DB2'!V:V), _xlfn.XLOOKUP(_xlpm.val, 'DB2'!I:I, 'DB2'!V:V) ), IF(OR(_xlpm.result="", _xlpm.result=0), "", _xlpm.result) ) -> JH. YANG | H24: =_xlfn.LET( _xlpm.val, TRIM(LEFT(D24, IFERROR(FIND(CHAR(10), D24)-1, LEN(D24)))), _xlpm.result, IFERROR( _xlfn.XLOOKUP(_xlpm.val, 'DB2'!H:H, 'DB2'!S:S), _xlfn.XLOOKUP(_xlpm.val, 'DB2'!I:I, 'DB2'!S:S) ), IF(OR(_xlpm.result="", _xlpm.result=0), "", _xlpm.result) ) | I24: Not Valid | M24: OPEN OBS | N24: 46295 | O24: MARATHON | P24: 9 | Q24: 9 | R24: JIEYANG, CHINA | S24: CLOSED | T24: 46243 | U24: PETROVIETNAM | V24: 5 | W24: 0 | X24: SINGAPORE
B25: 2010 | C25: 18 | D25: LUCKY CARRIER | E25: VSU | F25: =IFERROR(INDEX('DB2'!U:U, MATCH(G25, 'DB2'!V:V, 0)), "") -> TRMT2 | G25: =_xlfn.LET( _xlpm.val, TRIM(LEFT(D25, IFERROR(FIND(CHAR(10), D25)-1, LEN(D25)))), _xlpm.result, IFERROR( _xlfn.XLOOKUP(_xlpm.val, 'DB2'!H:H, 'DB2'!V:V), _xlfn.XLOOKUP(_xlpm.val, 'DB2'!I:I, 'DB2'!V:V) ), IF(OR(_xlpm.result="", _xlpm.result=0), "", _xlpm.result) ) -> KL. CHOI | H25: =_xlfn.LET( _xlpm.val, TRIM(LEFT(D25, IFERROR(FIND(CHAR(10), D25)-1, LEN(D25)))), _xlpm.result, IFERROR( _xlfn.XLOOKUP(_xlpm.val, 'DB2'!H:H, 'DB2'!S:S), _xlfn.XLOOKUP(_xlpm.val, 'DB2'!I:I, 'DB2'!S:S) ), IF(OR(_xlpm.result="", _xlpm.result=0), "", _xlpm.result) ) -> JM. YOUN | I25: Valid | M25: CLOSED | N25: 46238 | O25: SONANGOL | P25: 5 | Q25: 0 | R25: TANJUNG PELEPAS | S25: CLOSED | T25: 45992 | U25: PERTAMINA | V25: 4 | W25: 0 | X25: PARADIP | Y25: CLOSED | Z25: 45904 | AA25: ADNOC | AB25: 11 | AC25: 0 | AD25: RUWAIS | AE25: CLOSED | AF25: 45822 | AG25: ADNOC | AH25: 7 | AI25: 0 | AJ25: SOHAR | AK25: CLOSED | AL25: 45719 | AM25: ENOC | AN25: 12 | AO25: 0 | AP25: SINGAPORE
B26: 2012 | C26: 19 | D26: MADAGASCAR PROSPERITY | E26: VSU | F26: =IFERROR(INDEX('DB2'!U:U, MATCH(G26, 'DB2'!V:V, 0)), "") -> TRMT2 | G26: =_xlfn.LET( _xlpm.val, TRIM(LEFT(D26, IFERROR(FIND(CHAR(10), D26)-1, LEN(D26)))), _xlpm.result, IFERROR( _xlfn.XLOOKUP(_xlpm.val, 'DB2'!H:H, 'DB2'!V:V), _xlfn.XLOOKUP(_xlpm.val, 'DB2'!I:I, 'DB2'!V:V) ), IF(OR(_xlpm.result="", _xlpm.result=0), "", _xlpm.result) ) -> YJ. JEON | H26: =_xlfn.LET( _xlpm.val, TRIM(LEFT(D26, IFERROR(FIND(CHAR(10), D26)-1, LEN(D26)))), _xlpm.result, IFERROR( _xlfn.XLOOKUP(_xlpm.val, 'DB2'!H:H, 'DB2'!S:S), _xlfn.XLOOKUP(_xlpm.val, 'DB2'!I:I, 'DB2'!S:S) ), IF(OR(_xlpm.result="", _xlpm.result=0), "", _xlpm.result) ) -> HR. KIM | I26: Valid | M26: CLOSED | N26: 46153 | O26: PETROVIETNAM | P26: 8 | Q26: 0 | R26: GOLA | S26: CLOSED | T26: 46035 | U26: ILPOM | V26: 5 | W26: 0 | X26: GOLA
B27: 2011 | C27: 20 | D27: MALAYSIA PROSPERITY | E27: SNGY | F27: =IFERROR(INDEX('DB2'!U:U, MATCH(G27, 'DB2'!V:V, 0)), "") -> TRMT1 | G27: =_xlfn.LET( _xlpm.val, TRIM(LEFT(D27, IFERROR(FIND(CHAR(10), D27)-1, LEN(D27)))), _xlpm.result, IFERROR( _xlfn.XLOOKUP(_xlpm.val, 'DB2'!H:H, 'DB2'!V:V), _xlfn.XLOOKUP(_xlpm.val, 'DB2'!I:I, 'DB2'!V:V) ), IF(OR(_xlpm.result="", _xlpm.result=0), "", _xlpm.result) ) -> MS. KANG | H27: =_xlfn.LET( _xlpm.val, TRIM(LEFT(D27, IFERROR(FIND(CHAR(10), D27)-1, LEN(D27)))), _xlpm.result, IFERROR( _xlfn.XLOOKUP(_xlpm.val, 'DB2'!H:H, 'DB2'!S:S), _xlfn.XLOOKUP(_xlpm.val, 'DB2'!I:I, 'DB2'!S:S) ), IF(OR(_xlpm.result="", _xlpm.result=0), "", _xlpm.result) ) -> TW. HWANG | I27: Valid | M27: OPEN OBS | N27: 46209 | O27: ECOPETROL | P27: 5 | Q27: 1 | R27: FUJAIRAH | S27: CLOSED | T27: 46170 | U27: PERTAMINA | V27: 5 | W27: 0 | X27: FUJAIRAH | Y27: CLOSED | Z27: 46080 | AA27: ENOC | AB27: 3 | AC27: 0 | AD27: SRI LANKA
B28: 2010 | C28: 21 | D28: GERMANY B | E28: FLEET | F28: =IFERROR(INDEX('DB2'!U:U, MATCH(G28, 'DB2'!V:V, 0)), "") -> TRMT1 | G28: =_xlfn.LET( _xlpm.val, TRIM(LEFT(D28, IFERROR(FIND(CHAR(10), D28)-1, LEN(D28)))), _xlpm.result, IFERROR( _xlfn.XLOOKUP(_xlpm.val, 'DB2'!H:H, 'DB2'!V:V), _xlfn.XLOOKUP(_xlpm.val, 'DB2'!I:I, 'DB2'!V:V) ), IF(OR(_xlpm.result="", _xlpm.result=0), "", _xlpm.result) ) -> MS. KANG | H28: =_xlfn.LET( _xlpm.val, TRIM(LEFT(D28, IFERROR(FIND(CHAR(10), D28)-1, LEN(D28)))), _xlpm.result, IFERROR( _xlfn.XLOOKUP(_xlpm.val, 'DB2'!H:H, 'DB2'!S:S), _xlfn.XLOOKUP(_xlpm.val, 'DB2'!I:I, 'DB2'!S:S) ), IF(OR(_xlpm.result="", _xlpm.result=0), "", _xlpm.result) ) -> YN. PARK | M28: CLOSED | N28: 46265 | O28: TOTAL | P28: 13 | Q28: 0 | R28: LIANYUGANG
B29: 2010 | C29: 22 | D29: TANZANIA PROSPERITY | E29: SNGY | F29: =IFERROR(INDEX('DB2'!U:U, MATCH(G29, 'DB2'!V:V, 0)), "") -> TRMT1 | G29: =_xlfn.LET( _xlpm.val, TRIM(LEFT(D29, IFERROR(FIND(CHAR(10), D29)-1, LEN(D29)))), _xlpm.result, IFERROR( _xlfn.XLOOKUP(_xlpm.val, 'DB2'!H:H, 'DB2'!V:V), _xlfn.XLOOKUP(_xlpm.val, 'DB2'!I:I, 'DB2'!V:V) ), IF(OR(_xlpm.result="", _xlpm.result=0), "", _xlpm.result) ) -> JH. YANG | H29: =_xlfn.LET( _xlpm.val, TRIM(LEFT(D29, IFERROR(FIND(CHAR(10), D29)-1, LEN(D29)))), _xlpm.result, IFERROR( _xlfn.XLOOKUP(_xlpm.val, 'DB2'!H:H, 'DB2'!S:S), _xlfn.XLOOKUP(_xlpm.val, 'DB2'!I:I, 'DB2'!S:S) ), IF(OR(_xlpm.result="", _xlpm.result=0), "", _xlpm.result) ) -> HS. CHO | I29: Valid | M29: CLOSED | N29: 46262 | O29: TOTAL | P29: 4 | Q29: 0 | R29: SOHAR | S29: OPEN OBS | T29: 46143 | U29: ENOC | V29: 13 | W29: 1 | X29: FUJAIRAH
B30: 2010 | C30: 23 | D30: ROTTERDAM ENERGY | E30: FLEET | F30: =IFERROR(INDEX('DB2'!U:U, MATCH(G30, 'DB2'!V:V, 0)), "") -> TRMT1 | G30: =_xlfn.LET( _xlpm.val, TRIM(LEFT(D30, IFERROR(FIND(CHAR(10), D30)-1, LEN(D30)))), _xlpm.result, IFERROR( _xlfn.XLOOKUP(_xlpm.val, 'DB2'!H:H, 'DB2'!V:V), _xlfn.XLOOKUP(_xlpm.val, 'DB2'!I:I, 'DB2'!V:V) ), IF(OR(_xlpm.result="", _xlpm.result=0), "", _xlpm.result) ) -> MS. KANG | H30: =_xlfn.LET( _xlpm.val, TRIM(LEFT(D30, IFERROR(FIND(CHAR(10), D30)-1, LEN(D30)))), _xlpm.result, IFERROR( _xlfn.XLOOKUP(_xlpm.val, 'DB2'!H:H, 'DB2'!S:S), _xlfn.XLOOKUP(_xlpm.val, 'DB2'!I:I, 'DB2'!S:S) ), IF(OR(_xlpm.result="", _xlpm.result=0), "", _xlpm.result) ) -> MJ. CHOI | I30: Not Valid | M30: CLOSED | N30: 46156 | O30: MOH | P30: 3 | Q30: 0 | R30: SHARJAH | S30: OPEN OBS | T30: 46076 | U30: ENOC | X30: KHOR FAKKAN
B31: 2011 | C31: 24 | D31: SRI LANKA PROSPERITY | E31: CSM | F31: =IFERROR(INDEX('DB2'!U:U, MATCH(G31, 'DB2'!V:V, 0)), "") -> TRMT1 | G31: =_xlfn.LET( _xlpm.val, TRIM(LEFT(D31, IFERROR(FIND(CHAR(10), D31)-1, LEN(D31)))), _xlpm.result, IFERROR( _xlfn.XLOOKUP(_xlpm.val, 'DB2'!H:H, 'DB2'!V:V), _xlfn.XLOOKUP(_xlpm.val, 'DB2'!I:I, 'DB2'!V:V) ), IF(OR(_xlpm.result="", _xlpm.result=0), "", _xlpm.result) ) -> JH. YANG | H31: =_xlfn.LET( _xlpm.val, TRIM(LEFT(D31, IFERROR(FIND(CHAR(10), D31)-1, LEN(D31)))), _xlpm.result, IFERROR( _xlfn.XLOOKUP(_xlpm.val, 'DB2'!H:H, 'DB2'!S:S), _xlfn.XLOOKUP(_xlpm.val, 'DB2'!I:I, 'DB2'!S:S) ), IF(OR(_xlpm.result="", _xlpm.result=0), "", _xlpm.result) ) -> CHAN HEO | I31: Valid | M31: CLOSED | N31: 46200 | O31: ADNOC | P31: 13 | Q31: 0 | R31: AIN SUKHNA | S31: CLOSED | T31: 46121 | U31: P66 | V31: 17 | W31: 0 | X31: SINGAPORE
B32: 2011 | C32: 25 | D32: THAILAND PROSPERITY | E32: FLEET | F32: =IFERROR(INDEX('DB2'!U:U, MATCH(G32, 'DB2'!V:V, 0)), "") -> TRMT1 | G32: =_xlfn.LET( _xlpm.val, TRIM(LEFT(D32, IFERROR(FIND(CHAR(10), D32)-1, LEN(D32)))), _xlpm.result, IFERROR( _xlfn.XLOOKUP(_xlpm.val, 'DB2'!H:H, 'DB2'!V:V), _xlfn.XLOOKUP(_xlpm.val, 'DB2'!I:I, 'DB2'!V:V) ), IF(OR(_xlpm.result="", _xlpm.result=0), "", _xlpm.result) ) -> MS. KANG | H32: =_xlfn.LET( _xlpm.val, TRIM(LEFT(D32, IFERROR(FIND(CHAR(10), D32)-1, LEN(D32)))), _xlpm.result, IFERROR( _xlfn.XLOOKUP(_xlpm.val, 'DB2'!H:H, 'DB2'!S:S), _xlfn.XLOOKUP(_xlpm.val, 'DB2'!I:I, 'DB2'!S:S) ), IF(OR(_xlpm.result="", _xlpm.result=0), "", _xlpm.result) ) -> DE. PARK | I32: Valid | M32: OPEN OBS | N32: 46239 | O32: IDEMITSU | P32: 5 | Q32: 5 | R32: CARTAGENA | S32: CLOSED | T32: 46125 | U32: PETRON | V32: 6 | W32: 0 | X32: BATAAN | Y32: CLOSED | Z32: 46099 | AA32: KOCH | AD32: FUJAIRAH
B33: 2010 | C33: 26 | D33: PLATA WEST | E33: CSM | F33: =IFERROR(INDEX('DB2'!U:U, MATCH(G33, 'DB2'!V:V, 0)), "") -> TRMT2 | G33: =_xlfn.LET( _xlpm.val, TRIM(LEFT(D33, IFERROR(FIND(CHAR(10), D33)-1, LEN(D33)))), _xlpm.result, IFERROR( _xlfn.XLOOKUP(_xlpm.val, 'DB2'!H:H, 'DB2'!V:V), _xlfn.XLOOKUP(_xlpm.val, 'DB2'!I:I, 'DB2'!V:V) ), IF(OR(_xlpm.result="", _xlpm.result=0), "", _xlpm.result) ) -> YJ. JEON | H33: =_xlfn.LET( _xlpm.val, TRIM(LEFT(D33, IFERROR(FIND(CHAR(10), D33)-1, LEN(D33)))), _xlpm.result, IFERROR( _xlfn.XLOOKUP(_xlpm.val, 'DB2'!H:H, 'DB2'!S:S), _xlfn.XLOOKUP(_xlpm.val, 'DB2'!I:I, 'DB2'!S:S) ), IF(OR(_xlpm.result="", _xlpm.result=0), "", _xlpm.result) ) -> SY. RYU | I33: Valid | M33: CLOSED | N33: 46223 | O33: PETROVIETNAM | P33: 5 | Q33: 0 | R33: ANTIFER, FRANCE | S33: CLOSED | T33: 46080 | U33: ENOC | V33: 0 | W33: 0 | X33: COLOMBO | Y33: CLOSED | Z33: 46129 | AA33: ECOPETROL | AB33: 6 | AC33: 0 | AD33: YOSU | AE33: CLOSED | AF33: 46023 | AG33: PERTAMINA | AH33: 3 | AI33: 0 | AJ33: SINGAPORE | AK33: CLOSED | AL33: 45920 | AM33: PETRON | AN33: 2 | AO33: 0 | AP33: SINGAPORE | AQ33: CLOSED | AR33: 45762 | AS33: PETROVIET | AT33: 18 | AU33: 0 | AV33: VADINAR | AW33: CLOSED | AX33: 45628 | AY33: MOH | AZ33: 14 | BA33: 0 | BB33: VADINAR | BC33: CLOSED | BD33: 45444 | BE33: VIVA | BF33: 4 | BG33: 0 | BH33: DAESAN
B34: 2010 | C34: 27 | D34: PLATA EAST | E34: CSM | F34: =IFERROR(INDEX('DB2'!U:U, MATCH(G34, 'DB2'!V:V, 0)), "") -> TRMT2 | G34: =_xlfn.LET( _xlpm.val, TRIM(LEFT(D34, IFERROR(FIND(CHAR(10), D34)-1, LEN(D34)))), _xlpm.result, IFERROR( _xlfn.XLOOKUP(_xlpm.val, 'DB2'!H:H, 'DB2'!V:V), _xlfn.XLOOKUP(_xlpm.val, 'DB2'!I:I, 'DB2'!V:V) ), IF(OR(_xlpm.result="", _xlpm.result=0), "", _xlpm.result) ) -> YJ. JEON | H34: =_xlfn.LET( _xlpm.val, TRIM(LEFT(D34, IFERROR(FIND(CHAR(10), D34)-1, LEN(D34)))), _xlpm.result, IFERROR( _xlfn.XLOOKUP(_xlpm.val, 'DB2'!H:H, 'DB2'!S:S), _xlfn.XLOOKUP(_xlpm.val, 'DB2'!I:I, 'DB2'!S:S) ), IF(OR(_xlpm.result="", _xlpm.result=0), "", _xlpm.result) ) -> ROY. HA | I34: Valid | M34: CLOSED | N34: 46291 | O34: SONANGOL | P34: 9 | R34: ZHOUSAN, CHINA | S34: CLOSED | T34: 46105 | U34: PETRON | V34: 5 | W34: 0 | X34: SRIRACHA | Y34: CLOSED | Z34: 45971 | AA34: PETRON | AB34: 4 | AC34: 0 | AD34: YANGPU | AE34: CLOSED | AF34: 45855 | AG34: MOH | AH34: 9 | AI34: 0 | AJ34: ULSAN | AK34: CLOSED | AL34: 45655 | AM34: SARAS | AN34: 10 | AO34: 0 | AP34: SARROCH | AQ34: CLOSED | AR34: 45569 | AS34: PETROVIET | AT34: 9 | AU34: 0 | AV34: MALACCA | AW34: CLOSED | AX34: 45470 | AY34: VIVA | AZ34: 8 | BA34: 0 | BB34: LIANYUNGANG
A35: SWS.A | B35: 2009 | C35: 28 | D35: PERU PROSPERITY | E35: SNGY | F35: =IFERROR(INDEX('DB2'!U:U, MATCH(G35, 'DB2'!V:V, 0)), "") -> TRMT1 | G35: =_xlfn.LET( _xlpm.val, TRIM(LEFT(D35, IFERROR(FIND(CHAR(10), D35)-1, LEN(D35)))), _xlpm.result, IFERROR( _xlfn.XLOOKUP(_xlpm.val, 'DB2'!H:H, 'DB2'!V:V), _xlfn.XLOOKUP(_xlpm.val, 'DB2'!I:I, 'DB2'!V:V) ), IF(OR(_xlpm.result="", _xlpm.result=0), "", _xlpm.result) ) -> TW. CHOI | H35: =_xlfn.LET( _xlpm.val, TRIM(LEFT(D35, IFERROR(FIND(CHAR(10), D35)-1, LEN(D35)))), _xlpm.result, IFERROR( _xlfn.XLOOKUP(_xlpm.val, 'DB2'!H:H, 'DB2'!S:S), _xlfn.XLOOKUP(_xlpm.val, 'DB2'!I:I, 'DB2'!S:S) ), IF(OR(_xlpm.result="", _xlpm.result=0), "", _xlpm.result) ) -> IJ. YEOL | I35: Valid | M35: CLOSED | N35: 46255 | O35: TOTAL | P35: 7 | Q35: 0 | R35: Fujairah | S35: CLOSED | T35: 46143 | U35: ALMA PETROLI S.P.A. | V35: 5 | W35: 0 | X35: Fujaira
B36: 2010 | C36: 29 | D36: BRAZIL PROSPERITY | E36: FLEET | F36: =IFERROR(INDEX('DB2'!U:U, MATCH(G36, 'DB2'!V:V, 0)), "") -> TRMT1 | G36: =_xlfn.LET( _xlpm.val, TRIM(LEFT(D36, IFERROR(FIND(CHAR(10), D36)-1, LEN(D36)))), _xlpm.result, IFERROR( _xlfn.XLOOKUP(_xlpm.val, 'DB2'!H:H, 'DB2'!V:V), _xlfn.XLOOKUP(_xlpm.val, 'DB2'!I:I, 'DB2'!V:V) ), IF(OR(_xlpm.result="", _xlpm.result=0), "", _xlpm.result) ) -> TW. CHOI | H36: =_xlfn.LET( _xlpm.val, TRIM(LEFT(D36, IFERROR(FIND(CHAR(10), D36)-1, LEN(D36)))), _xlpm.result, IFERROR( _xlfn.XLOOKUP(_xlpm.val, 'DB2'!H:H, 'DB2'!S:S), _xlfn.XLOOKUP(_xlpm.val, 'DB2'!I:I, 'DB2'!S:S) ), IF(OR(_xlpm.result="", _xlpm.result=0), "", _xlpm.result) ) -> HS. LEE | I36: Valid | M36: OPEN OBS | N36: 46292 | O36: ENOC | P36: 6 | Q36: 6 | R36: ROTTERDAM | S36: CLOSED | T36: 46191 | U36: EQUINOR | V36: 13 | W36: 0 | X36: ROTTERDAM | Y36: CLOSED | Z36: 46123 | AA36: IMT | AB36: 1 | AC36: 0 | AD36: FALCONARA | AE36: CLOSED | AF36: 46075 | AG36: IDEMITSU | AH36: 2 | AI36: 0 | AJ36: SINGAPORE
A37: SWS.B | B37: 2011 | C37: 30 | D37: EGYPT PROSPERITY | E37: FLEET | F37: TRMT1 | G37: =_xlfn.LET( _xlpm.val, TRIM(LEFT(D37, IFERROR(FIND(CHAR(10), D37)-1, LEN(D37)))), _xlpm.result, IFERROR( _xlfn.XLOOKUP(_xlpm.val, 'DB2'!H:H, 'DB2'!V:V), _xlfn.XLOOKUP(_xlpm.val, 'DB2'!I:I, 'DB2'!V:V) ), IF(OR(_xlpm.result="", _xlpm.result=0), "", _xlpm.result) ) -> MS. KANG | H37: =_xlfn.LET( _xlpm.val, TRIM(LEFT(D37, IFERROR(FIND(CHAR(10), D37)-1, LEN(D37)))), _xlpm.result, IFERROR( _xlfn.XLOOKUP(_xlpm.val, 'DB2'!H:H, 'DB2'!S:S), _xlfn.XLOOKUP(_xlpm.val, 'DB2'!I:I, 'DB2'!S:S) ), IF(OR(_xlpm.result="", _xlpm.result=0), "", _xlpm.result) ) -> YN. PARK | I37: Valid | M37: CLOSED | N37: 46250 | O37: ENOC | P37: 4 | Q37: 0 | R37: OMAN | S37: CLOSED | T37: 46009 | U37: P66 | V37: 4 | W37: 0 | X37: SINGAPORE
B38: 2011 | C38: 31 | D38: RIO DE JANEIRO ENERGY | E38: FLEET | F38: =IFERROR(INDEX('DB2'!U:U, MATCH(G38, 'DB2'!V:V, 0)), "") -> TRMT1 | G38: =_xlfn.LET( _xlpm.val, TRIM(LEFT(D38, IFERROR(FIND(CHAR(10), D38)-1, LEN(D38)))), _xlpm.result, IFERROR( _xlfn.XLOOKUP(_xlpm.val, 'DB2'!H:H, 'DB2'!V:V), _xlfn.XLOOKUP(_xlpm.val, 'DB2'!I:I, 'DB2'!V:V) ), IF(OR(_xlpm.result="", _xlpm.result=0), "", _xlpm.result) ) -> MS. KANG | H38: =_xlfn.LET( _xlpm.val, TRIM(LEFT(D38, IFERROR(FIND(CHAR(10), D38)-1, LEN(D38)))), _xlpm.result, IFERROR( _xlfn.XLOOKUP(_xlpm.val, 'DB2'!H:H, 'DB2'!S:S), _xlfn.XLOOKUP(_xlpm.val, 'DB2'!I:I, 'DB2'!S:S) ), IF(OR(_xlpm.result="", _xlpm.result=0), "", _xlpm.result) ) -> HK. SOHN | I38: Valid | M38: CLOSED | N38: 46197 | O38: MARATHON | P38: 5 | Q38: 0 | R38: JIEYANG | S38: OPEN OBS | T38: 46115 | U38: SHELL | V38: 6 | W38: 1 | X38: LINGGI | Y38: CLOSED | Z38: 45955 | AA38: P66 | AD38: LAGOS
B39: 2012 | C39: 32 | D39: VLCC STEPHANIE | F39: =IFERROR(INDEX('DB2'!U:U, MATCH(G39, 'DB2'!V:V, 0)), "") -> TRMT1 | G39: =_xlfn.LET( _xlpm.val, TRIM(LEFT(D39, IFERROR(FIND(CHAR(10), D39)-1, LEN(D39)))), _xlpm.result, IFERROR( _xlfn.XLOOKUP(_xlpm.val, 'DB2'!H:H, 'DB2'!V:V), _xlfn.XLOOKUP(_xlpm.val, 'DB2'!I:I, 'DB2'!V:V) ), IF(OR(_xlpm.result="", _xlpm.result=0), "", _xlpm.result) ) -> TW. CHOI | H39: =_xlfn.LET( _xlpm.val, TRIM(LEFT(D39, IFERROR(FIND(CHAR(10), D39)-1, LEN(D39)))), _xlpm.result, IFERROR( _xlfn.XLOOKUP(_xlpm.val, 'DB2'!H:H, 'DB2'!S:S), _xlfn.XLOOKUP(_xlpm.val, 'DB2'!I:I, 'DB2'!S:S) ), IF(OR(_xlpm.result="", _xlpm.result=0), "", _xlpm.result) )
A40: SWS.C | B40: 2013 | C40: 33 | D40: SINGAPORE SPIRIT | E40: FLEET | F40: =IFERROR(INDEX('DB2'!U:U, MATCH(G40, 'DB2'!V:V, 0)), "") -> TRMT1 | G40: =_xlfn.LET( _xlpm.val, TRIM(LEFT(D40, IFERROR(FIND(CHAR(10), D40)-1, LEN(D40)))), _xlpm.result, IFERROR( _xlfn.XLOOKUP(_xlpm.val, 'DB2'!H:H, 'DB2'!V:V), _xlfn.XLOOKUP(_xlpm.val, 'DB2'!I:I, 'DB2'!V:V) ), IF(OR(_xlpm.result="", _xlpm.result=0), "", _xlpm.result) ) -> TW. CHOI | H40: =_xlfn.LET( _xlpm.val, TRIM(LEFT(D40, IFERROR(FIND(CHAR(10), D40)-1, LEN(D40)))), _xlpm.result, IFERROR( _xlfn.XLOOKUP(_xlpm.val, 'DB2'!H:H, 'DB2'!S:S), _xlfn.XLOOKUP(_xlpm.val, 'DB2'!I:I, 'DB2'!S:S) ), IF(OR(_xlpm.result="", _xlpm.result=0), "", _xlpm.result) ) | I40: Valid | M40: OPEN OBS | N40: 46238 | O40: IMT | P40: 4 | Q40: 4 | R40: AIN SUKHNA | S40: CLOSED | T40: 46210 | U40: PETROVIETNAM | V40: 2 | W40: 0 | X40: SINGAPORE
A41: SWS.D | B41: 2017 | C41: 34 | D41: CONGO PROSPERITY | E41: CSM | F41: =IFERROR(INDEX('DB2'!U:U, MATCH(G41, 'DB2'!V:V, 0)), "") -> TRMT1 | G41: =_xlfn.LET( _xlpm.val, TRIM(LEFT(D41, IFERROR(FIND(CHAR(10), D41)-1, LEN(D41)))), _xlpm.result, IFERROR( _xlfn.XLOOKUP(_xlpm.val, 'DB2'!H:H, 'DB2'!V:V), _xlfn.XLOOKUP(_xlpm.val, 'DB2'!I:I, 'DB2'!V:V) ), IF(OR(_xlpm.result="", _xlpm.result=0), "", _xlpm.result) ) -> NIKOS | H41: =_xlfn.LET( _xlpm.val, TRIM(LEFT(D41, IFERROR(FIND(CHAR(10), D41)-1, LEN(D41)))), _xlpm.result, IFERROR( _xlfn.XLOOKUP(_xlpm.val, 'DB2'!H:H, 'DB2'!S:S), _xlfn.XLOOKUP(_xlpm.val, 'DB2'!I:I, 'DB2'!S:S) ), IF(OR(_xlpm.result="", _xlpm.result=0), "", _xlpm.result) ) | I41: Not Valid | M41: OPEN OBS | N41: 46249 | O41: TOTAL | P41: 6 | Q41: 3 | R41: LIANYUNGANG, CHINA | S41: OPEN OBS | T41: 46182 | U41: VIVA | V41: 4 | W41: 1 | X41: SINGAPORE
...

Sheet Add. Crew
A1: VLCC EVENT & SIRE STATUS
A3: VESSEL INFO | D3: ADDITIONAL CREW
A4: VESSEL NAME | B4: O/X | C4: CREW PIC | D4: CREW NUMBER | H4: CREW DETAIL | I4: REMARK
D5: MAX | E5: SMA | F5: NOW | G5: PLAN | H5: ADD CREW
A6: PACIFIC SUCCESS
A7: MONACO LOYALTY
A8: SINGAPORE LOYALTY
A9: PLATA SINGAPORE
A10: PLATA CARRIER
A11: PLATA LUCKY
A12: PANAMA PROSPERITY
A13: LUCKY PIONEER
A14: SINGAPORE ENERGY
A15: ROBERTA B
A16: TRIKWONG VENTURE
A17: BANGLADESH PROSPERITY
... A43: BULGARIA PROSPERITY
A44: ARGENTINA B | I44: ADNOC BBC
A45: MALTA PROSPERITY
A46: IVORY COAST PROSPERITY
A47: TOGO PROSPERITY | I47: ADNOC BBC
A48: BALTIC LOYALTY
A49: GULF LOYALTY
A50: CARIBBEAN LOYALTY
A51: SOUTH AFRICA PROSPERITY
A52: JAMAICA PROSPERITY
A53: SWEDEN PROSPERITY
A54: BAHRAIN PROSPERITY | I54: ADNOC BBC
A55: DUBAI ENERGY
A56: ANGOLA B | I56: ADNOC BBC
A57: MOZAMBIQUE B
A58: VIETNAM PROSPERITY
A59: SPAIN B
A60: KUWAIT PROSPERITY
A61: MOMBASA B
A62: ECUADOR PROSPERITY
A63: CAMEROON PROSPERITY | I63: ADNOC BBC
A64: ROMANIA PROSPERITY | I64: ADNOC BBC
A65: GHANA PROSPERITY
A66: COLOMBIA PROSPERITY
...

Sheet 보고양식
A1: *##LUCKY PIONEER [DALIAN 2011 BUILT] – DD 연장 계획##* 1. 현재 DD DUE : 2025년 9월 16일 2. 연장 계획 1) PORT : SALDANHA BAY, SOUTH AFRICA (현위치에서 650마일 이동) 2) 연장 검사 일정 : 8월9일 ~ 8월 11일 3) 검사 항목 : 수중검사 / 무선 장비 검사 / 소화 인명 장비 검사 / 선급 검사 / 보일러 검사 4) 예상 비용 : 약 5만불. | B1: *## – ##* | D1: ##PACIFIC EMERALD (BLT 2021) NO.2 LNG PUMP 압력 저하## NO.2 LNG PUMP 운용 중 압력 저하 발생. 5/16 ROTTERDAM에서 시행한 LNG BUNKERING 시 섬유질 유입 추정. 1. EVENT 1) 5/16일 ROTTERDAM, NETHELAND - LNG 벙커링 시행. A. 벙커링 총량 : 860 MT (1,992 M3) B. NO.1 LNG TANK (395m3 에서 1,435m3로 보급) C. NO.2 LNG TANK (469m3 에서 1,423m3로 보급) 2) 5/21 1000LT NO.2 LNG TANK 사용 시작. (시작 시점 총량 1,425 m3 PUMP 압력 7.0 Bar ) 3) 5/21 1000LT NO.2 LNG PUMP START 와 동시에 7.0 Bar 이상 압력 생성 불가 확인. 4) 5/21 1600LT 부터 BACK FLUSHING 지속 시행 중 5) 5/24 2.0 Bar 까지 Flushing 압력을 올려 시도 하였으나 현재까지 상태 동일함. 2. 추정 원인 1) 5/16 ROTTERDAM에서 시행한 LNG BUNKERING 시 섬유질 유입 후 시간이 지남에 따라 STRAINER (4 MICRON) 막히는 것으로 추정. 2) 현재 NO.1 LNG PUMP 사용 시 압력하강 문제 없는 점 고려 이번 BUNKERING시의 외부 유입이 아닐 수 있다는 추정. 3) 원인과 관련해서는 Tank 내부 검사 전까지는 확신할 수 없으나 4 MICRON FILTER MESH 교체에도 동일한 현상이 발생 할 수 있음이 확인됨. 3. 수리 계획 1) 현재로써는 NO.1 LNG PUMP로 BACK FLUSHING 하여 NO.2 STRAINER 지속 BLOWING. 2) 조선소 측과 협의하여 추가 TROUBLESHOOTING 관련 확인 중. 3) 2025년 입거시까지 상기 방법으로 운용 후 입거 중 TANK EMPTY 후 소제 예정. 4) 2025년 입거시까지 운용 불가능할 경우 항차 중 LNG TANK EMPTY 계획 수립 예정.

Sheet DB2
A1: VLCC - PIC List | B1: VLCC - PIC List | C1: TANKER FLEET - PIC LIST
S2: TRMT1 | T2: =SUM(T3:T9) -> 83 | U2: TRMT2 | V2: =SUM(V3:V9) -> 64 | W2: TRMT3 | X2: =SUM(X3:X9) -> 43
S3: YS. YOUN | T3: =COUNTIF($V$14:$V$121,S3) -> 10 | U3: KL. CHOI | V3: =COUNTIF($V$14:$V$121,U3)+18 -> 22 | W3: YS. SON | X3: =COUNTIF($V$14:$V$121,W3)+8 -> 12
S4: NIKOS | T4: =COUNTIF($V$14:$V$121,S4) -> 12 | U4: JN. SHIM | V4: =COUNTIF($V$14:$V$121,U4)+19 -> 21 | W4: HM. KIM | X4: =COUNTIF($V$14:$V$121,W4)+10 -> 18
S5: JH. YANG | T5: =COUNTIF($V$14:$V$121,S5) -> 14 | U5: YJ. JEON | V5: =COUNTIF($V$14:$V$121,U5)+18 -> 21 | W5: CJ. LEE | X5: =COUNTIF($V$14:$V$121,W5)+9 -> 13
S6: MS. KANG | T6: =COUNTIF($V$14:$V$121,S6) -> 14 | U6: SH. BAE | V6: 0
S7: JH. JEONG | T7: =COUNTIF($V$14:$V$121,S7) -> 14
S8: HS. KIM | T8: =COUNTIF($V$14:$V$121,S8) -> 11
S9: TW. CHOI | T9: =COUNTIF($V$14:$V$121,S9) -> 8
U10: LR | V10: 10 | W10: CNTR | X10: 27
B11: =TODAY() -> 46182 | U11: MR | V11: 45
N12: MANAGER | O12: MANAGER | P12: MANAGER | Q12: SINOKOR VLCC OPERATION | T12: SINOKOR | U12: SINOKOR
A13: KIND | B13: KIND | C13: NO | D13: BUILT YARD | E13: HULL NO. | F13: BUILT DATE | G13: AGE | H13: VESSEL NAME | I13: EX-NAME | J13: CODE | K13: IMO | L13: FLAG | M13: CLASS | N13: COMPANY | O13: MARINE | P13: TECH | Q13: CONTRACT | R13: OPERATION | T13: CREW | U13: TECH | V13: PIC | W13: 2026 DOCK | X13: REMARK
A14: TANKER | B14: LNG | C14: 1 | D14: SHI | E14: 5421 | F14: 45369 | G14: =($B$11-F14)/365 -> 2.2273973 | H14: PACIFIC SUCCESS | J14: PFSC | K14: 9903425 | L14: PAN | M14: BV | N14: WSM | O14: CAPT. PAVNEET | P14: SAFUWAN | Q14: TOTAL T/C | R14: 2 | S14: SI. YANG | U14: TRMT1 | V14: HS. KIM | Y14: 1
A15: TANKER | B15: VLCC | C15: 1 | D15: DALIAN. A | E15: T3000-10 | F15: 39280 | G15: =($B$11-F15)/365 -> 18.909589 | H15: MONACO LOYALTY | J15: MNLT | K15: 9312511 | L15: MI | M15: KR | N15: FLEET T6 | O15: CAPT. KUNAL | P15: PRAVEEN | Q15: SPOT | R15: 3 | S15: SY. CHOI | U15: TRMT1 | V15: JH. JEONG | Y15: 2
A16: TANKER | B16: VLCC | C16: 2 | D16: DALIAN. A | E16: T3000-11 | F16: 39382 | G16: =($B$11-F16)/365 -> 18.630137 | H16: SINGAPORE LOYALTY | J16: SGLT | K16: 9322293 | L16: MI | M16: KR | N16: FLEET T6 | O16: CAPT. KUNAL | P16: SUMIT | Q16: SPOT | R16: 3 | S16: DE. PARK | U16: TRMT1 | V16: JH. JEONG | Y16: 3
A17: TANKER | B17: VLCC | C17: 3 | D17: DALIAN. A | E17: T3000-12 | F17: 39472 | G17: =($B$11-F17)/365 -> 18.383562 | H17: PLATA SINGAPORE | J17: PTSG | K17: 9323936 | L17: LIB | M17: KR | N17: AETM SG | O17: CAPT. FRANCO | P17: CHEN | Q17: SPOT | R17: 2 | S17: JY. RO | U17: TRMT1 | V17: JH. JEONG | Y17: 4
A18: TANKER | B18: VLCC | C18: 4 | D18: DALIAN. A | E18: T3000-16 | F18: 39718 | G18: =($B$11-F18)/365 -> 17.709589 | H18: PLATA CARRIER | J18: PTCR | K18: 9358280 | L18: LIB | M18: KR | N18: AETM SG | O18: CAPT. FRANCO | P18: STANLY | Q18: SPOT | R18: 1 | S18: SY. KIM | U18: TRMT1 | V18: JH. JEONG | W18: 46299 | Y18: 5
A19: TANKER | B19: VLCC | C19: 5 | D19: DALIAN. A | E19: T3000-17 | F19: 39867 | G19: =($B$11-F19)/365 -> 17.30137 | H19: PLATA LUCKY | J19: PTLK | K19: 9358292 | L19: LIB | M19: KR | N19: AETM SG | O19: CAPT. FRANCO | P19: PAUL | Q19: SPOT | R19: 1 | S19: JA. YOUN | U19: TRMT1 | V19: JH. JEONG | Y19: 6
A20: TANKER | B20: VLCC | C20: 6 | D20: DALIAN. B | E20: T3000-37 | F20: 40631 | G20: =($B$11-F20)/365 -> 15.208219 | H20: PANAMA PROSPERITY | I20: NAVE BUENA SUERTE | J20: PMPS | K20: 9514561 | L20: LIB | M20: BV | N20: SYNERGY A/S | P20: VIJAY | Q20: SPOT | R20: 3 | S20: HR. KIM | U20: TRMT1 | V20: MS. KANG | Y20: 7
A21: TANKER | B21: VLCC | C21: 7 | D21: DALIAN. B | E21: T3000-41 | F21: 40732 | G21: =($B$11-F21)/365 -> 14.931507 | H21: LUCKY PIONEER | J21: LKPN | K21: 9530228 | L21: MI | M21: KR | N21: VSHIPS. UK | O21: CAPT. ROMEL | P21: GANESA | Q21: SPOT | R21: 1 | S21: JA. YOUN | U21: TRMT2 | V21: KL. CHOI | Y21: 8
A22: TANKER | B22: VLCC | C22: 8 | D22: DALIAN. B | E22: T3000-40 | F22: 40786 | G22: =($B$11-F22)/365 -> 14.783562 | H22: SINGAPORE ENERGY | I22: BLUE NOVA | J22: SGEG | K22: 9534846 | L22: LIB | M22: BV | N22: FLEET T2 | O22: CAPT. KUNAL | P22: AJIT | Q22: SPOT | R22: 2 | S22: JS. LEE | U22: TRMT1 | V22: MS. KANG | W22: 46264 | Y22: 9
A23: TANKER | B23: VLCC | C23: 9 | D23: DALIAN. B | E23: T3000-42 | F23: 40914 | G23: =($B$11-F23)/365 -> 14.432877 | H23: ROBERTA B | I23: SW KILIMANJARO | J23: RBBB | K23: 9563237 | L23: LIB | M23: BV | N23: VSHIPS. UK | P23: MUSTAFA | Q23: SPOT | R23: AST | S23: HS. CHO | U23: TRMT2 | V23: KL. CHOI | W23: 46380 | Y23: 10
A24: TANKER | B24: VLCC | C24: 10 | D24: DALIAN. B | E24: T3000-43 | F24: 40918 | G24: =($B$11-F24)/365 -> 14.421918 | H24: COSTA RICA PROSPERITY | I24: TRIKWONG VENTURE | J24: CTPS | K24: 9534858 | L24: LIB | M24: BV | N24: WAH KWONG | O24: CAPT. ADAM Z. TAO | P24: JET ZHOU | Q24: SPOT | R24: 3 | S24: YN. KIM | U24: TRMT1 | V24: MS. KANG | Y24: 11
A25: TANKER | B25: VLCC | C25: 11 | D25: DALIAN. C | E25: T300K-66 | F25: 42639 | G25: =($B$11-F25)/365 -> 9.7068493 | H25: BANGLADESH PROSPERITY | I25: VENI VIDI VICI | J25: BDPS | K25: 9727223 | L25: LIB | M25: BV | N25: CSM 1 | P25: SALAB | Q25: SPOT | R25: 3 | S25: YS. HEO | U25: TRMT1 | V25: YS. YOUN | W25: 46290 | Y25: 12
A26: TANKER | B26: VLCC | C26: 12 | D26: DALIAN. D | E26: T308K-3 | F26: 43578 | G26: =($B$11-F26)/365 -> 7.1342466 | H26: CHILE PROSPERITY | I26: VERY LUCKY | J26: CHPS | K26: 9826847 | L26: LIB | M26: BV | N26: CSM 2 | P26: S.MASLOV | Q26: SPOT | R26: 1 | S26: DB. SEO | U26: TRMT1 | V26: HS. KIM | Y26: 13
A27: TANKER | B27: VLCC | C27: 13 | D27: JIANGNAN. A | E27: H2389 | F27: 39819 | G27: =($B$11-F27)/365 -> 17.432877 | H27: SURINAME PROSPERITY | I27: ADVANTAGE VALUE | J27: SRPS | K27: 9376749 | L27: LIB | M27: BV | N27: CSM 2 | P27: C. ONOUFRIOS | Q27: SPOT | R27: B2 | S27: CH. BAE | U27: TRMT1 | V27: NIKOS | W27: 46364 | Y27: 14
A28: TANKER | B28: VLCC | C28: 14 | D28: JIANGNAN. A | E28: H2394 | F28: 39959 | G28: =($B$11-F28)/365 -> 17.049315 | H28: FINLAND PROSPERITY | I28: ASIAN LION | J28: FLPS | K28: 9376751 | L28: LIB | M28: BV | N28: BSM | P28: DAVID WANG | Q28: SPOT | R28: 1 | S28: HI. HUR | U28: TRMT1 | V28: NIKOS | Y28: 15
A29: TANKER | B29: VLCC | C29: 15 | D29: JIANGNAN. A | E29: H2396 | F29: 39821 | G29: =($B$11-F29)/365 -> 17.427397 | H29: PLATA GLORY | J29: PTGY | K29: 9384590 | L29: MI | M29: KR | N29: VSHIPS. NOR | O29: CAPT. LUKASZ | P29: LAIHO | Q29: SPOT | R29: 1 | S29: SY. RYU | U29: TRMT2 | V29: JN. SHIM | Y29: 16
A30: TANKER | B30: VLCC | C30: 16 | D30: JIANGNAN. A | E30: H2397 | F30: 39951 | G30: =($B$11-F30)/365 -> 17.071233 | H30: PLATA NORTH | J30: PTNT | K30: 9384605 | L30: MI | M30: KR | N30: VSHIPS. NOR | O30: CAPT. LUKASZ | P30: LAIHO | Q30: SPOT | R30: 3 | S30: YS. HEO | U30: TRMT2 | V30: JN. SHIM | Y30: 17
A31: TANKER | B31: VLCC | C31: 17 | D31: JIANGNAN. A | E31: H2398 | F31: 40102 | G31: =($B$11-F31)/365 -> 16.657534 | I31: NAVE GALACTIC | K31: 9384617 | L31: LIB | M31: BV | Q31: SPOT | U31: TRMT1 | V31: JH. YANG | Y31: 18
A32: TANKER | B32: VLCC | C32: 18 | D32: JIANGNAN. A | E32: H2399 | F32: 40219 | G32: =($B$11-F32)/365 -> 16.336986 | H32: LUCKY CARRIER | J32: LKCR | K32: 9400679 | L32: MI | M32: KR | N32: VSHIPS. UK | O32: CAPT. ROMEL | P32: GANESA | Q32: SPOT | R32: 2 | S32: JM. YOUN | U32: TRMT2 | V32: KL. CHOI | Y32: 19
A33: TANKER | B33: VLCC | C33: 19 | D33: JIANGNAN. A | E33: H2402 | F33: 40918 | G33: =($B$11-F33)/365 -> 14.421918 | H33: MADAGASCAR PROSPERITY | I33: KONDOR | J33: MGPS | K33: 9610250 | L33: LIB | M33: BV | N33: VSHIPS. UK | P33: MUSTAFA | Q33: SPOT | R33: 3 | S33: HR. KIM | U33: TRMT2 | V33: YJ. JEON | Y33: 20
A34: TANKER | B34: VLCC | C34: 20 | D34: JIANGNAN. A | E34: H2407 | F34: 40807 | G34: =($B$11-F34)/365 -> 14.726027 | H34: MALAYSIA PROSPERITY | I34: DESIMI | J34: MLPS | K34: 9395305 | L34: LIB | M34: BV | N34: SYNERGY A/S | P34: ADITYA BAKSHI | Q34: SPOT | R34: 2 | S34: TW. HWANG | U34: TRMT1 | V34: MS. KANG | W34: 46285 | Y34: 21
A35: TANKER | B35: VLCC | C35: 21 | D35: JIANGNAN. A | E35: H2408 | F35: 40305 | G35: =($B$11-F35)/365 -> 16.10137 | H35: GERMANY B | I35: SOLANA | J35: GMBB | K35: 9395317 | L35: LIB | M35: BV | N35: FLEET T2 | P35: AJITH | Q35: SPOT | R35: AST | S35: YN. PARK | U35: TRMT1 | V35: MS. KANG | Y35: 22
A36: TANKER | B36: VLCC | C36: 22 | D36: JIANGNAN. A | E36: H2415 | F36: 40407 | G36: =($B$11-F36)/365 -> 15.821918 | H36: TANZANIA PROSPERITY | I36: YIANGOS | J36: TZPS | K36: 9414931 | L36: LIB | M36: BV | N36: SYNERGY A/S | P36: JUSTIN JOHN | Q36: SPOT | R36: AST | S36: HS. CHO | U36: TRMT1 | V36: JH. YANG | Y36: 23
A37: TANKER | B37: VLCC | C37: 23 | D37: JIANGNAN. A | E37: H2416 | F37: 40480 | G37: =($B$11-F37)/365 -> 15.621918 | H37: ROTTERDAM ENERGY | I37: KALLIOPI | J37: RDEG | K37: 9508859 | L37: LIB | M37: BV | N37: FLEET T6 | O37: CAPT. KUNAL | P37: ARUN | Q37: SPOT | R37: 3 | S37: MJ. CHOI | U37: TRMT1 | V37: MS. KANG | Y37: 24
